• using R version 4.5.0 beta (2025-03-29 r88069)
  • using platform: aarch64-apple-darwin20
  • R was compiled by     Apple clang version 14.0.0 (clang-1400.0.29.202)     GNU Fortran (GCC) 14.2.0
  • running under: macOS Ventura 13.4
  • using session charset: UTF-8
  • checking for file ‘glmulti/DESCRIPTION’ ... OK
  • this is package ‘glmulti’ version ‘1.0.8’
  • checking package namespace information ... OK
  • checking package dependencies ... OK
  • checking if this is a source package ... OK
  • checking if there is a namespace ... OK
  • checking for executable files ... OK
  • checking for hidden files and directories ... OK
  • checking for portable file names ... OK
  • checking for sufficient/correct file permissions ... OK
  • checking whether package ‘glmulti’ can be installed ... [3s/3s] OK See the install log for details.
  • checking installed package size ... OK
  • checking package directory ... OK
  • checking DESCRIPTION meta-information ... OK
  • checking top-level files ... OK
  • checking for left-over files ... OK
  • checking index information ... OK
  • checking package subdirectories ... OK
  • checking code files for non-ASCII characters ... OK
  • checking R files for syntax errors ... OK
  • checking whether the package can be loaded ... [0s/0s] OK
  • checking whether the package can be loaded with stated dependencies ... [0s/0s] OK
  • checking whether the package can be unloaded cleanly ... [0s/0s] OK
  • checking whether the namespace can be loaded with stated dependencies ... [0s/0s] OK
  • checking whether the namespace can be unloaded cleanly ... [0s/0s] OK
  • checking loading without being on the library search path ... [0s/0s] OK
  • checking whether startup messages can be suppressed ... [0s/0s] OK
  • checking dependencies in R code ... OK
  • checking S3 generic/method consistency ... OK
  • checking replacement functions ... OK
  • checking foreign function calls ... OK
  • checking R code for possible problems ... [2s/3s] OK
  • checking Rd files ... [0s/0s] NOTE checkRd: (-1) coef.glmulti.Rd:26: Escaped LaTeX specials: \& checkRd: (-1) coef.glmulti.Rd:27: Escaped LaTeX specials: \& checkRd: (-1) coef.glmulti.Rd:51: Escaped LaTeX specials: \& checkRd: (-1) coef.glmulti.Rd:60: Escaped LaTeX specials: \& checkRd: (-1) coef.glmulti.Rd:61: Escaped LaTeX specials: \& checkRd: (-1) consensus.Rd:29: Escaped LaTeX specials: \& checkRd: (-1) getfit.Rd:14: Lost braces     14 | \item{object}{A fitted model object, of class \code{glm}, \code{lm} or code{glm.nb}}        | ^ checkRd: (-1) getfit.Rd:26: Escaped LaTeX specials: \& checkRd: (-1) glmulti-class.Rd:26: Escaped LaTeX specials: \& checkRd: (-1) glmulti-methods.Rd:14: Lost braces     14 | code{glmulti} finds what are the \code{n} best models (the confidence set of models) among all possible models (the candidate set, as specified by the user).        | ^ checkRd: (-1) glmulti.Rd:99: Escaped LaTeX specials: \& checkRd: (-1) summary.glmulti.Rd:72: Escaped LaTeX specials: \&
  • checking Rd metadata ... OK
  • checking Rd cross-references ... OK
  • checking for missing documentation entries ... OK
  • checking for code/documentation mismatches ... OK
  • checking Rd \usage sections ... OK
  • checking Rd contents ... OK
  • checking for unstated dependencies in examples ... OK
  • checking sizes of PDF files under ‘inst/doc’ ... OK
  • checking installed files from ‘inst/doc’ ... OK
  • checking examples ... [1s/1s] OK
  • checking PDF version of manual ... [4s/5s] OK
  • DONE Status: 1 NOTE
  • using check arguments '--no-clean-on-error '