- using R version 4.4.2 (2024-10-31)
- using platform: x86_64-pc-linux-gnu
- R was compiled by
gcc-14 (Debian 14.2.0-16) 14.2.0
GNU Fortran (Debian 14.2.0-16) 14.2.0
- running under: Debian GNU/Linux trixie/sid
- using session charset: UTF-8
- checking for file ‘tidywater/DESCRIPTION’ ... OK
- checking extension type ... Package
- this is package ‘tidywater’ version ‘0.7.0’
- package encoding: UTF-8
- checking package namespace information ... OK
- checking package dependencies ... OK
- checking if this is a source package ... OK
- checking if there is a namespace ... OK
- checking for executable files ... OK
- checking for hidden files and directories ... OK
- checking for portable file names ... OK
- checking for sufficient/correct file permissions ... OK
- checking serialization versions ... OK
- checking whether package ‘tidywater’ can be installed ... OK
See the install log for details.
- checking package directory ... OK
- checking for future file timestamps ... OK
- checking ‘build’ directory ... OK
- checking DESCRIPTION meta-information ... OK
- checking top-level files ... OK
- checking for left-over files ... OK
- checking index information ... OK
- checking package subdirectories ... OK
- checking code files for non-ASCII characters ... OK
- checking R files for syntax errors ... OK
- checking whether the package can be loaded ... [1s/2s] OK
- checking whether the package can be loaded with stated dependencies ... [1s/1s] OK
- checking whether the package can be unloaded cleanly ... [1s/1s] OK
- checking whether the namespace can be loaded with stated dependencies ... [1s/1s] OK
- checking whether the namespace can be unloaded cleanly ... [1s/2s] OK
- checking loading without being on the library search path ... [1s/2s] OK
- checking use of S3 registration ... OK
- checking dependencies in R code ... OK
- checking S3 generic/method consistency ... OK
- checking replacement functions ... OK
- checking foreign function calls ... OK
- checking R code for possible problems ... [15s/19s] OK
- checking Rd files ... [1s/1s] OK
- checking Rd metadata ... OK
- checking Rd line widths ... OK
- checking Rd cross-references ... OK
- checking for missing documentation entries ... OK
- checking for code/documentation mismatches ... OK
- checking Rd \usage sections ... OK
- checking Rd contents ... OK
- checking for unstated dependencies in examples ... OK
- checking contents of ‘data’ directory ... OK
- checking data for non-ASCII characters ... [0s/0s] OK
- checking LazyData ... OK
- checking data for ASCII and uncompressed saves ... OK
- checking installed files from ‘inst/doc’ ... OK
- checking files in ‘vignettes’ ... OK
- checking examples ... [97s/191s] OK
Examples with CPU (user + system) or elapsed time > 5s
user system elapsed
solvedose_alk_once 10.616 0.047 11.984
solvedose_ph_once 7.210 0.000 10.086
chemdose_dbp_once 5.746 0.004 6.298
chemdose_dbp_chain 4.795 0.011 5.827
chemdose_toc_once 4.396 0.032 11.219
chemdose_ph_once 3.515 0.052 10.810
pac_toc_once 3.477 0.060 9.542
balance_ions_chain 3.281 0.150 9.630
chemdose_toc_chain 3.112 0.037 8.535
chemdose_ph_chain 2.900 0.020 9.769
define_water_chain 2.607 0.035 8.286
balance_ions_once 2.573 0.032 8.054
dissolve_pb_once 2.556 0.037 8.263
biofilter_toc_once 2.519 0.007 8.631
pac_toc_chain 2.197 0.021 7.399
pluck_water 1.890 0.016 6.711
biofilter_toc_chain 1.525 0.024 6.826
define_water_once 1.424 0.024 6.616
- checking for unstated dependencies in ‘tests’ ... OK
- checking tests ... [156s/215s] OK
Running ‘testthat.R’ [156s/214s]
- checking for unstated dependencies in vignettes ... OK
- checking package vignettes ... OK
- checking re-building of vignette outputs ... [160s/212s] OK
- checking PDF version of manual ... [7s/10s] OK
- checking HTML version of manual ... [3s/5s] OK
- checking for non-standard things in the check directory ... OK
- DONE
Status: OK