- using R version 4.4.2 (2024-10-31)
- using platform: x86_64-pc-linux-gnu
- R was compiled by
gcc-14 (Debian 14.2.0-12) 14.2.0
GNU Fortran (Debian 14.2.0-12) 14.2.0
- running under: Debian GNU/Linux trixie/sid
- using session charset: UTF-8
- checking for file ‘netmeta/DESCRIPTION’ ... OK
- this is package ‘netmeta’ version ‘3.1-0’
- package encoding: UTF-8
- checking package namespace information ... OK
- checking package dependencies ... OK
- checking if this is a source package ... OK
- checking if there is a namespace ... OK
- checking for executable files ... OK
- checking for hidden files and directories ... OK
- checking for portable file names ... OK
- checking for sufficient/correct file permissions ... OK
- checking whether package ‘netmeta’ can be installed ... OK
See the install log for details.
- checking package directory ... OK
- checking for future file timestamps ... OK
- checking ‘build’ directory ... OK
- checking DESCRIPTION meta-information ... OK
- checking top-level files ... OK
- checking for left-over files ... OK
- checking index information ... OK
- checking package subdirectories ... OK
- checking code files for non-ASCII characters ... OK
- checking R files for syntax errors ... OK
- checking whether the package can be loaded ... [4s/6s] OK
- checking whether the package can be loaded with stated dependencies ... [4s/5s] OK
- checking whether the package can be unloaded cleanly ... [4s/4s] OK
- checking whether the namespace can be loaded with stated dependencies ... [3s/4s] OK
- checking whether the namespace can be unloaded cleanly ... [4s/6s] OK
- checking loading without being on the library search path ... [4s/5s] OK
- checking whether startup messages can be suppressed ... [4s/5s] OK
- checking use of S3 registration ... OK
- checking dependencies in R code ... OK
- checking S3 generic/method consistency ... OK
- checking replacement functions ... OK
- checking foreign function calls ... OK
- checking R code for possible problems ... [94s/118s] OK
- checking Rd files ... [2s/2s] OK
- checking Rd metadata ... OK
- checking Rd line widths ... OK
- checking Rd cross-references ... OK
- checking for missing documentation entries ... OK
- checking for code/documentation mismatches ... OK
- checking Rd \usage sections ... OK
- checking Rd contents ... OK
- checking for unstated dependencies in examples ... OK
- checking contents of ‘data’ directory ... OK
- checking data for non-ASCII characters ... [0s/0s] OK
- checking data for ASCII and uncompressed saves ... OK
- checking sizes of PDF files under ‘inst/doc’ ... OK
- checking installed files from ‘inst/doc’ ... OK
- checking files in ‘vignettes’ ... OK
- checking examples ... [308s/370s] OK
Examples with CPU (user + system) or elapsed time > 5s
user system elapsed
Gurusamy2011 7.185 0.062 8.201
netmeasures 7.187 0.047 8.570
netpairwise 7.107 0.024 8.960
netgraph 6.964 0.043 8.663
forest.netmeta 6.733 0.008 7.976
as.data.frame.netmeta 6.597 0.069 9.587
summary.netmeta 6.651 0.008 8.491
smokingcessation 6.613 0.015 8.322
netdistance 6.554 0.004 8.048
netgraph.netmeta 6.479 0.001 7.977
treats 6.471 0.008 7.195
netmeta 6.453 0.011 7.702
print.summary.netmeta 6.430 0.016 7.644
netmatrix 6.393 0.032 7.415
plot.rankogram 6.386 0.000 7.716
invmat 6.332 0.012 7.016
Dong2013 6.197 0.122 7.074
netrank 6.243 0.036 7.038
forest.netbind 6.051 0.016 9.105
netbind 6.039 0.020 6.759
forest.netcomparison 5.855 0.014 7.397
forest.netcomplex 5.796 0.004 6.686
netmetabin 5.474 0.047 6.149
netgraph.netimpact 5.499 0.011 7.448
Franchini2012 5.365 0.100 6.277
netcomb 5.450 0.004 5.949
print.netimpact 5.397 0.024 6.337
netimpact 5.337 0.007 6.543
netcontrib 5.190 0.008 5.817
forest.netcomb 5.133 0.000 6.659
summary.netcomb 5.051 0.036 6.027
netcomplex 5.018 0.060 5.526
netgraph.netcomb 4.985 0.000 6.296
rankogram 4.965 0.008 7.242
netcomparison 4.890 0.035 5.593
rankogram.netmeta 4.918 0.004 5.870
print.summary.netcomb 4.848 0.008 5.762
Linde2016 4.822 0.008 6.015
dietaryfat 4.790 0.004 5.551
createC 4.727 0.024 5.500
print.netcomb 4.677 0.043 5.224
print.decomp.design 4.554 0.059 5.162
netheat 4.602 0.004 5.375
print.netbind 4.594 0.000 5.300
Woods2010 4.485 0.042 5.916
rankogram.default 4.258 0.031 6.083
netleague 4.094 0.063 5.112
print.rankogram 4.113 0.008 5.153
- checking for unstated dependencies in vignettes ... OK
- checking package vignettes ... OK
- checking re-building of vignette outputs ... [1s/1s] OK
- checking PDF version of manual ... [16s/21s] OK
- checking HTML version of manual ... [9s/14s] OK
- checking for non-standard things in the check directory ... OK
- DONE
Status: OK