- using R version 4.4.2 (2024-10-31)
- using platform: x86_64-pc-linux-gnu
- R was compiled by
gcc-14 (Debian 14.2.0-12) 14.2.0
GNU Fortran (Debian 14.2.0-12) 14.2.0
- running under: Debian GNU/Linux trixie/sid
- using session charset: UTF-8
- checking for file ‘mlmts/DESCRIPTION’ ... OK
- checking extension type ... Package
- this is package ‘mlmts’ version ‘1.1.2’
- package encoding: UTF-8
- checking package namespace information ... OK
- checking package dependencies ... NOTE
Packages suggested but not available for checking:
'ueadata1', 'ueadata2', 'ueadata3', 'ueadata4', 'ueadata5',
'ueadata6', 'ueadata7', 'ueadata8'
- checking if this is a source package ... OK
- checking if there is a namespace ... OK
- checking for executable files ... OK
- checking for hidden files and directories ... OK
- checking for portable file names ... OK
- checking for sufficient/correct file permissions ... OK
- checking whether package ‘mlmts’ can be installed ... OK
See the install log for details.
- checking package directory ... OK
- checking for future file timestamps ... OK
- checking DESCRIPTION meta-information ... OK
- checking top-level files ... OK
- checking for left-over files ... OK
- checking index information ... OK
- checking package subdirectories ... OK
- checking code files for non-ASCII characters ... OK
- checking R files for syntax errors ... OK
- checking whether the package can be loaded ... [0s/0s] OK
- checking whether the package can be loaded with stated dependencies ... [0s/0s] OK
- checking whether the package can be unloaded cleanly ... [0s/0s] OK
- checking whether the namespace can be loaded with stated dependencies ... [0s/0s] OK
- checking whether the namespace can be unloaded cleanly ... [0s/0s] OK
- checking loading without being on the library search path ... [0s/0s] OK
- checking use of S3 registration ... OK
- checking dependencies in R code ... OK
- checking S3 generic/method consistency ... OK
- checking replacement functions ... OK
- checking foreign function calls ... OK
- checking R code for possible problems ... [11s/14s] OK
- checking Rd files ... [3s/3s] OK
- checking Rd metadata ... OK
- checking Rd line widths ... OK
- checking Rd cross-references ... OK
- checking for missing documentation entries ... OK
- checking for code/documentation mismatches ... OK
- checking Rd \usage sections ... OK
- checking Rd contents ... OK
- checking for unstated dependencies in examples ... OK
- checking contents of ‘data’ directory ... OK
- checking data for non-ASCII characters ... [1s/1s] OK
- checking LazyData ... OK
- checking data for ASCII and uncompressed saves ... OK
- checking examples ... [78s/130s] OK
Examples with CPU (user + system) or elapsed time > 5s
user system elapsed
dis_qcd 7.091 0.922 13.525
outlier_detection 6.877 0.924 14.122
plot_2d_scaling 5.617 0.351 9.238
dis_spectral 4.982 0.881 9.485
dis_dtw_2 4.169 0.612 7.332
f4_classifier 3.857 0.520 7.651
dis_frechet 3.136 0.824 5.883
dis_www 3.187 0.091 5.373
dis_zagorecki 3.012 0.229 5.843
dis_mcc 3.022 0.198 5.790
dis_2dsvd 2.666 0.366 5.257
- checking for unstated dependencies in ‘tests’ ... OK
- checking tests ... [1s/1s] OK
Running ‘testthat.R’ [1s/1s]
- checking PDF version of manual ... [9s/15s] OK
- checking HTML version of manual ... [3s/7s] OK
- checking for non-standard things in the check directory ... OK
- DONE
Status: 1 NOTE