- using R version 4.4.2 (2024-10-31)
- using platform: x86_64-pc-linux-gnu
- R was compiled by
gcc-14 (Debian 14.2.0-12) 14.2.0
GNU Fortran (Debian 14.2.0-12) 14.2.0
- running under: Debian GNU/Linux trixie/sid
- using session charset: UTF-8
- checking for file ‘hdcuremodels/DESCRIPTION’ ... OK
- this is package ‘hdcuremodels’ version ‘0.0.1’
- package encoding: UTF-8
- checking package namespace information ... OK
- checking package dependencies ... OK
- checking if this is a source package ... OK
- checking if there is a namespace ... OK
- checking for executable files ... OK
- checking for hidden files and directories ... OK
- checking for portable file names ... OK
- checking for sufficient/correct file permissions ... OK
- checking whether package ‘hdcuremodels’ can be installed ... OK
See the install log for details.
- checking package directory ... OK
- checking for future file timestamps ... OK
- checking ‘build’ directory ... OK
- checking DESCRIPTION meta-information ... OK
- checking top-level files ... OK
- checking for left-over files ... OK
- checking index information ... OK
- checking package subdirectories ... OK
- checking code files for non-ASCII characters ... OK
- checking R files for syntax errors ... OK
- checking whether the package can be loaded ... [3s/3s] OK
- checking whether the package can be loaded with stated dependencies ... [3s/3s] OK
- checking whether the package can be unloaded cleanly ... [3s/3s] OK
- checking whether the namespace can be loaded with stated dependencies ... [3s/3s] OK
- checking whether the namespace can be unloaded cleanly ... [3s/4s] OK
- checking loading without being on the library search path ... [3s/4s] OK
- checking use of S3 registration ... OK
- checking dependencies in R code ... OK
- checking S3 generic/method consistency ... OK
- checking replacement functions ... OK
- checking foreign function calls ... OK
- checking R code for possible problems ... [31s/36s] OK
- checking Rd files ... [1s/1s] OK
- checking Rd metadata ... OK
- checking Rd line widths ... OK
- checking Rd cross-references ... OK
- checking for missing documentation entries ... OK
- checking for code/documentation mismatches ... OK
- checking Rd \usage sections ... OK
- checking Rd contents ... OK
- checking for unstated dependencies in examples ... OK
- checking contents of ‘data’ directory ... OK
- checking data for non-ASCII characters ... [0s/1s] OK
- checking LazyData ... OK
- checking data for ASCII and uncompressed saves ... OK
- checking installed files from ‘inst/doc’ ... OK
- checking files in ‘vignettes’ ... OK
- checking examples ... [85s/90s] OK
Examples with CPU (user + system) or elapsed time > 5s
user system elapsed
cv_curegmifs 12.292 0.042 13.125
cv_cureem 11.212 0.032 11.799
coef.mixturecure 6.905 0.067 8.376
AUC 6.848 0.088 7.140
print.mixturecure 6.810 0.015 7.071
curegmifs 6.713 0.020 6.980
predict.mixturecure 6.642 0.060 7.075
plot.mixturecure 6.593 0.079 7.247
summary.mixturecure 6.634 0.004 7.009
concordance_mcm 6.584 0.048 6.962
- checking for unstated dependencies in vignettes ... OK
- checking package vignettes ... OK
- checking re-building of vignette outputs ... [25s/30s] OK
- checking PDF version of manual ... [5s/7s] OK
- checking HTML version of manual ... [2s/3s] OK
- checking for non-standard things in the check directory ... OK
- DONE
Status: OK