- using R version 4.4.1 (2024-06-14)
- using platform: x86_64-pc-linux-gnu
- R was compiled by
gcc-13 (Debian 13.3.0-1) 13.3.0
GNU Fortran (Debian 13.3.0-1) 13.3.0
- running under: Debian GNU/Linux trixie/sid
- using session charset: UTF-8
- checking for file ‘atable/DESCRIPTION’ ... OK
- checking extension type ... Package
- this is package ‘atable’ version ‘0.1.14’
- package encoding: UTF-8
- checking package namespace information ... OK
- checking package dependencies ... OK
- checking if this is a source package ... OK
- checking if there is a namespace ... OK
- checking for executable files ... OK
- checking for hidden files and directories ... OK
- checking for portable file names ... OK
- checking for sufficient/correct file permissions ... OK
- checking whether package ‘atable’ can be installed ... OK
See the install log for details.
- checking package directory ... OK
- checking for future file timestamps ... OK
- checking ‘build’ directory ... OK
- checking DESCRIPTION meta-information ... OK
- checking top-level files ... OK
- checking for left-over files ... OK
- checking index information ... OK
- checking package subdirectories ... OK
- checking code files for non-ASCII characters ... OK
- checking R files for syntax errors ... OK
- checking whether the package can be loaded ... [0s/0s] OK
- checking whether the package can be loaded with stated dependencies ... [0s/0s] OK
- checking whether the package can be unloaded cleanly ... [0s/0s] OK
- checking whether the namespace can be loaded with stated dependencies ... [0s/0s] OK
- checking whether the namespace can be unloaded cleanly ... [0s/0s] OK
- checking loading without being on the library search path ... [0s/0s] OK
- checking use of S3 registration ... OK
- checking dependencies in R code ... OK
- checking S3 generic/method consistency ... OK
- checking replacement functions ... OK
- checking foreign function calls ... OK
- checking R code for possible problems ... [10s/14s] OK
- checking Rd files ... [1s/1s] NOTE
checkRd: (-1) atable.Rd:44-46: Lost braces in \itemize; meant \describe ?
checkRd: (-1) atable.Rd:48: Lost braces in \itemize; meant \describe ?
checkRd: (-1) atable.Rd:50: Lost braces in \itemize; meant \describe ?
checkRd: (-1) atable.Rd:52-54: Lost braces in \itemize; meant \describe ?
checkRd: (-1) atable.Rd:56: Lost braces in \itemize; meant \describe ?
checkRd: (-1) atable.Rd:58: Lost braces in \itemize; meant \describe ?
checkRd: (-1) atable.Rd:61-63: Lost braces in \itemize; meant \describe ?
checkRd: (-1) atable.Rd:65: Lost braces in \itemize; meant \describe ?
checkRd: (-1) atable.Rd:67: Lost braces in \itemize; meant \describe ?
checkRd: (-1) atable.Rd:69-71: Lost braces in \itemize; meant \describe ?
checkRd: (-1) atable.Rd:73: Lost braces in \itemize; meant \describe ?
checkRd: (-1) atable.Rd:75-77: Lost braces in \itemize; meant \describe ?
checkRd: (-1) atable.Rd:79: Lost braces in \itemize; meant \describe ?
checkRd: (-1) atable.Rd:150-164: Lost braces in \itemize; \value handles \item{}{} directly
checkRd: (-1) atable.Rd:156-159: Lost braces in \itemize; \value handles \item{}{} directly
checkRd: (-1) atable.Rd:161-163: Lost braces in \itemize; \value handles \item{}{} directly
checkRd: (-1) atable.Rd:165-175: Lost braces in \itemize; \value handles \item{}{} directly
checkRd: (-1) atable.Rd:176-177: Lost braces in \itemize; \value handles \item{}{} directly
checkRd: (-1) atable.Rd:178-179: Lost braces in \itemize; \value handles \item{}{} directly
checkRd: (-1) atable.Rd:180-181: Lost braces in \itemize; \value handles \item{}{} directly
checkRd: (-1) atable_options.Rd:24-25: Lost braces in \itemize; meant \describe ?
checkRd: (-1) atable_options.Rd:27-28: Lost braces in \itemize; meant \describe ?
checkRd: (-1) atable_options.Rd:30-32: Lost braces in \itemize; meant \describe ?
checkRd: (-1) atable_options.Rd:34-37: Lost braces in \itemize; meant \describe ?
checkRd: (-1) atable_options.Rd:39-42: Lost braces in \itemize; meant \describe ?
checkRd: (-1) atable_options.Rd:44-47: Lost braces in \itemize; meant \describe ?
checkRd: (-1) atable_options.Rd:49-52: Lost braces in \itemize; meant \describe ?
checkRd: (-1) atable_options.Rd:54-56: Lost braces in \itemize; meant \describe ?
checkRd: (-1) atable_options.Rd:58-60: Lost braces in \itemize; meant \describe ?
checkRd: (-1) atable_options.Rd:62-63: Lost braces in \itemize; meant \describe ?
checkRd: (-1) atable_options.Rd:65-67: Lost braces in \itemize; meant \describe ?
checkRd: (-1) atable_options.Rd:69-71: Lost braces in \itemize; meant \describe ?
checkRd: (-1) atable_options.Rd:73-74: Lost braces in \itemize; meant \describe ?
checkRd: (-1) atable_options.Rd:76-78: Lost braces in \itemize; meant \describe ?
checkRd: (-1) atable_options.Rd:80: Lost braces in \itemize; meant \describe ?
checkRd: (-1) atable_options.Rd:82: Lost braces in \itemize; meant \describe ?
checkRd: (-1) atable_options.Rd:84-86: Lost braces in \itemize; meant \describe ?
checkRd: (-1) atable_options.Rd:88: Lost braces in \itemize; meant \describe ?
checkRd: (-1) atable_options.Rd:90: Lost braces in \itemize; meant \describe ?
checkRd: (-1) atable_options.Rd:93-95: Lost braces in \itemize; meant \describe ?
checkRd: (-1) atable_options.Rd:97: Lost braces in \itemize; meant \describe ?
checkRd: (-1) atable_options.Rd:99: Lost braces in \itemize; meant \describe ?
checkRd: (-1) atable_options.Rd:101-103: Lost braces in \itemize; meant \describe ?
checkRd: (-1) atable_options.Rd:105: Lost braces in \itemize; meant \describe ?
checkRd: (-1) atable_options.Rd:107-110: Lost braces in \itemize; meant \describe ?
checkRd: (-1) atable_options.Rd:112: Lost braces in \itemize; meant \describe ?
checkRd: (-1) atable_options.Rd:116-117: Lost braces in \itemize; meant \describe ?
checkRd: (-1) atable_options.Rd:119-120: Lost braces in \itemize; meant \describe ?
checkRd: (-1) atable_options.Rd:122-124: Lost braces in \itemize; meant \describe ?
checkRd: (-1) atable_options.Rd:126-127: Lost braces in \itemize; meant \describe ?
checkRd: (-1) atable_options.Rd:129-131: Lost braces in \itemize; meant \describe ?
checkRd: (-1) atable_options.Rd:133-134: Lost braces in \itemize; meant \describe ?
checkRd: (-1) atable_options.Rd:136-138: Lost braces in \itemize; meant \describe ?
checkRd: (-1) atable_options.Rd:140-141: Lost braces in \itemize; meant \describe ?
checkRd: (-1) atable_options.Rd:143-144: Lost braces in \itemize; meant \describe ?
checkRd: (-1) atable_options.Rd:146: Lost braces in \itemize; meant \describe ?
checkRd: (-1) atable_options.Rd:148-149: Lost braces in \itemize; meant \describe ?
checkRd: (-1) atable_options.Rd:151-152: Lost braces in \itemize; meant \describe ?
checkRd: (-1) atable_options.Rd:154-155: Lost braces in \itemize; meant \describe ?
checkRd: (-1) atable_options.Rd:157-158: Lost braces in \itemize; meant \describe ?
- checking Rd metadata ... OK
- checking Rd line widths ... OK
- checking Rd cross-references ... OK
- checking for missing documentation entries ... OK
- checking for code/documentation mismatches ... OK
- checking Rd \usage sections ... OK
- checking Rd contents ... OK
- checking for unstated dependencies in examples ... OK
- checking contents of ‘data’ directory ... OK
- checking data for non-ASCII characters ... [0s/0s] OK
- checking LazyData ... OK
- checking data for ASCII and uncompressed saves ... OK
- checking sizes of PDF files under ‘inst/doc’ ... OK
- checking installed files from ‘inst/doc’ ... OK
- checking files in ‘vignettes’ ... OK
- checking examples ... [9s/11s] OK
Examples with CPU (user + system) or elapsed time > 5s
user system elapsed
atable 6.259 0.413 7.949
- checking for unstated dependencies in ‘tests’ ... OK
- checking tests ... [40s/51s] OK
Running ‘testthat.R’ [40s/50s]
- checking for unstated dependencies in vignettes ... OK
- checking package vignettes ... OK
- checking re-building of vignette outputs ... [35s/48s] OK
- checking PDF version of manual ... [7s/9s] OK
- checking HTML version of manual ... [2s/4s] OK
- checking for non-standard things in the check directory ... OK
- DONE
Status: 1 NOTE