- using R version 4.4.1 (2024-06-14)
- using platform: x86_64-pc-linux-gnu
- R was compiled by
gcc-14 (Debian 14.2.0-1) 14.2.0
GNU Fortran (Debian 14.2.0-1) 14.2.0
- running under: Debian GNU/Linux trixie/sid
- using session charset: UTF-8
- checking for file ‘RKEEL/DESCRIPTION’ ... OK
- checking extension type ... Package
- this is package ‘RKEEL’ version ‘1.3.4’
- checking package namespace information ... OK
- checking package dependencies ... OK
- checking if this is a source package ... OK
- checking if there is a namespace ... OK
- checking for executable files ... OK
- checking for hidden files and directories ... OK
- checking for portable file names ... OK
- checking for sufficient/correct file permissions ... OK
- checking serialization versions ... OK
- checking whether package ‘RKEEL’ can be installed ... OK
See the install log for details.
- checking package directory ... OK
- checking for future file timestamps ... OK
- checking DESCRIPTION meta-information ... OK
- checking top-level files ... OK
- checking for left-over files ... OK
- checking index information ... OK
- checking package subdirectories ... OK
- checking code files for non-ASCII characters ... OK
- checking R files for syntax errors ... OK
- checking whether the package can be loaded ... [1s/1s] OK
- checking whether the package can be loaded with stated dependencies ... [1s/1s] OK
- checking whether the package can be unloaded cleanly ... [1s/1s] OK
- checking whether the namespace can be loaded with stated dependencies ... [1s/1s] OK
- checking whether the namespace can be unloaded cleanly ... [1s/1s] OK
- checking loading without being on the library search path ... [1s/1s] OK
- checking whether startup messages can be suppressed ... [1s/1s] OK
- checking use of S3 registration ... OK
- checking dependencies in R code ... OK
- checking S3 generic/method consistency ... OK
- checking replacement functions ... OK
- checking foreign function calls ... OK
- checking R code for possible problems ... [13s/16s] OK
- checking Rd files ... [1s/2s] OK
- checking Rd metadata ... OK
- checking Rd line widths ... OK
- checking Rd cross-references ... OK
- checking for missing documentation entries ... OK
- checking for code/documentation mismatches ... OK
- checking Rd \usage sections ... OK
- checking Rd contents ... OK
- checking for unstated dependencies in examples ... OK
- checking examples ... [283s/351s] OK
Examples with CPU (user + system) or elapsed time > 5s
user system elapsed
ANR-F 8.599 0.361 9.895
ABB-IEP-FS 6.060 0.394 8.690
Nominal2Binary-TR 6.329 0.123 7.895
Alcalaetal-A 5.965 0.246 7.973
CART-R 5.492 0.404 8.121
SSGA-Integer-knn-FS 5.534 0.194 6.681
GANN-C 5.501 0.142 6.754
Bayesian-D 5.059 0.190 6.731
UniformWidth-D 5.042 0.163 6.425
Proportional-D 5.003 0.180 5.648
UniformFrequency-D 4.947 0.146 6.839
ID3-D 4.803 0.231 6.277
KMeans-MV 4.869 0.144 5.646
AllPosible-MV 4.812 0.179 6.209
CleanAttributes-TR 4.842 0.135 6.074
ZScore-TR 4.874 0.077 5.740
DecimalScaling-TR 4.831 0.110 6.082
Eclat-A 4.706 0.222 5.713
Ignore-MV 4.810 0.116 7.247
Relief-FS 4.748 0.148 6.238
MinMax-TR 4.744 0.133 5.613
MostCommon-MV 4.716 0.112 5.712
ID3-C 4.614 0.193 5.551
Apriori-A 4.578 0.220 5.928
RISE-C 4.631 0.163 5.200
KNN-MV 4.602 0.145 6.312
FuzzyApriori-A 4.554 0.174 6.465
FPgrowth-A 4.380 0.255 5.436
LVF-IEP-FS 4.474 0.139 5.086
ART-C 4.388 0.183 6.255
GeneticFuzzyApriori-A 4.272 0.197 5.672
GeneticFuzzyAprioriDC-A 4.253 0.187 5.097
NB-C 3.890 0.152 5.149
runCV 0.424 0.004 7.360
runSequential 0.121 0.000 6.019
- checking PDF version of manual ... [10s/14s] OK
- checking HTML version of manual ... [5s/10s] OK
- checking for non-standard things in the check directory ... OK
- DONE
Status: OK