- using R version 4.4.2 Patched (2025-02-07 r87715)
- using platform: x86_64-pc-linux-gnu
- R was compiled by
gcc-14 (Debian 14.2.0-16) 14.2.0
GNU Fortran (Debian 14.2.0-16) 14.2.0
- running under: Debian GNU/Linux trixie/sid
- using session charset: UTF-8
- checking for file ‘tidywater/DESCRIPTION’ ... OK
- checking extension type ... Package
- this is package ‘tidywater’ version ‘0.7.0’
- package encoding: UTF-8
- checking package namespace information ... OK
- checking package dependencies ... OK
- checking if this is a source package ... OK
- checking if there is a namespace ... OK
- checking for executable files ... OK
- checking for hidden files and directories ... OK
- checking for portable file names ... OK
- checking for sufficient/correct file permissions ... OK
- checking serialization versions ... OK
- checking whether package ‘tidywater’ can be installed ... OK
See the install log for details.
- checking package directory ... OK
- checking for future file timestamps ... OK
- checking ‘build’ directory ... OK
- checking DESCRIPTION meta-information ... OK
- checking top-level files ... OK
- checking for left-over files ... OK
- checking index information ... OK
- checking package subdirectories ... OK
- checking code files for non-ASCII characters ... OK
- checking R files for syntax errors ... OK
- checking whether the package can be loaded ... [1s/2s] OK
- checking whether the package can be loaded with stated dependencies ... [1s/1s] OK
- checking whether the package can be unloaded cleanly ... [1s/1s] OK
- checking whether the namespace can be loaded with stated dependencies ... [1s/1s] OK
- checking whether the namespace can be unloaded cleanly ... [1s/2s] OK
- checking loading without being on the library search path ... [1s/2s] OK
- checking use of S3 registration ... OK
- checking dependencies in R code ... OK
- checking S3 generic/method consistency ... OK
- checking replacement functions ... OK
- checking foreign function calls ... OK
- checking R code for possible problems ... [15s/19s] OK
- checking Rd files ... [1s/1s] OK
- checking Rd metadata ... OK
- checking Rd line widths ... OK
- checking Rd cross-references ... OK
- checking for missing documentation entries ... OK
- checking for code/documentation mismatches ... OK
- checking Rd \usage sections ... OK
- checking Rd contents ... OK
- checking for unstated dependencies in examples ... OK
- checking contents of ‘data’ directory ... OK
- checking data for non-ASCII characters ... [0s/0s] OK
- checking LazyData ... OK
- checking data for ASCII and uncompressed saves ... OK
- checking installed files from ‘inst/doc’ ... OK
- checking files in ‘vignettes’ ... OK
- checking examples ... [98s/191s] OK
Examples with CPU (user + system) or elapsed time > 5s
user system elapsed
solvedose_alk_once 10.507 0.126 12.566
solvedose_ph_once 7.123 0.028 8.358
chemdose_dbp_once 5.835 0.028 7.625
chemdose_dbp_chain 4.757 0.039 6.307
chemdose_toc_once 4.520 0.107 11.008
blend_waters_chain 4.058 0.035 5.380
balance_ions_chain 3.530 0.205 10.814
chemdose_ph_once 3.504 0.064 9.591
pac_toc_once 3.483 0.080 8.796
chemdose_toc_chain 3.298 0.044 8.346
chemdose_ph_chain 2.852 0.044 9.345
balance_ions_once 2.736 0.060 9.454
define_water_chain 2.651 0.016 7.861
dissolve_pb_once 2.479 0.057 8.059
biofilter_toc_once 2.517 0.001 8.976
pac_toc_chain 2.134 0.012 6.158
pluck_water 1.993 0.053 7.278
biofilter_toc_chain 1.523 0.007 6.408
define_water_once 1.330 0.020 6.410
- checking for unstated dependencies in ‘tests’ ... OK
- checking tests ... [157s/211s] OK
Running ‘testthat.R’ [157s/211s]
- checking for unstated dependencies in vignettes ... OK
- checking package vignettes ... OK
- checking re-building of vignette outputs ... [161s/222s] OK
- checking PDF version of manual ... [7s/10s] OK
- checking HTML version of manual ... [2s/5s] OK
- checking for non-standard things in the check directory ... OK
- DONE
Status: OK