- using R version 4.4.2 Patched (2025-02-07 r87715)
- using platform: x86_64-pc-linux-gnu
- R was compiled by
gcc-14 (Debian 14.2.0-16) 14.2.0
GNU Fortran (Debian 14.2.0-16) 14.2.0
- running under: Debian GNU/Linux trixie/sid
- using session charset: UTF-8
- checking for file ‘qgcomp/DESCRIPTION’ ... OK
- this is package ‘qgcomp’ version ‘2.16.4’
- package encoding: UTF-8
- checking package namespace information ... OK
- checking package dependencies ... OK
- checking if this is a source package ... OK
- checking if there is a namespace ... OK
- checking for executable files ... OK
- checking for hidden files and directories ... OK
- checking for portable file names ... OK
- checking for sufficient/correct file permissions ... OK
- checking whether package ‘qgcomp’ can be installed ... OK
See the install log for details.
- checking package directory ... OK
- checking for future file timestamps ... OK
- checking ‘build’ directory ... OK
- checking DESCRIPTION meta-information ... OK
- checking top-level files ... OK
- checking for left-over files ... OK
- checking index information ... OK
- checking package subdirectories ... OK
- checking code files for non-ASCII characters ... OK
- checking R files for syntax errors ... OK
- checking whether the package can be loaded ... [3s/4s] OK
- checking whether the package can be loaded with stated dependencies ... [3s/3s] OK
- checking whether the package can be unloaded cleanly ... [3s/3s] OK
- checking whether the namespace can be loaded with stated dependencies ... [2s/3s] OK
- checking whether the namespace can be unloaded cleanly ... [3s/5s] OK
- checking loading without being on the library search path ... [3s/3s] OK
- checking use of S3 registration ... OK
- checking dependencies in R code ... OK
- checking S3 generic/method consistency ... OK
- checking replacement functions ... OK
- checking foreign function calls ... OK
- checking R code for possible problems ... [36s/50s] OK
- checking Rd files ... [1s/1s] OK
- checking Rd metadata ... OK
- checking Rd line widths ... OK
- checking Rd cross-references ... OK
- checking for missing documentation entries ... OK
- checking for code/documentation mismatches ... OK
- checking Rd \usage sections ... OK
- checking Rd contents ... OK
- checking for unstated dependencies in examples ... OK
- checking contents of ‘data’ directory ... OK
- checking data for non-ASCII characters ... [0s/0s] OK
- checking data for ASCII and uncompressed saves ... OK
- checking installed files from ‘inst/doc’ ... OK
- checking files in ‘vignettes’ ... OK
- checking examples ... [16s/21s] OK
Examples with CPU (user + system) or elapsed time > 5s
user system elapsed
qgcomp.multinomial.boot 7.52 0.166 10.198
- checking for unstated dependencies in ‘tests’ ... OK
- checking tests ... [75s/92s] OK
Running ‘test_asis.R’ [4s/4s]
Running ‘test_basics.R’ [3s/3s]
Running ‘test_bayesqgcomp.R’ [4s/4s]
Running ‘test_boot_ints.R’ [4s/4s]
Running ‘test_bootchooser.R’ [6s/7s]
Running ‘test_ee.R’ [28s/34s]
Running ‘test_factor.R’ [3s/4s]
Running ‘test_id.R’ [3s/4s]
Running ‘test_mice.R’ [3s/4s]
Running ‘test_multinomial.R’ [0s/0s]
Running ‘test_numeric.R’ [6s/8s]
Running ‘test_poisson.R’ [3s/4s]
Running ‘test_splits.R’ [3s/4s]
Running ‘test_weights.R’ [3s/4s]
- checking for unstated dependencies in vignettes ... OK
- checking package vignettes ... OK
- checking re-building of vignette outputs ... [108s/171s] OK
- checking PDF version of manual ... [6s/8s] OK
- checking HTML version of manual ... [3s/4s] OK
- checking for non-standard things in the check directory ... OK
- DONE
Status: OK