- using R version 4.4.2 Patched (2025-02-03 r87683)
- using platform: x86_64-pc-linux-gnu
- R was compiled by
gcc-14 (Debian 14.2.0-12) 14.2.0
GNU Fortran (Debian 14.2.0-12) 14.2.0
- running under: Debian GNU/Linux trixie/sid
- using session charset: UTF-8
- checking for file ‘RKEEL/DESCRIPTION’ ... OK
- checking extension type ... Package
- this is package ‘RKEEL’ version ‘1.3.4’
- checking package namespace information ... OK
- checking package dependencies ... OK
- checking if this is a source package ... OK
- checking if there is a namespace ... OK
- checking for executable files ... OK
- checking for hidden files and directories ... OK
- checking for portable file names ... OK
- checking for sufficient/correct file permissions ... OK
- checking serialization versions ... OK
- checking whether package ‘RKEEL’ can be installed ... OK
See the install log for details.
- checking package directory ... OK
- checking for future file timestamps ... OK
- checking DESCRIPTION meta-information ... OK
- checking top-level files ... OK
- checking for left-over files ... OK
- checking index information ... OK
- checking package subdirectories ... OK
- checking code files for non-ASCII characters ... OK
- checking R files for syntax errors ... OK
- checking whether the package can be loaded ... [1s/1s] OK
- checking whether the package can be loaded with stated dependencies ... [1s/1s] OK
- checking whether the package can be unloaded cleanly ... [1s/1s] OK
- checking whether the namespace can be loaded with stated dependencies ... [1s/1s] OK
- checking whether the namespace can be unloaded cleanly ... [1s/1s] OK
- checking loading without being on the library search path ... [1s/1s] OK
- checking whether startup messages can be suppressed ... [1s/1s] OK
- checking use of S3 registration ... OK
- checking dependencies in R code ... OK
- checking S3 generic/method consistency ... OK
- checking replacement functions ... OK
- checking foreign function calls ... OK
- checking R code for possible problems ... [13s/18s] OK
- checking Rd files ... [1s/1s] OK
- checking Rd metadata ... OK
- checking Rd line widths ... OK
- checking Rd cross-references ... OK
- checking for missing documentation entries ... OK
- checking for code/documentation mismatches ... OK
- checking Rd \usage sections ... OK
- checking Rd contents ... OK
- checking for unstated dependencies in examples ... OK
- checking examples ... [282s/359s] OK
Examples with CPU (user + system) or elapsed time > 5s
user system elapsed
ANR-F 8.495 0.421 8.663
Nominal2Binary-TR 6.309 0.158 7.632
Alcalaetal-A 6.070 0.365 7.877
ABB-IEP-FS 5.907 0.293 8.112
CART-R 5.573 0.389 7.938
GANN-C 5.594 0.127 6.953
SSGA-Integer-knn-FS 5.125 0.192 5.928
Bayesian-D 5.083 0.187 5.895
UniformWidth-D 4.986 0.172 6.994
UniformFrequency-D 4.929 0.191 6.742
AllPosible-MV 4.924 0.195 6.845
Apriori-A 4.750 0.325 6.391
ZScore-TR 4.944 0.120 6.048
Proportional-D 4.847 0.186 5.187
MostCommon-MV 4.836 0.145 6.976
CleanAttributes-TR 4.844 0.129 6.854
Eclat-A 4.807 0.156 5.766
DecimalScaling-TR 4.810 0.145 6.123
Relief-FS 4.740 0.159 5.193
KNN-MV 4.695 0.187 6.424
KMeans-MV 4.766 0.111 6.129
ID3-D 4.703 0.152 5.849
RISE-C 4.715 0.127 5.989
Ignore-MV 4.707 0.123 6.383
MinMax-TR 4.707 0.112 6.020
ID3-C 4.685 0.109 6.076
ART-C 4.603 0.162 5.005
GeneticFuzzyAprioriDC-A 4.425 0.259 6.423
FuzzyApriori-A 4.474 0.171 5.824
FPgrowth-A 4.431 0.204 6.187
LVF-IEP-FS 4.481 0.133 5.297
GeneticFuzzyApriori-A 4.264 0.305 7.098
runCV 0.440 0.012 8.249
runSequential 0.113 0.008 5.921
- checking PDF version of manual ... [10s/13s] OK
- checking HTML version of manual ... [5s/9s] OK
- checking for non-standard things in the check directory ... OK
- DONE
Status: OK