- using R version 4.3.3 (2024-02-29 ucrt)
- using platform: x86_64-w64-mingw32 (64-bit)
- R was compiled by
gcc.exe (GCC) 12.3.0
GNU Fortran (GCC) 12.3.0
- running under: Windows Server 2022 x64 (build 20348)
- using session charset: UTF-8
- checking for file 'tm.plugin.mail/DESCRIPTION' ... OK
- this is package 'tm.plugin.mail' version '0.3-1'
- checking package namespace information ... OK
- checking package dependencies ... OK
- checking if this is a source package ... OK
- checking if there is a namespace ... OK
- checking for hidden files and directories ... OK
- checking for portable file names ... OK
- checking whether package 'tm.plugin.mail' can be installed ... OK
See the install log for details.
- checking installed package size ... OK
- checking package directory ... OK
- checking DESCRIPTION meta-information ... OK
- checking top-level files ... OK
- checking for left-over files ... OK
- checking index information ... OK
- checking package subdirectories ... OK
- checking R files for non-ASCII characters ... OK
- checking R files for syntax errors ... OK
- checking whether the package can be loaded ... [88s] OK
- checking whether the package can be loaded with stated dependencies ... [141s] OK
- checking whether the package can be unloaded cleanly ... [186s] OK
- checking whether the namespace can be loaded with stated dependencies ... [128s] OK
- checking whether the namespace can be unloaded cleanly ... [103s] OK
- checking loading without being on the library search path ... [157s] OK
- checking startup messages can be suppressed ... [87s] OK
- checking use of S3 registration ... OK
- checking dependencies in R code ... OK
- checking S3 generic/method consistency ... OK
- checking replacement functions ... OK
- checking foreign function calls ... OK
- checking R code for possible problems ...
Check process probably crashed or hung up for 20 minutes ... killed
Most likely this happened in the example checks (?),
if not, ignore the following last lines of example output:
======== End of example output (where/before crash/hang up occured ?) ========