- using R version 4.3.3 (2024-02-29 ucrt)
- using platform: x86_64-w64-mingw32 (64-bit)
- R was compiled by
gcc.exe (GCC) 12.3.0
GNU Fortran (GCC) 12.3.0
- running under: Windows Server 2022 x64 (build 20348)
- using session charset: UTF-8
- checking for file 'gstat/DESCRIPTION' ... OK
- this is package 'gstat' version '2.1-3'
- package encoding: UTF-8
- checking package namespace information ... OK
- checking package dependencies ... OK
- checking if this is a source package ... OK
- checking if there is a namespace ... OK
- checking for hidden files and directories ... OK
- checking for portable file names ... OK
- checking whether package 'gstat' can be installed ... OK
See the install log for details.
- used C compiler: 'gcc.exe (GCC) 12.3.0'
- checking installed package size ... OK
- checking package directory ... OK
- checking 'build' directory ... OK
- checking DESCRIPTION meta-information ... OK
- checking top-level files ... OK
- checking for left-over files ... OK
- checking index information ... OK
- checking package subdirectories ... OK
- checking R files for non-ASCII characters ... OK
- checking R files for syntax errors ... OK
- checking whether the package can be loaded ... [1s] OK
- checking whether the package can be loaded with stated dependencies ... [1s] OK
- checking whether the package can be unloaded cleanly ... [1s] OK
- checking whether the namespace can be loaded with stated dependencies ... [1s] OK
- checking whether the namespace can be unloaded cleanly ... [2s] OK
- checking loading without being on the library search path ... [1s] OK
- checking startup messages can be suppressed ... [1s] OK
- checking use of S3 registration ... OK
- checking dependencies in R code ... OK
- checking S3 generic/method consistency ... OK
- checking replacement functions ... OK
- checking foreign function calls ... OK
- checking R code for possible problems ... [18s] OK
- checking Rd files ... [2s] OK
- checking Rd metadata ... OK
- checking Rd cross-references ... OK
- checking for missing documentation entries ... OK
- checking for code/documentation mismatches ... OK
- checking Rd \usage sections ... OK
- checking Rd contents ... OK
- checking for unstated dependencies in examples ... OK
- checking contents of 'data' directory ... OK
- checking data for non-ASCII characters ... [2s] OK
- checking data for ASCII and uncompressed saves ... OK
- checking line endings in shell scripts ... OK
- checking line endings in C/C++/Fortran sources/headers ... OK
- checking line endings in Makefiles ... OK
- checking compilation flags in Makevars ... OK
- checking for GNU extensions in Makefiles ... OK
- checking for portable use of $(BLAS_LIBS) and $(LAPACK_LIBS) ... OK
- checking use of PKG_*FLAGS in Makefiles ... OK
- checking pragmas in C/C++ headers and code ... OK
- checking compiled code ... OK
- checking sizes of PDF files under 'inst/doc' ... OK
- checking installed files from 'inst/doc' ... OK
- checking files in 'vignettes' ... OK
- checking examples ... [25s] OK
- checking for unstated dependencies in 'tests' ... OK
- checking tests ... [59s] OK
Running 'allier.R' [2s]
Comparing 'allier.Rout' to 'allier.Rout.save' ... OK
Running 'blockkr.R' [2s]
Comparing 'blockkr.Rout' to 'blockkr.Rout.save' ... OK
Running 'covtable.R' [2s]
Comparing 'covtable.Rout' to 'covtable.Rout.save' ... OK
Running 'cv.R' [2s]
Comparing 'cv.Rout' to 'cv.Rout.save' ...68c68
< Min. :4.644 Min. :0.002371 Min. :4.727 Min. :-0.4190977
---
> Min. :4.644 Min. :0.002371 Min. :4.727 Min. :-0.4190976
Running 'cv3d.R' [2s]
Comparing 'cv3d.Rout' to 'cv3d.Rout.save' ...14c14
< 3rd Qu.: 0.161 3rd Qu.:0.240 3rd Qu.: 0.500 3rd Qu.: 0.8508
---
> 3rd Qu.: 0.161 3rd Qu.:0.240 3rd Qu.: 0.501 3rd Qu.: 0.8508
17,22c17,22
< Min. :-5.168 Min. : 1.0 Min. :0.0068 Min. :0.0034
< 1st Qu.:-1.875 1st Qu.:13.2 1st Qu.:0.2397 1st Qu.:0.2466
< Median : 0.245 Median :25.5 Median :0.4867 Median :0.4525
< Mean : 0.017 Mean :25.5 Mean :0.4997 Mean :0.4969
< 3rd Qu.: 2.020 3rd Qu.:37.8 3rd Qu.:0.7473 3rd Qu.:0.7394
< Max. : 7.354 Max. :50.0 Max. :0.9875 Max. :0.9872
---
> Min. :-5.1678 Min. : 1.0 Min. :0.00678 Min. :0.0034
> 1st Qu.:-1.8749 1st Qu.:13.2 1st Qu.:0.23966 1st Qu.:0.2466
> Median : 0.2453 Median :25.5 Median :0.48668 Median :0.4525
> Mean : 0.0167 Mean :25.5 Mean :0.49966 Mean :0.4969
> 3rd Qu.: 2.0201 3rd Qu.:37.8 3rd Qu.:0.74730 3rd Qu.:0.7394
> Max. : 7.3541 Max. :50.0 Max. :0.98754 Max. :0.9872
24,29c24,29
< Min. :0.0016
< 1st Qu.:0.1865
< Median :0.4485
< Mean :0.4714
< 3rd Qu.:0.7240
< Max. :0.9942
---
> Min. :0.00164
> 1st Qu.:0.18646
> Median :0.44850
> Mean :0.47142
> 3rd Qu.:0.72403
> Max. :0.99420
Running 'fit.R' [2s]
Comparing 'fit.Rout' to 'fit.Rout.save' ... OK
Running 'krige0.R' [3s]
Comparing 'krige0.Rout' to 'krige0.Rout.save' ... OK
Running 'line.R' [2s]
Comparing 'line.Rout' to 'line.Rout.save' ... OK
Running 'merge.R' [2s]
Comparing 'merge.Rout' to 'merge.Rout.save' ... OK
Running 'na.action.R' [2s]
Comparing 'na.action.Rout' to 'na.action.Rout.save' ... OK
Running 'rings.R' [2s]
Comparing 'rings.Rout' to 'rings.Rout.save' ... OK
Running 'sim.R' [1s]
Comparing 'sim.Rout' to 'sim.Rout.save' ... OK
Running 'stars.R' [16s]
Comparing 'stars.Rout' to 'stars.Rout.save' ...196,201c196,201
< Min. :4.777 Min. :0.085 (0,5]: 316
< 1st Qu.:5.238 1st Qu.:0.137 (5,6]:1778
< Median :5.573 Median :0.162 (6,7]: 962
< Mean :5.707 Mean :0.185 (7,8]: 47
< 3rd Qu.:6.172 3rd Qu.:0.212 (8,9]: 0
< Max. :7.440 Max. :0.500 NA's :5009
---
> Min. :4.777 Min. :0.0855 (0,5]: 316
> 1st Qu.:5.238 1st Qu.:0.1373 (5,6]:1778
> Median :5.573 Median :0.1622 (6,7]: 962
> Mean :5.707 Mean :0.1853 (7,8]: 47
> 3rd Qu.:6.172 3rd Qu.:0.2116 (8,9]: 0
> Max. :7.440 Max. :0.5003 NA's :5009
Running 'unproj.R' [4s]
Comparing 'unproj.Rout' to 'unproj.Rout.save' ... OK
Running 'variogram.R' [2s]
Comparing 'variogram.Rout' to 'variogram.Rout.save' ... OK
Running 'vdist.R' [1s]
Comparing 'vdist.Rout' to 'vdist.Rout.save' ... OK
Running 'windst.R' [11s]
Comparing 'windst.Rout' to 'windst.Rout.save' ... OK
- checking for unstated dependencies in vignettes ... OK
- checking package vignettes in 'inst/doc' ... OK
- checking re-building of vignette outputs ... [84s] OK
- checking PDF version of manual ... [19s] OK
- checking HTML version of manual ... [12s] OK
- DONE
Status: OK