- using R version 4.3.0 beta (2023-04-08 r84203)
- using platform: x86_64-apple-darwin20 (64-bit)
- R was compiled by
Apple clang version 14.0.3 (clang-1403.0.22.14.1)
GNU Fortran (GCC) 12.2.0
- running under: macOS Ventura 13.3
- using session charset: UTF-8
- checking for file ‘randtoolbox/DESCRIPTION’ ... OK
- checking extension type ... Package
- this is package ‘randtoolbox’ version ‘2.0.4’
- checking package namespace information ... OK
- checking package dependencies ... OK
- checking if this is a source package ... OK
- checking if there is a namespace ... OK
- checking for executable files ... OK
- checking for hidden files and directories ... OK
- checking for portable file names ... OK
- checking for sufficient/correct file permissions ... OK
- checking whether package ‘randtoolbox’ can be installed ... [13s/19s] OK
See the install log for details.
- used C compiler: ‘Apple clang version 14.0.3 (clang-1403.0.22.14.1)’
- used SDK: ‘MacOSX11.3.sdk’
- checking installed package size ... OK
- checking package directory ... OK
- checking ‘build’ directory ... OK
- checking DESCRIPTION meta-information ... OK
- checking top-level files ... OK
- checking for left-over files ... OK
- checking index information ... OK
- checking package subdirectories ... OK
- checking R files for non-ASCII characters ... OK
- checking R files for syntax errors ... OK
- checking whether the package can be loaded ... [0s/0s] OK
- checking whether the package can be loaded with stated dependencies ... [0s/0s] OK
- checking whether the package can be unloaded cleanly ... [0s/0s] OK
- checking whether the namespace can be loaded with stated dependencies ... [0s/0s] OK
- checking whether the namespace can be unloaded cleanly ... [0s/0s] OK
- checking loading without being on the library search path ... [0s/0s] OK
- checking startup messages can be suppressed ... [0s/0s] OK
- checking dependencies in R code ... OK
- checking S3 generic/method consistency ... OK
- checking replacement functions ... OK
- checking foreign function calls ... OK
- checking R code for possible problems ... [5s/7s] OK
- checking Rd files ... [1s/1s] OK
- checking Rd metadata ... OK
- checking Rd cross-references ... OK
- checking for missing documentation entries ... OK
- checking for code/documentation mismatches ... OK
- checking Rd \usage sections ... OK
- checking Rd contents ... OK
- checking for unstated dependencies in examples ... OK
- checking line endings in shell scripts ... OK
- checking line endings in C/C++/Fortran sources/headers ... OK
- checking use of PKG_*FLAGS in Makefiles ... OK
- checking compiled code ... OK
- checking sizes of PDF files under ‘inst/doc’ ... OK
- checking installed files from ‘inst/doc’ ... OK
- checking files in ‘vignettes’ ... OK
- checking examples ... [1s/1s] OK
- checking for unstated dependencies in ‘tests’ ... OK
- checking tests ... [5s/6s] OK
Running ‘test-Halton.R’ [0s/0s]
Running ‘test-SFMT.R’ [0s/0s]
Running ‘test-Sobol.R’ [0s/0s]
Running ‘test-Stirling.R’ [0s/0s]
Running ‘test-Torus.R’ [0s/0s]
Running ‘test-WELL.R’ [1s/1s]
Running ‘test-binary-op.R’ [0s/0s]
Running ‘test-envir.R’ [0s/0s]
Running ‘test-knuthTAOCP.R’ [0s/0s]
Running ‘test-mjrec.R’ [0s/0s]
Running ‘test-parallel-qmc.R’ [0s/0s]
Running ‘test-permut.R’ [0s/0s]
Running ‘test-runifInterface-LCG.R’ [0s/0s]
Running ‘test-runifInterface-nonLCG.R’ [0s/0s]
Running ‘test-sobol-basic.R’ [0s/0s]
Running ‘test-sobol-scram.R’ [0s/0s]
Running ‘test-sobol.V.R’ [0s/0s]
Running ‘test-sobol.directions.R’ [0s/0s]
- checking for unstated dependencies in vignettes ... OK
- checking package vignettes in ‘inst/doc’ ... OK
- checking running R code from vignettes ... [2s/3s] OK
‘fullpres.Rnw’ using ‘UTF-8’... [2s/3s] OK
‘shortintro.Rnw’ using ‘UTF-8’... [0s/0s] OK
- checking re-building of vignette outputs ... [12s/18s] NOTE
Error(s) in re-building vignettes:
--- re-building ‘fullpres.Rnw’ using Sweave
Loading required package: rngWELL
This is randtoolbox. For an overview, type 'help("randtoolbox")'.
Warning in sobol(10^3, 2, scrambling = 1) :
scrambling is currently disabled.
Warning in sobol(10^3, 2, scrambling = 2) :
scrambling is currently disabled.
Warning in coll.test(runif, 2^7, 2^10, 1, echo = FALSE) :
p-values will be approximated in the presence of low expected collision number.
Warning in coll.test(congruRand, 2^8, 2^14, 1, echo = FALSE) :
p-values will be approximated in the presence of low expected collision number.
Error: processing vignette 'fullpres.Rnw' failed with diagnostics:
Running 'texi2dvi' on 'fullpres.tex' failed.
LaTeX errors:
! LaTeX Error: File `perpage.sty' not found.
Type X to quit or <RETURN> to proceed,
or enter new name. (Default extension: sty)
! Emergency stop.
<read *>
l.79 \MakePerPage
[1]{footnote}^^M
! ==> Fatal error occurred, no output PDF file produced!
--- failed re-building ‘fullpres.Rnw’
--- re-building ‘shortintro.Rnw’ using Sweave
Loading required package: rngWELL
This is randtoolbox. For an overview, type 'help("randtoolbox")'.
Warning in RNGkind("default") :
someone corrupted the random-number generator: re-initializing
Error: processing vignette 'shortintro.Rnw' failed with diagnostics:
Running 'texi2dvi' on 'shortintro.tex' failed.
LaTeX errors:
! LaTeX Error: File `perpage.sty' not found.
Type X to quit or <RETURN> to proceed,
or enter new name. (Default extension: sty)
! Emergency stop.
<read *>
l.87 \MakePerPage
[1]{footnote}^^M
! ==> Fatal error occurred, no output PDF file produced!
--- failed re-building ‘shortintro.Rnw’
SUMMARY: processing the following files failed:
‘fullpres.Rnw’ ‘shortintro.Rnw’
Error: Vignette re-building failed.
Execution halted
- checking PDF version of manual ... [4s/6s] OK
- DONE
Status: 1 NOTE
- using check arguments '--no-clean-on-error '