- using R version 4.3.0 beta (2023-04-08 r84203)
- using platform: x86_64-apple-darwin20 (64-bit)
- R was compiled by
Apple clang version 14.0.3 (clang-1403.0.22.14.1)
GNU Fortran (GCC) 12.2.0
- running under: macOS Ventura 13.3
- using session charset: UTF-8
- checking for file ‘frbs/DESCRIPTION’ ... OK
- this is package ‘frbs’ version ‘3.2-0’
- checking package namespace information ... OK
- checking package dependencies ... OK
- checking if this is a source package ... OK
- checking if there is a namespace ... OK
- checking for executable files ... OK
- checking for hidden files and directories ... OK
- checking for portable file names ... OK
- checking for sufficient/correct file permissions ... OK
- checking whether package ‘frbs’ can be installed ... [6s/8s] OK
See the install log for details.
- checking installed package size ... OK
- checking package directory ... OK
- checking ‘build’ directory ... OK
- checking DESCRIPTION meta-information ... OK
- checking top-level files ... OK
- checking for left-over files ... OK
- checking index information ... OK
- checking package subdirectories ... OK
- checking R files for non-ASCII characters ... OK
- checking R files for syntax errors ... OK
- checking whether the package can be loaded ... [0s/0s] OK
- checking whether the package can be loaded with stated dependencies ... [0s/0s] OK
- checking whether the package can be unloaded cleanly ... [0s/0s] OK
- checking whether the namespace can be loaded with stated dependencies ... [0s/0s] OK
- checking whether the namespace can be unloaded cleanly ... [0s/0s] OK
- checking loading without being on the library search path ... [0s/0s] OK
- checking dependencies in R code ... OK
- checking S3 generic/method consistency ... OK
- checking replacement functions ... OK
- checking foreign function calls ... OK
- checking R code for possible problems ... [12s/18s] OK
- checking Rd files ... [1s/1s] OK
- checking Rd metadata ... OK
- checking Rd cross-references ... OK
- checking for missing documentation entries ... OK
- checking for code/documentation mismatches ... OK
- checking Rd \usage sections ... OK
- checking Rd contents ... OK
- checking for unstated dependencies in examples ... OK
- checking contents of ‘data’ directory ... OK
- checking data for non-ASCII characters ... [0s/0s] OK
- checking data for ASCII and uncompressed saves ... OK
- checking sizes of PDF files under ‘inst/doc’ ... OK
- checking installed files from ‘inst/doc’ ... OK
- checking files in ‘vignettes’ ... OK
- checking examples ... [2s/2s] OK
- checking for unstated dependencies in vignettes ... OK
- checking package vignettes in ‘inst/doc’ ... OK
- checking running R code from vignettes ... [65s/88s] OK
‘lala2015frbs.ltx’... [0s/0s] OK
‘lala2015pmml.Rtex’ using ‘UTF-8’... [64s/87s] OK
- checking re-building of vignette outputs ... [78s/109s] NOTE
Error(s) in re-building vignettes:
--- re-building ‘lala2015frbs.ltx’ using tex
--- finished re-building ‘lala2015frbs.ltx’
--- re-building ‘lala2015pmml.Rtex’ using Sweave
Warning in mean.default((real.val - res.test)^2) :
argument is not numeric or logical: returning NA
Error: processing vignette 'lala2015pmml.Rtex' failed with diagnostics:
Running 'texi2dvi' on 'lala2015pmml.tex' failed.
LaTeX errors:
! LaTeX Error: File `elsarticle.cls' not found.
Type X to quit or <RETURN> to proceed,
or enter new name. (Default extension: cls)
! Emergency stop.
<read *>
l.4 \usepackage
{setspace}^^M
! ==> Fatal error occurred, no output PDF file produced!
--- failed re-building 'lala2015pmml.Rtex'
SUMMARY: processing the following file failed:
‘lala2015pmml.Rtex’
Error: Vignette re-building failed.
Execution halted
- checking PDF version of manual ... [5s/7s] OK
- DONE
Status: 1 NOTE
- using check arguments '--no-clean-on-error '