- using R Under development (unstable) (2025-02-02 r87676 ucrt)
- using platform: x86_64-w64-mingw32
- R was compiled by
gcc.exe (GCC) 13.3.0
GNU Fortran (GCC) 13.3.0
- running under: Windows Server 2022 x64 (build 20348)
- using session charset: UTF-8
- checking for file 'sits/DESCRIPTION' ... OK
- checking extension type ... Package
- this is package 'sits' version '1.5.1'
- package encoding: UTF-8
- checking package namespace information ... OK
- checking package dependencies ... OK
- checking if this is a source package ... OK
- checking if there is a namespace ... OK
- checking for hidden files and directories ... OK
- checking for portable file names ... OK
- checking whether package 'sits' can be installed ... OK
See the install log for details.
- used C++ compiler: 'g++.exe (GCC) 13.3.0'
- checking installed package size ... OK
- checking package directory ... OK
- checking DESCRIPTION meta-information ... NOTE
Missing dependency on R >= 4.1.0 because package code uses the pipe
|> or function shorthand \(...) syntax added in R 4.1.0.
File(s) using such syntax:
'api_accuracy.R' 'api_chunks.R' 'api_cluster.R' 'api_colors.R'
'api_cube.R' 'api_data.R' 'api_gdalcubes.R' 'api_label_class.R'
'api_patterns.R' 'api_plot_time_series.R' 'api_plot_vector.R'
'api_predictors.R' 'api_raster.R' 'api_regularize.R' 'api_s2tile.R'
'api_samples.R' 'api_segments.R' 'api_sf.R' 'api_som.R'
'api_source_cdse.R' 'api_source_local.R' 'api_source_stac.R'
'api_source_terrascope.R' 'api_space_time_operations.R'
'api_tibble.R' 'api_tile.R' 'api_timeline.R' 'api_ts.R'
'api_uncertainty.R' 'api_values.R' 'api_view.R'
'sits_active_learning.R' 'sits_colors.R' 'sits_histogram.R'
'sits_lighttae.R' 'sits_mlp.R' 'sits_patterns.R' 'sits_plot.R'
'sits_sample_functions.R' 'sits_som.R' 'sits_summary.R' 'sits_tae.R'
'sits_tempcnn.R' 'sits_view.R'
- checking top-level files ... OK
- checking for left-over files ... OK
- checking index information ... OK
- checking package subdirectories ... OK
- checking code files for non-ASCII characters ... OK
- checking R files for syntax errors ... OK
- checking whether the package can be loaded ... [2s] OK
- checking whether the package can be loaded with stated dependencies ... [2s] OK
- checking whether the package can be unloaded cleanly ... [2s] OK
- checking whether the namespace can be loaded with stated dependencies ... [2s] OK
- checking whether the namespace can be unloaded cleanly ... [2s] OK
- checking loading without being on the library search path ... [2s] OK
- checking whether startup messages can be suppressed ... [2s] OK
- checking use of S3 registration ... OK
- checking dependencies in R code ... OK
- checking S3 generic/method consistency ... OK
- checking replacement functions ... OK
- checking foreign function calls ... OK
- checking R code for possible problems ... [35s] OK
- checking Rd files ... [2s] OK
- checking Rd metadata ... OK
- checking Rd cross-references ... OK
- checking for missing documentation entries ... OK
- checking for code/documentation mismatches ... OK
- checking Rd \usage sections ... OK
- checking Rd contents ... OK
- checking for unstated dependencies in examples ... OK
- checking contents of 'data' directory ... OK
- checking data for non-ASCII characters ... [1s] OK
- checking LazyData ... OK
- checking data for ASCII and uncompressed saves ... OK
- checking line endings in C/C++/Fortran sources/headers ... OK
- checking line endings in Makefiles ... OK
- checking compilation flags in Makevars ... OK
- checking for GNU extensions in Makefiles ... OK
- checking for portable use of $(BLAS_LIBS) and $(LAPACK_LIBS) ... OK
- checking use of PKG_*FLAGS in Makefiles ... OK
- checking pragmas in C/C++ headers and code ... OK
- checking compiled code ... OK
- checking examples ... [12s] OK
- checking for unstated dependencies in 'tests' ... OK
- checking tests ... [2s] OK
Running 'testthat.R' [2s]
- checking PDF version of manual ... [26s] OK
- checking HTML version of manual ... [22s] OK
- DONE
Status: 1 NOTE