- using R Under development (unstable) (2025-01-26 r87642 ucrt)
- using platform: x86_64-w64-mingw32
- R was compiled by
gcc.exe (GCC) 13.3.0
GNU Fortran (GCC) 13.3.0
- running under: Windows Server 2022 x64 (build 20348)
- using session charset: UTF-8
- checking for file 'Polychrome/DESCRIPTION' ... OK
- this is package 'Polychrome' version '1.5.1'
- checking package namespace information ... OK
- checking package dependencies ... OK
- checking if this is a source package ... OK
- checking if there is a namespace ... OK
- checking for hidden files and directories ... OK
- checking for portable file names ... OK
- checking whether package 'Polychrome' can be installed ... OK
See the install log for details.
- checking installed package size ... OK
- checking package directory ... OK
- checking 'build' directory ... OK
- checking DESCRIPTION meta-information ... OK
- checking top-level files ... OK
- checking for left-over files ... OK
- checking index information ... OK
- checking package subdirectories ... OK
- checking code files for non-ASCII characters ... OK
- checking R files for syntax errors ... OK
- checking whether the package can be loaded ... [0s] OK
- checking whether the package can be loaded with stated dependencies ... [0s] OK
- checking whether the package can be unloaded cleanly ... [0s] OK
- checking whether the namespace can be loaded with stated dependencies ... [0s] OK
- checking whether the namespace can be unloaded cleanly ... [0s] OK
- checking loading without being on the library search path ... [0s] OK
- checking use of S3 registration ... OK
- checking dependencies in R code ... OK
- checking S3 generic/method consistency ... OK
- checking replacement functions ... OK
- checking foreign function calls ... OK
- checking R code for possible problems ... [3s] OK
- checking Rd files ... [1s] OK
- checking Rd metadata ... OK
- checking Rd cross-references ... OK
- checking for missing documentation entries ... OK
- checking for code/documentation mismatches ... OK
- checking Rd \usage sections ... OK
- checking Rd contents ... OK
- checking for unstated dependencies in examples ... OK
- checking contents of 'data' directory ... OK
- checking data for non-ASCII characters ... [0s] OK
- checking data for ASCII and uncompressed saves ... OK
- checking installed files from 'inst/doc' ... OK
- checking files in 'vignettes' ... OK
- checking examples ... [5s] OK
- checking for unstated dependencies in 'tests' ... OK
- checking tests ... [4s] NOTE
Running 'test-07-member.R' [0s]
Running 'testDeficit.R' [2s]
Comparing 'testDeficit.Rout' to 'testDeficit.Rout.save' ...100,105c100,105
< Min. :-8.190e-06 Min. :-0.0278874 Min. :-6.800e-03
< 1st Qu.: 0.000e+00 1st Qu.:-0.0000158 1st Qu.:-6.298e-06
< Median : 0.000e+00 Median : 0.0000000 Median : 4.575e-03
< Mean : 1.111e-02 Mean :-0.0011243 Mean : 1.963e-02
< 3rd Qu.: 0.000e+00 3rd Qu.: 0.0000000 3rd Qu.: 4.788e-02
< Max. : 4.000e-01 Max. : 0.0316256 Max. : 5.996e-02
---
> Min. :-0.0000082 Min. :-2.789e-02 Min. :-0.0067999
> 1st Qu.: 0.0000000 1st Qu.:-1.579e-05 1st Qu.:-0.0000063
> Median : 0.0000000 Median : 0.000e+00 Median : 0.0045747
> Mean : 0.0111090 Mean :-1.124e-03 Mean : 0.0196263
> 3rd Qu.: 0.0000000 3rd Qu.: 0.000e+00 3rd Qu.: 0.0478768
> Max. : 0.3999611 Max. : 3.163e-02 Max. : 0.0599644
Running 'testXform.R' [1s]
Comparing 'testXform.Rout' to 'testXform.Rout.save' ... OK
- checking for unstated dependencies in vignettes ... OK
- checking package vignettes ... OK
- checking re-building of vignette outputs ... [38s] OK
- checking PDF version of manual ... [22s] OK
- checking HTML version of manual ... [3s] OK
- DONE
Status: 1 NOTE