- using R Under development (unstable) (2025-02-14 r87718 ucrt)
- using platform: x86_64-w64-mingw32
- R was compiled by
gcc.exe (GCC) 13.3.0
GNU Fortran (GCC) 13.3.0
- running under: Windows Server 2022 x64 (build 20348)
- using session charset: UTF-8
- checking for file 'PRSim/DESCRIPTION' ... OK
- checking extension type ... Package
- this is package 'PRSim' version '1.5'
- package encoding: UTF-8
- checking package namespace information ... OK
- checking package dependencies ... OK
- checking if this is a source package ... OK
- checking if there is a namespace ... OK
- checking for hidden files and directories ... OK
- checking for portable file names ... OK
- checking whether package 'PRSim' can be installed ... OK
See the install log for details.
- used C compiler: 'gcc.exe (GCC) 13.3.0'
- checking installed package size ... OK
- checking package directory ... OK
- checking DESCRIPTION meta-information ... OK
- checking top-level files ... OK
- checking for left-over files ... OK
- checking index information ... OK
- checking package subdirectories ... OK
- checking code files for non-ASCII characters ... OK
- checking R files for syntax errors ... OK
- checking whether the package can be loaded ... [1s] OK
- checking whether the package can be loaded with stated dependencies ... [1s] OK
- checking whether the package can be unloaded cleanly ... [1s] OK
- checking whether the namespace can be loaded with stated dependencies ... [1s] OK
- checking whether the namespace can be unloaded cleanly ... [2s] OK
- checking loading without being on the library search path ... [1s] OK
- checking use of S3 registration ... OK
- checking dependencies in R code ... OK
- checking S3 generic/method consistency ... OK
- checking replacement functions ... OK
- checking foreign function calls ... OK
- checking R code for possible problems ... [8s] OK
- checking Rd files ... [1s] OK
- checking Rd metadata ... OK
- checking Rd cross-references ... OK
- checking for missing documentation entries ... OK
- checking for code/documentation mismatches ... OK
- checking Rd \usage sections ... OK
- checking Rd contents ... OK
- checking for unstated dependencies in examples ... OK
- checking contents of 'data' directory ... OK
- checking data for non-ASCII characters ... [0s] OK
- checking LazyData ... OK
- checking data for ASCII and uncompressed saves ... OK
- checking line endings in C/C++/Fortran sources/headers ... OK
- checking pragmas in C/C++ headers and code ... OK
- checking compiled code ... OK
- checking examples ... [6s] OK
- checking differences from 'PRSim-Ex.Rout' to 'PRSim-Ex.Rout.save' ... OK
- checking for unstated dependencies in 'tests' ... OK
- checking tests ... [52s] NOTE
Running 'basic.R' [51s]
Comparing 'basic.Rout' to 'basic.Rout.save' ...294,307c294,307
< YYYY MM DD timestamp Qobs deseaonalized
< Min. :0 Min. :0 Min. :0 Min. :0 secs Min. :0 Min. :0
< 1st Qu.:0 1st Qu.:0 1st Qu.:0 1st Qu.:0 secs 1st Qu.:0 1st Qu.:0
< Median :0 Median :0 Median :0 Median :0 secs Median :0 Median :0
< Mean :0 Mean :0 Mean :0 Mean :0 secs Mean :0 Mean :0
< 3rd Qu.:0 3rd Qu.:0 3rd Qu.:0 3rd Qu.:0 secs 3rd Qu.:0 3rd Qu.:0
< Max. :0 Max. :0 Max. :0 Max. :0 secs Max. :0 Max. :0
< r1
< Min. :0
< 1st Qu.:0
< Median :0
< Mean :0
< 3rd Qu.:0
< Max. :0
---
> YYYY MM DD timestamp Qobs
> Min. :0 Min. :0 Min. :0 Length:1825 Min. :0
> 1st Qu.:0 1st Qu.:0 1st Qu.:0 Class :difftime 1st Qu.:0
> Median :0 Median :0 Median :0 Mode :numeric Median :0
> Mean :0 Mean :0 Mean :0 Mean :0
> 3rd Qu.:0 3rd Qu.:0 3rd Qu.:0 3rd Qu.:0
> Max. :0 Max. :0 Max. :0 Max. :0
> deseaonalized r1
> Min. :0 Min. :0
> 1st Qu.:0 1st Qu.:0
> Median :0 Median :0
> Mean :0 Mean :0
> 3rd Qu.:0 3rd Qu.:0
> Max. :0 Max. :0
- checking PDF version of manual ... [27s] OK
- checking HTML version of manual ... [3s] OK
- DONE
Status: 1 NOTE