- using R Under development (unstable) (2025-02-02 r87676 ucrt)
- using platform: x86_64-w64-mingw32
- R was compiled by
gcc.exe (GCC) 13.3.0
GNU Fortran (GCC) 13.3.0
- running under: Windows Server 2022 x64 (build 20348)
- using session charset: UTF-8
- checking for file 'DistatisR/DESCRIPTION' ... OK
- checking extension type ... Package
- this is package 'DistatisR' version '1.1.1'
- package encoding: UTF-8
- checking package namespace information ... OK
- checking package dependencies ... OK
- checking if this is a source package ... OK
- checking if there is a namespace ... OK
- checking for hidden files and directories ... OK
- checking for portable file names ... OK
- checking whether package 'DistatisR' can be installed ... OK
See the install log for details.
- checking installed package size ... OK
- checking package directory ... OK
- checking DESCRIPTION meta-information ... OK
- checking top-level files ... OK
- checking for left-over files ... OK
- checking index information ... OK
- checking package subdirectories ... OK
- checking code files for non-ASCII characters ... OK
- checking R files for syntax errors ... OK
- checking whether the package can be loaded ... [2s] OK
- checking whether the package can be loaded with stated dependencies ... [2s] OK
- checking whether the package can be unloaded cleanly ... [2s] OK
- checking whether the namespace can be loaded with stated dependencies ... [2s] OK
- checking whether the namespace can be unloaded cleanly ... [2s] OK
- checking loading without being on the library search path ... [3s] OK
- checking use of S3 registration ... OK
- checking dependencies in R code ... OK
- checking S3 generic/method consistency ... OK
- checking replacement functions ... OK
- checking foreign function calls ... OK
- checking R code for possible problems ... [8s] OK
- checking Rd files ... [1s] NOTE
checkRd: (-1) GraphDistatisRv.Rd:36: Lost braces
36 | If code{NULL} (default), these are
| ^
checkRd: (-1) WinesRankingRawData.Rd:22: Lost braces; missing escapes or markup?
22 | of the general composition {w/m}{a/f}{01 : 80}.
| ^
checkRd: (-1) WinesRankingRawData.Rd:22: Lost braces
22 | of the general composition {w/m}{a/f}{01 : 80}.
| ^
checkRd: (-1) WinesRankingRawData.Rd:22: Lost braces
22 | of the general composition {w/m}{a/f}{01 : 80}.
| ^
checkRd: (-1) amariSorting.Rd:44: Lost braces; missing escapes or markup?
44 | {m/f} give the gender of the assessors (male versus female),
| ^
checkRd: (-1) computePartial4Groups.Rd:23-24: Lost braces in \itemize; \value handles \item{}{} directly
checkRd: (-1) computePartial4Groups.Rd:25-26: Lost braces in \itemize; \value handles \item{}{} directly
checkRd: (-1) createCubeOfCovDis.Rd:31: Lost braces
31 | and 2) code{cubeOfDistance}
| ^
checkRd: (-1) list2CubeOfCovDis.Rd:37: Lost braces
37 | and 2) code{cubeOfDistance}
| ^
checkRd: (-1) print.F4voc.Rd:12: Lost braces; missing escapes or markup?
12 | \item{x}{a list: the data set: {str_BeersProjectiveMapping}}
| ^
checkRd: (-1) print.cubeOfCovDis.Rd:10: Lost braces; missing escapes or markup?
10 | \item{x}{a list objects of the class {cubeOfCovDis}}
| ^
checkRd: (-1) print.dataAmari.Rd:11: Lost braces; missing escapes or markup?
11 | \item{x}{a list: the data set from {amariSorting}}
| ^
checkRd: (-1) print.dataSortingSpices.Rd:11: Lost braces; missing escapes or markup?
11 | \item{x}{a list: the data set: {sortingSpices}}
| ^
checkRd: (-1) print.dataSortingWines.Rd:11: Lost braces; missing escapes or markup?
11 | \item{x}{a list: the data set: {sortingWines}}
| ^
checkRd: (-1) print.str_BeersProjectiveMapping.Rd:11: Lost braces; missing escapes or markup?
11 | \item{x}{a list: the data set: {str_BeersProjectiveMapping}}
| ^
- checking Rd metadata ... OK
- checking Rd cross-references ... NOTE
Found the following Rd file(s) with Rd \link{} targets missing package
anchors:
DistatisR-package.Rd: prettyGraphs
Please provide package anchors for all Rd \link{} targets not in the
package itself and the base packages.
- checking for missing documentation entries ... OK
- checking for code/documentation mismatches ... OK
- checking Rd \usage sections ... OK
- checking Rd contents ... OK
- checking for unstated dependencies in examples ... OK
- checking contents of 'data' directory ... OK
- checking data for non-ASCII characters ... [0s] OK
- checking LazyData ... OK
- checking data for ASCII and uncompressed saves ... OK
- checking examples ... [14s] OK
- checking PDF version of manual ... [24s] OK
- checking HTML version of manual ... [12s] OK
- DONE
Status: 2 NOTEs