- using R Under development (unstable) (2025-01-24 r87627)
- using platform: x86_64-apple-darwin20
- R was compiled by
Apple clang version 14.0.0 (clang-1400.0.29.202)
GNU Fortran (GCC) 14.2.0
- running under: macOS Ventura 13.3.1
- using session charset: UTF-8
- checking for file ‘tidyprompt/DESCRIPTION’ ... OK
- this is package ‘tidyprompt’ version ‘0.0.1’
- package encoding: UTF-8
- checking package namespace information ... OK
- checking package dependencies ... OK
- checking if this is a source package ... OK
- checking if there is a namespace ... OK
- checking for executable files ... OK
- checking for hidden files and directories ... OK
- checking for portable file names ... OK
- checking for sufficient/correct file permissions ... OK
- checking whether package ‘tidyprompt’ can be installed ... [5s/7s] OK
See the install log for details.
- checking installed package size ... OK
- checking package directory ... OK
- checking ‘build’ directory ... OK
- checking DESCRIPTION meta-information ... NOTE
Missing dependency on R >= 4.1.0 because package code uses the pipe
|> or function shorthand \(...) syntax added in R 4.1.0.
File(s) using such syntax:
‘answer_as_key_value.R’ ‘answer_as_named_list.R’ ‘answer_as_text.R’
‘answer_using_sql.R’ ‘answer_using_tools.R’ ‘chat_history.R’
‘internal_extraction.R’ ‘internal_request_llm_provider.R’
‘internal_test_helpers.R’ ‘llm_providers.R’ ‘misc_llm_verify.R’
‘persistent_chat.R’ ‘send_prompt.R’ ‘tidyprompt.R’
- checking top-level files ... OK
- checking for left-over files ... OK
- checking index information ... OK
- checking package subdirectories ... OK
- checking code files for non-ASCII characters ... OK
- checking R files for syntax errors ... OK
- checking whether the package can be loaded ... [0s/0s] OK
- checking whether the package can be loaded with stated dependencies ... [0s/0s] OK
- checking whether the package can be unloaded cleanly ... [0s/0s] OK
- checking whether the namespace can be loaded with stated dependencies ... [0s/0s] OK
- checking whether the namespace can be unloaded cleanly ... [0s/0s] OK
- checking loading without being on the library search path ... [0s/0s] OK
- checking dependencies in R code ... OK
- checking S3 generic/method consistency ... OK
- checking replacement functions ... OK
- checking foreign function calls ... OK
- checking R code for possible problems ... [4s/6s] OK
- checking Rd files ... [1s/1s] OK
- checking Rd metadata ... OK
- checking Rd cross-references ... OK
- checking for missing documentation entries ... OK
- checking for code/documentation mismatches ... OK
- checking Rd \usage sections ... OK
- checking Rd contents ... OK
- checking for unstated dependencies in examples ... OK
- checking installed files from ‘inst/doc’ ... OK
- checking files in ‘vignettes’ ... OK
- checking examples ... [1s/3s] OK
- checking for unstated dependencies in ‘tests’ ... OK
- checking tests ... [2s/6s] OK
Running ‘testthat.R’ [2s/5s]
- checking for unstated dependencies in vignettes ... OK
- checking package vignettes ... OK
- checking re-building of vignette outputs ... [13s/31s] OK
- checking PDF version of manual ... [8s/18s] OK
- DONE
Status: 1 NOTE
- using check arguments '--no-clean-on-error '