* using log directory ‘/Volumes/Builds/packages/big-sur-x86_64/results/4.5/sperrorest.Rcheck’ * using R Under development (unstable) (2025-01-24 r87627) * using platform: x86_64-apple-darwin20 * R was compiled by Apple clang version 14.0.0 (clang-1400.0.29.202) GNU Fortran (GCC) 14.2.0 * running under: macOS Ventura 13.3.1 * using session charset: UTF-8 * checking for file ‘sperrorest/DESCRIPTION’ ... OK * checking extension type ... Package * this is package ‘sperrorest’ version ‘3.0.5’ * package encoding: UTF-8 * checking package namespace information ... OK * checking package dependencies ... OK * checking if this is a source package ... OK * checking if there is a namespace ... OK * checking for executable files ... OK * checking for hidden files and directories ... OK * checking for portable file names ... OK * checking for sufficient/correct file permissions ... OK * checking whether package ‘sperrorest’ can be installed ... [5s/7s] OK See 'https://www.r-project.org/nosvn/R.check/r-devel-macos-x86_64/sperrorest-00install.html' for details. * checking installed package size ... OK * checking package directory ... OK * checking ‘build’ directory ... OK * checking DESCRIPTION meta-information ... OK * checking top-level files ... OK * checking for left-over files ... OK * checking index information ... OK * checking package subdirectories ... OK * checking code files for non-ASCII characters ... OK * checking R files for syntax errors ... OK * checking whether the package can be loaded ... [1s/1s] OK * checking whether the package can be loaded with stated dependencies ... [1s/1s] OK * checking whether the package can be unloaded cleanly ... [1s/1s] OK * checking whether the namespace can be loaded with stated dependencies ... [1s/1s] OK * checking whether the namespace can be unloaded cleanly ... [1s/1s] OK * checking loading without being on the library search path ... [1s/1s] OK * checking dependencies in R code ... OK * checking S3 generic/method consistency ... OK * checking replacement functions ... OK * checking foreign function calls ... OK * checking R code for possible problems ... [5s/7s] OK * checking Rd files ... [0s/1s] NOTE checkRd: (-1) partition_cv.Rd:36: Lost braces; missing escapes or markup? 36 | if \code{TRUE} (used internally by other {sperrorest} functions), return a | ^ checkRd: (-1) partition_cv_strat.Rd:28: Lost braces; missing escapes or markup? 28 | if \code{TRUE} (used internally by other {sperrorest} functions), return a | ^ checkRd: (-1) partition_factor.Rd:28: Lost braces; missing escapes or markup? 28 | if \code{TRUE} (used internally by other {sperrorest} functions), return a | ^ checkRd: (-1) partition_factor_cv.Rd:43: Lost braces; missing escapes or markup? 43 | if \code{TRUE} (used internally by other {sperrorest} functions), return a | ^ checkRd: (-1) partition_kmeans.Rd:41: Lost braces; missing escapes or markup? 41 | if \code{TRUE} (used internally by other {sperrorest} functions), return a | ^ checkRd: (-1) partition_tiles.Rd:78: Lost braces; missing escapes or markup? 78 | if \code{TRUE} (used internally by other {sperrorest} functions), return a | ^ checkRd: (-1) sperrorest.Rd:55: Lost braces; missing escapes or markup? 55 | \code{formula} and \code{data} argument, which are provided by {sperrorest})} | ^ checkRd: (-1) sperrorest.Rd:63: Lost braces; missing escapes or markup? 63 | {sperrorest}).} | ^ checkRd: (-1) sperrorest.Rd:135: Lost braces; missing escapes or markup? 135 | A list (object of class {sperrorest}) with (up to) six components: | ^ checkRd: (-1) sperrorest.Rd:148: Lost braces; missing escapes or markup? 148 | information about the {sperrorest} package version | ^ checkRd: (-1) summary.sperroresterror.Rd:5: Lost braces; missing escapes or markup? 5 | \title{Summarize error statistics obtained by {sperrorest}} | ^ checkRd: (-1) summary.sperrorestimportance.Rd:5: Lost braces; missing escapes or markup? 5 | \title{Summarize variable importance statistics obtained by {sperrorest}} | ^ * checking Rd metadata ... OK * checking Rd cross-references ... OK * checking for missing documentation entries ... OK * checking for code/documentation mismatches ... OK * checking Rd \usage sections ... OK * checking Rd contents ... OK * checking for unstated dependencies in examples ... OK * checking contents of ‘data’ directory ... OK * checking data for non-ASCII characters ... [0s/0s] OK * checking LazyData ... OK * checking data for ASCII and uncompressed saves ... OK * checking installed files from ‘inst/doc’ ... OK * checking files in ‘vignettes’ ... OK * checking examples ... [3s/5s] OK * checking for unstated dependencies in ‘tests’ ... OK * checking tests ... [36s/62s] OK Running ‘testthat.R’ [36s/62s] * checking for unstated dependencies in vignettes ... OK * checking package vignettes ... OK * checking re-building of vignette outputs ... [12s/19s] OK * checking PDF version of manual ... [7s/10s] OK * DONE Status: 1 NOTE * using check arguments '--no-clean-on-error ' * elapsed time (check, wall clock): 2:22