* using log directory ‘/Volumes/Builds/packages/big-sur-x86_64/results/4.5/preregr.Rcheck’ * using R Under development (unstable) (2025-01-24 r87627) * using platform: x86_64-apple-darwin20 * R was compiled by Apple clang version 14.0.0 (clang-1400.0.29.202) GNU Fortran (GCC) 14.2.0 * running under: macOS Ventura 13.3.1 * using session charset: UTF-8 * checking for file ‘preregr/DESCRIPTION’ ... OK * this is package ‘preregr’ version ‘0.2.9’ * package encoding: UTF-8 * checking package namespace information ... OK * checking package dependencies ... OK * checking if this is a source package ... OK * checking if there is a namespace ... OK * checking for executable files ... OK * checking for hidden files and directories ... OK * checking for portable file names ... OK * checking for sufficient/correct file permissions ... OK * checking whether package ‘preregr’ can be installed ... [3s/4s] OK See 'https://www.r-project.org/nosvn/R.check/r-devel-macos-x86_64/preregr-00install.html' for details. * checking installed package size ... OK * checking package directory ... OK * checking ‘build’ directory ... OK * checking DESCRIPTION meta-information ... OK * checking top-level files ... OK * checking for left-over files ... OK * checking index information ... OK * checking package subdirectories ... OK * checking code files for non-ASCII characters ... OK * checking R files for syntax errors ... OK * checking whether the package can be loaded ... [0s/0s] OK * checking whether the package can be loaded with stated dependencies ... [0s/0s] OK * checking whether the package can be unloaded cleanly ... [0s/0s] OK * checking whether the namespace can be loaded with stated dependencies ... [0s/0s] OK * checking whether the namespace can be unloaded cleanly ... [0s/0s] OK * checking loading without being on the library search path ... [0s/0s] OK * checking dependencies in R code ... OK * checking S3 generic/method consistency ... OK * checking replacement functions ... OK * checking foreign function calls ... OK * checking R code for possible problems ... [3s/4s] OK * checking Rd files ... [0s/1s] NOTE checkRd: (-1) prereg_initialize.Rd:20: Lost braces; missing escapes or markup? 20 | the (pre)registration form specification (in {preregr} format), see the | ^ checkRd: (-1) prereg_initialize.Rd:23: Lost braces; missing escapes or markup? 23 | specification, or a loaded or imported {preregr} (pre)registration form. | ^ checkRd: (-1) prereg_initialize.Rd:26: Lost braces; missing escapes or markup? 26 | For an introduction to working with {preregr} (pre)registrations, | ^ checkRd: (-1) rmd_templates.Rd:75: Lost braces; missing escapes or markup? 75 | This function creates an R Markdown template from a {preregr} | ^ checkRd: (-1) rmd_templates.Rd:77: Lost braces; missing escapes or markup? 77 | Sheet holding the (pre)registration form specification (in {preregr} | ^ checkRd: (-1) rmd_templates.Rd:81: Lost braces; missing escapes or markup? 81 | specification, or a loaded or imported {preregr} (pre)registration form. | ^ * checking Rd metadata ... OK * checking Rd cross-references ... OK * checking for missing documentation entries ... OK * checking for code/documentation mismatches ... OK * checking Rd \usage sections ... OK * checking Rd contents ... OK * checking for unstated dependencies in examples ... OK * checking contents of ‘data’ directory ... OK * checking data for non-ASCII characters ... [0s/0s] OK * checking LazyData ... OK * checking data for ASCII and uncompressed saves ... OK * checking installed files from ‘inst/doc’ ... OK * checking files in ‘vignettes’ ... OK * checking examples ... [3s/4s] OK * checking for unstated dependencies in ‘tests’ ... OK * checking tests ... [2s/9s] OK Running ‘testthat.R’ [2s/8s] * checking for unstated dependencies in vignettes ... OK * checking package vignettes ... OK * checking re-building of vignette outputs ... [54s/83s] OK * checking PDF version of manual ... [7s/9s] OK * DONE Status: 1 NOTE * using check arguments '--no-clean-on-error ' * elapsed time (check, wall clock): 2:14