* using log directory ‘/Volumes/Builds/packages/big-sur-x86_64/results/4.5/mmodely.Rcheck’ * using R Under development (unstable) (2025-01-24 r87627) * using platform: x86_64-apple-darwin20 * R was compiled by Apple clang version 14.0.0 (clang-1400.0.29.202) GNU Fortran (GCC) 14.2.0 * running under: macOS Ventura 13.3.1 * using session charset: UTF-8 * checking for file ‘mmodely/DESCRIPTION’ ... OK * this is package ‘mmodely’ version ‘0.2.5’ * checking package namespace information ... OK * checking package dependencies ... OK * checking if this is a source package ... OK * checking if there is a namespace ... OK * checking for executable files ... OK * checking for hidden files and directories ... OK * checking for portable file names ... OK * checking for sufficient/correct file permissions ... OK * checking whether package ‘mmodely’ can be installed ... [3s/4s] OK See 'https://www.r-project.org/nosvn/R.check/r-devel-macos-x86_64/mmodely-00install.html' for details. * checking installed package size ... OK * checking package directory ... OK * checking ‘build’ directory ... OK * checking DESCRIPTION meta-information ... OK * checking top-level files ... OK * checking for left-over files ... OK * checking index information ... OK * checking package subdirectories ... OK * checking code files for non-ASCII characters ... OK * checking R files for syntax errors ... OK * checking whether the package can be loaded ... [0s/1s] OK * checking whether the package can be loaded with stated dependencies ... [0s/1s] OK * checking whether the package can be unloaded cleanly ... [0s/1s] OK * checking whether the namespace can be loaded with stated dependencies ... [0s/1s] OK * checking whether the namespace can be unloaded cleanly ... [0s/1s] OK * checking loading without being on the library search path ... [0s/1s] OK * checking dependencies in R code ... OK * checking S3 generic/method consistency ... OK * checking replacement functions ... OK * checking foreign function calls ... OK * checking R code for possible problems ... [3s/4s] OK * checking Rd files ... [0s/0s] NOTE checkRd: (-1) average.fit.models.Rd:6: Lost braces; missing escapes or markup? 6 | These function takes the output of pgls.iter and uses its list of objects { model fits, optimzations (e.g.AICc)} and performs a weighted average on the ctoefficients estimated in the former by weighting by the latter. The parameters can also optionally be converted to binary by specifying "binary=FALSE" or just running the alias wraper function for assessing evidence of variable importance (Burnham & Anderson 2000). | ^ * checking Rd metadata ... OK * checking Rd cross-references ... OK * checking for missing documentation entries ... OK * checking for code/documentation mismatches ... OK * checking Rd \usage sections ... OK * checking Rd contents ... OK * checking for unstated dependencies in examples ... OK * checking sizes of PDF files under ‘inst/doc’ ... OK * checking installed files from ‘inst/doc’ ... OK * checking files in ‘vignettes’ ... OK * checking examples ... [7s/12s] OK * checking for unstated dependencies in vignettes ... OK * checking package vignettes ... OK * checking re-building of vignette outputs ... [31s/51s] OK * checking PDF version of manual ... [6s/9s] OK * DONE Status: 1 NOTE * using check arguments '--no-clean-on-error ' * elapsed time (check, wall clock): 1:40