• using R version 4.5.0 beta (2025-03-29 r88074)
  • using platform: x86_64-apple-darwin20
  • R was compiled by     Apple clang version 14.0.0 (clang-1400.0.29.202)     GNU Fortran (GCC) 14.2.0
  • running under: macOS Ventura 13.3.1
  • using session charset: UTF-8
  • checking for file ‘matrixTests/DESCRIPTION’ ... OK
  • this is package ‘matrixTests’ version ‘0.2.3’
  • package encoding: UTF-8
  • checking package namespace information ... OK
  • checking package dependencies ... OK
  • checking if this is a source package ... OK
  • checking if there is a namespace ... OK
  • checking for executable files ... OK
  • checking for hidden files and directories ... OK
  • checking for portable file names ... OK
  • checking for sufficient/correct file permissions ... OK
  • checking whether package ‘matrixTests’ can be installed ... [3s/4s] OK See the install log for details.
  • checking installed package size ... OK
  • checking package directory ... OK
  • checking DESCRIPTION meta-information ... OK
  • checking top-level files ... OK
  • checking for left-over files ... OK
  • checking index information ... OK
  • checking package subdirectories ... OK
  • checking code files for non-ASCII characters ... OK
  • checking R files for syntax errors ... OK
  • checking whether the package can be loaded ... [0s/0s] OK
  • checking whether the package can be loaded with stated dependencies ... [0s/0s] OK
  • checking whether the package can be unloaded cleanly ... [0s/0s] OK
  • checking whether the namespace can be loaded with stated dependencies ... [0s/0s] OK
  • checking whether the namespace can be unloaded cleanly ... [0s/0s] OK
  • checking loading without being on the library search path ... [0s/0s] OK
  • checking dependencies in R code ... OK
  • checking S3 generic/method consistency ... OK
  • checking replacement functions ... OK
  • checking foreign function calls ... OK
  • checking R code for possible problems ... [5s/6s] OK
  • checking Rd files ... [0s/0s] OK
  • checking Rd metadata ... OK
  • checking Rd cross-references ... OK
  • checking for missing documentation entries ... OK
  • checking for code/documentation mismatches ... OK
  • checking Rd \usage sections ... OK
  • checking Rd contents ... OK
  • checking for unstated dependencies in examples ... OK
  • checking examples ... [0s/0s] OK
  • checking for unstated dependencies in ‘tests’ ... OK
  • checking tests ... [81s/113s] OK   Running ‘andersondarling_behaviour.r’ [0s/0s]   Running ‘andersondarling_correctness.r’ [1s/1s]   Running ‘andersondarling_errors.r’ [0s/0s]   Running ‘andersondarling_warnings.r’ [0s/0s]   Running ‘bartlett_behaviour.r’ [0s/0s]   Running ‘bartlett_correctness.r’ [2s/4s]   Running ‘bartlett_errors.r’ [0s/0s]   Running ‘bartlett_warnings.r’ [0s/0s]   Running ‘brownforsythe_behaviour.r’ [0s/0s]   Running ‘brownforsythe_correctness.r’ [7s/10s]   Running ‘brownforsythe_errors.r’ [0s/0s]   Running ‘brownforsythe_warnings.r’ [0s/0s]   Running ‘cor_pearson_behaviour.r’ [0s/0s]   Running ‘cor_pearson_correctness.r’ [1s/1s]   Running ‘cor_pearson_errors.r’ [0s/0s]   Running ‘cor_pearson_warnings.r’ [0s/0s]   Running ‘cosinor_behaviour.r’ [0s/0s]   Running ‘cosinor_correctness.r’ [15s/22s]   Running ‘cosinor_errors.r’ [0s/0s]   Running ‘cosinor_warnings.r’ [0s/0s]   Running ‘f_var_behaviour.r’ [0s/0s]   Running ‘f_var_correctness.r’ [1s/1s]   Running ‘f_var_errors.r’ [0s/0s]   Running ‘f_var_warnings.r’ [0s/0s]   Running ‘flignerkilleen_behaviour.r’ [0s/0s]   Running ‘flignerkilleen_correctness.r’ [2s/3s]   Running ‘flignerkilleen_errors.r’ [0s/0s]   Running ‘flignerkilleen_warnings.r’ [0s/0s]   Running ‘jarquebera_behaviour.r’ [0s/0s]   Running ‘jarquebera_correctness.r’ [1s/1s]   Running ‘jarquebera_errors.r’ [0s/0s]   Running ‘jarquebera_warnings.r’ [0s/0s]   Running ‘kolmogorovsmirnov_twosample_behavioiur.r’ [0s/0s]   Running ‘kolmogorovsmirnov_twosample_correctness.r’ [6s/8s]   Running ‘kolmogorovsmirnov_twosample_errors.r’ [0s/0s]   Running ‘kolmogorovsmirnov_twosample_warnings.r’ [0s/0s]   Running ‘kruskalwallis_behaviour.r’ [0s/0s]   Running ‘kruskalwallis_correctness.r’ [2s/3s]   Running ‘kruskalwallis_errors.r’ [0s/0s]   Running ‘kruskalwallis_warnings.r’ [0s/0s]   Running ‘levene_behaviour.r’ [0s/0s]   Running ‘levene_correctness.r’ [6s/8s]   Running ‘levene_errors.r’ [0s/0s]   Running ‘levene_warnings.r’ [0s/0s]   Running ‘oneway_equalvar_behaviour.r’ [0s/0s]   Running ‘oneway_equalvar_correctness.r’ [4s/5s]   Running ‘oneway_equalvar_errors.r’ [0s/0s]   Running ‘oneway_equalvar_warnings.r’ [0s/0s]   Running ‘oneway_welch_behaviour.r’ [0s/0s]   Running ‘oneway_welch_correctness.r’ [2s/4s]   Running ‘oneway_welch_errors.r’ [0s/0s]   Running ‘oneway_welch_warnings.r’ [0s/0s]   Running ‘t_equalvar_behaviour.r’ [0s/0s]   Running ‘t_equalvar_correctness.r’ [1s/1s]   Running ‘t_equalvar_errors.r’ [0s/0s]   Running ‘t_equalvar_warnings.r’ [0s/0s]   Running ‘t_onesample_behaviour.r’ [0s/0s]   Running ‘t_onesample_correctness.r’ [1s/1s]   Running ‘t_onesample_errors.r’ [0s/0s]   Running ‘t_onesample_warnings.r’ [0s/0s]   Running ‘t_paired_behaviour.r’ [0s/0s]   Running ‘t_paired_correctness.r’ [1s/1s]   Running ‘t_paired_errors.r’ [0s/0s]   Running ‘t_paired_warnings.r’ [0s/0s]   Running ‘t_welch_behaviour.r’ [0s/0s]   Running ‘t_welch_correctness.r’ [1s/1s]   Running ‘t_welch_errors.r’ [0s/0s]   Running ‘t_welch_warnings.r’ [0s/0s]   Running ‘waerden_behaviour.r’ [0s/0s]   Running ‘waerden_correctness.r’ [2s/3s]   Running ‘waerden_errors.r’ [0s/0s]   Running ‘waerden_warnings.r’ [0s/0s]   Running ‘wilcoxon_onesample_behaviour.r’ [0s/0s]   Running ‘wilcoxon_onesample_correctness.r’ [2s/3s]   Running ‘wilcoxon_onesample_errors.r’ [0s/0s]   Running ‘wilcoxon_onesample_warnings.r’ [0s/0s]   Running ‘wilcoxon_paired_behaviour.r’ [0s/0s]   Running ‘wilcoxon_paired_correctness.r’ [2s/3s]   Running ‘wilcoxon_paired_errors.r’ [0s/0s]   Running ‘wilcoxon_paired_warnings.r’ [0s/0s]   Running ‘wilcoxon_twosample_behaviour.r’ [0s/0s]   Running ‘wilcoxon_twosample_correctness.r’ [5s/6s]   Running ‘wilcoxon_twosample_errors.r’ [0s/0s]   Running ‘wilcoxon_twosample_warnings.r’ [0s/0s]
  • checking PDF version of manual ... [6s/9s] OK
  • DONE Status: OK
  • using check arguments '--no-clean-on-error '