* using log directory ‘/Volumes/Builds/packages/big-sur-x86_64/results/4.5/adegraphics.Rcheck’ * using R Under development (unstable) (2025-01-24 r87627) * using platform: x86_64-apple-darwin20 * R was compiled by Apple clang version 14.0.0 (clang-1400.0.29.202) GNU Fortran (GCC) 14.2.0 * running under: macOS Ventura 13.3.1 * using session charset: UTF-8 * checking for file ‘adegraphics/DESCRIPTION’ ... OK * checking extension type ... Package * this is package ‘adegraphics’ version ‘1.0-21’ * package encoding: UTF-8 * checking package namespace information ... OK * checking package dependencies ... OK * checking if this is a source package ... OK * checking if there is a namespace ... OK * checking for executable files ... OK * checking for hidden files and directories ... OK * checking for portable file names ... OK * checking for sufficient/correct file permissions ... OK * checking whether package ‘adegraphics’ can be installed ... [18s/41s] OK See 'https://www.r-project.org/nosvn/R.check/r-devel-macos-x86_64/adegraphics-00install.html' for details. * checking installed package size ... INFO installed size is 5.3Mb sub-directories of 1Mb or more: R 2.0Mb doc 2.7Mb * checking package directory ... OK * checking ‘build’ directory ... OK * checking DESCRIPTION meta-information ... OK * checking top-level files ... OK * checking for left-over files ... OK * checking index information ... OK * checking package subdirectories ... OK * checking code files for non-ASCII characters ... OK * checking R files for syntax errors ... OK * checking whether the package can be loaded ... [1s/1s] OK * checking whether the package can be loaded with stated dependencies ... [1s/1s] OK * checking whether the package can be unloaded cleanly ... [1s/1s] OK * checking whether the namespace can be loaded with stated dependencies ... [1s/1s] OK * checking whether the namespace can be unloaded cleanly ... [1s/1s] OK * checking loading without being on the library search path ... [1s/1s] OK * checking whether startup messages can be suppressed ... [1s/1s] OK * checking dependencies in R code ... OK * checking S3 generic/method consistency ... OK * checking replacement functions ... OK * checking foreign function calls ... OK * checking R code for possible problems ... [22s/35s] OK * checking Rd files ... [2s/3s] OK * checking Rd metadata ... OK * checking Rd cross-references ... OK * checking for missing documentation entries ... OK * checking for code/documentation mismatches ... OK * checking Rd \usage sections ... OK * checking Rd contents ... OK * checking for unstated dependencies in examples ... OK * checking installed files from ‘inst/doc’ ... OK * checking files in ‘vignettes’ ... OK * checking examples ... [16s/35s] OK * checking for unstated dependencies in ‘tests’ ... OK * checking tests ... [77s/235s] OK Running ‘add.R’ [9s/25s] Running ‘ade4-functions.R’ [13s/40s] Running ‘adegraphics.R’ [3s/11s] Running ‘nbgraph.R’ [2s/5s] Running ‘panelSpatial.R’ [2s/8s] Running ‘parameter.R’ [3s/9s] Running ‘s.arrow.R’ [1s/5s] Running ‘s.class.R’ [2s/5s] Running ‘s.corcircle.R’ [1s/3s] Running ‘s.density.R’ [3s/10s] Running ‘s.distri.R’ [2s/5s] Running ‘s.image.R’ [3s/10s] Running ‘s.label.R’ [2s/5s] Running ‘s.logo.R’ [1s/3s] Running ‘s.match.R’ [1s/4s] Running ‘s.traject.R’ [1s/3s] Running ‘s.value.R’ [3s/8s] Running ‘s1d.barchart.R’ [2s/5s] Running ‘s1d.boxplot.R’ [2s/6s] Running ‘s1d.class.R’ [1s/4s] Running ‘s1d.density.R’ [2s/5s] Running ‘s1d.distri.R’ [2s/5s] Running ‘s1d.gauss.R’ [2s/6s] Running ‘s1d.hist.R’ [6s/19s] Running ‘s1d.label.R’ [1s/3s] Running ‘s1d.match.R’ [1s/3s] Running ‘table.image.R’ [1s/4s] Running ‘table.value.R’ [2s/6s] Running ‘triangle.R’ [3s/8s] * checking for unstated dependencies in vignettes ... OK * checking package vignettes ... OK * checking re-building of vignette outputs ... [24s/54s] OK * checking PDF version of manual ... [11s/16s] OK * DONE Status: OK * using check arguments '--no-clean-on-error ' * elapsed time (check, wall clock): 7:42