* using log directory ‘/Volumes/Builds/packages/big-sur-x86_64/results/4.5/PreProcess.Rcheck’ * using R Under development (unstable) (2025-01-24 r87627) * using platform: x86_64-apple-darwin20 * R was compiled by Apple clang version 14.0.0 (clang-1400.0.29.202) GNU Fortran (GCC) 14.2.0 * running under: macOS Ventura 13.3.1 * using session charset: UTF-8 * checking for file ‘PreProcess/DESCRIPTION’ ... OK * this is package ‘PreProcess’ version ‘3.1.7’ * checking package namespace information ... OK * checking package dependencies ... OK * checking if this is a source package ... OK * checking if there is a namespace ... OK * checking for executable files ... OK * checking for hidden files and directories ... OK * checking for portable file names ... OK * checking for sufficient/correct file permissions ... OK * checking whether package ‘PreProcess’ can be installed ... [2s/3s] OK See 'https://www.r-project.org/nosvn/R.check/r-devel-macos-x86_64/PreProcess-00install.html' for details. * checking installed package size ... OK * checking package directory ... OK * checking ‘build’ directory ... OK * checking DESCRIPTION meta-information ... OK * checking top-level files ... OK * checking for left-over files ... OK * checking index information ... OK * checking package subdirectories ... OK * checking code files for non-ASCII characters ... OK * checking R files for syntax errors ... OK * checking whether the package can be loaded ... [0s/0s] OK * checking whether the package can be loaded with stated dependencies ... [0s/0s] OK * checking whether the package can be unloaded cleanly ... [0s/0s] OK * checking whether the namespace can be loaded with stated dependencies ... [0s/0s] OK * checking whether the namespace can be unloaded cleanly ... [0s/0s] OK * checking loading without being on the library search path ... [0s/0s] OK * checking dependencies in R code ... OK * checking S3 generic/method consistency ... OK * checking replacement functions ... OK * checking foreign function calls ... OK * checking R code for possible problems ... [2s/2s] OK * checking Rd files ... [0s/0s] OK * checking Rd metadata ... OK * checking Rd cross-references ... OK * checking for missing documentation entries ... OK * checking for code/documentation mismatches ... OK * checking Rd \usage sections ... OK * checking Rd contents ... OK * checking for unstated dependencies in examples ... OK * checking sizes of PDF files under ‘inst/doc’ ... OK * checking installed files from ‘inst/doc’ ... OK * checking files in ‘vignettes’ ... OK * checking examples ... [2s/3s] OK * checking for unstated dependencies in ‘tests’ ... OK * checking tests ... [4s/5s] NOTE Running ‘test01-utility.R’ [1s/1s] Comparing ‘test01-utility.Rout’ to ‘test01-utility.Rout.save’ ... OK Running ‘test03-channel-type.R’ [0s/0s] Comparing ‘test03-channel-type.Rout’ to ‘test03-channel-type.Rout.save’ ... OK Running ‘test04-channel.R’ [1s/1s] Comparing ‘test04-channel.Rout’ to ‘test04-channel.Rout.save’ ...42c42 < 0.2436 280.0141 675.7335 987.6435 1355.5114 9630.5918 --- > 0.244 280.014 675.734 987.643 1355.511 9630.592 Running ‘test05-processor.R’ [1s/1s] Comparing ‘test05-processor.Rout’ to ‘test05-processor.Rout.save’ ... OK Running ‘test06-pipeline.R’ [1s/1s] Comparing ‘test06-pipeline.Rout’ to ‘test06-pipeline.Rout.save’ ... OK Running ‘test07-complete-channel.R’ [1s/1s] Comparing ‘test07-complete-channel.Rout’ to ‘test07-complete-channel.Rout.save’ ...22,27c22,27 < Min. :6.560e-02 Min. :33.61 Min. : 0.0 < 1st Qu.:2.855e+02 1st Qu.:55.95 1st Qu.: 225.7 < Median :6.874e+02 Median :60.01 Median : 626.7 < Mean :1.003e+03 Mean :59.99 Mean : 944.6 < 3rd Qu.:1.396e+03 3rd Qu.:64.07 3rd Qu.: 1336.5 < Max. :1.178e+04 Max. :85.24 Max. :11718.9 --- > Min. : 0.066 Min. :33.61 Min. : 0.0 > 1st Qu.: 285.474 1st Qu.:55.95 1st Qu.: 225.7 > Median : 687.351 Median :60.01 Median : 626.7 > Mean : 1002.718 Mean :59.99 Mean : 944.6 > 3rd Qu.: 1395.736 3rd Qu.:64.07 3rd Qu.: 1336.5 > Max. :11776.787 Max. :85.24 Max. :11718.9 * checking for unstated dependencies in vignettes ... OK * checking package vignettes ... OK * checking re-building of vignette outputs ... [11s/16s] OK * checking PDF version of manual ... [6s/8s] OK * DONE Status: 1 NOTE * using check arguments '--no-clean-on-error ' * elapsed time (check, wall clock): 0:53