* using log directory ‘/Volumes/Builds/packages/big-sur-x86_64/results/4.5/Polychrome.Rcheck’ * using R Under development (unstable) (2025-01-24 r87627) * using platform: x86_64-apple-darwin20 * R was compiled by Apple clang version 14.0.0 (clang-1400.0.29.202) GNU Fortran (GCC) 14.2.0 * running under: macOS Ventura 13.3.1 * using session charset: UTF-8 * checking for file ‘Polychrome/DESCRIPTION’ ... OK * this is package ‘Polychrome’ version ‘1.5.1’ * checking package namespace information ... OK * checking package dependencies ... OK * checking if this is a source package ... OK * checking if there is a namespace ... OK * checking for executable files ... OK * checking for hidden files and directories ... OK * checking for portable file names ... OK * checking for sufficient/correct file permissions ... OK * checking whether package ‘Polychrome’ can be installed ... [2s/3s] OK See 'https://www.r-project.org/nosvn/R.check/r-devel-macos-x86_64/Polychrome-00install.html' for details. * checking installed package size ... OK * checking package directory ... OK * checking ‘build’ directory ... OK * checking DESCRIPTION meta-information ... OK * checking top-level files ... OK * checking for left-over files ... OK * checking index information ... OK * checking package subdirectories ... OK * checking code files for non-ASCII characters ... OK * checking R files for syntax errors ... OK * checking whether the package can be loaded ... [0s/0s] OK * checking whether the package can be loaded with stated dependencies ... [0s/0s] OK * checking whether the package can be unloaded cleanly ... [0s/0s] OK * checking whether the namespace can be loaded with stated dependencies ... [0s/0s] OK * checking whether the namespace can be unloaded cleanly ... [0s/0s] OK * checking loading without being on the library search path ... [0s/0s] OK * checking dependencies in R code ... OK * checking S3 generic/method consistency ... OK * checking replacement functions ... OK * checking foreign function calls ... OK * checking R code for possible problems ... [2s/2s] OK * checking Rd files ... [0s/0s] OK * checking Rd metadata ... OK * checking Rd cross-references ... OK * checking for missing documentation entries ... OK * checking for code/documentation mismatches ... OK * checking Rd \usage sections ... OK * checking Rd contents ... OK * checking for unstated dependencies in examples ... OK * checking contents of ‘data’ directory ... OK * checking data for non-ASCII characters ... [0s/0s] OK * checking data for ASCII and uncompressed saves ... OK * checking installed files from ‘inst/doc’ ... OK * checking files in ‘vignettes’ ... OK * checking examples ... [2s/3s] OK * checking for unstated dependencies in ‘tests’ ... OK * checking tests ... [3s/3s] NOTE Running ‘test-07-member.R’ [0s/0s] Running ‘testDeficit.R’ [2s/2s] Comparing ‘testDeficit.Rout’ to ‘testDeficit.Rout.save’ ...100,105c100,105 < Min. :-8.190e-06 Min. :-0.0278874 Min. :-6.800e-03 < 1st Qu.: 0.000e+00 1st Qu.:-0.0000158 1st Qu.:-6.298e-06 < Median : 0.000e+00 Median : 0.0000000 Median : 4.575e-03 < Mean : 1.111e-02 Mean :-0.0011243 Mean : 1.963e-02 < 3rd Qu.: 0.000e+00 3rd Qu.: 0.0000000 3rd Qu.: 4.788e-02 < Max. : 4.000e-01 Max. : 0.0316256 Max. : 5.996e-02 --- > Min. :-0.0000082 Min. :-2.789e-02 Min. :-0.0067999 > 1st Qu.: 0.0000000 1st Qu.:-1.579e-05 1st Qu.:-0.0000063 > Median : 0.0000000 Median : 0.000e+00 Median : 0.0045747 > Mean : 0.0111090 Mean :-1.124e-03 Mean : 0.0196263 > 3rd Qu.: 0.0000000 3rd Qu.: 0.000e+00 3rd Qu.: 0.0478768 > Max. : 0.3999611 Max. : 3.163e-02 Max. : 0.0599644 Running ‘testXform.R’ [0s/0s] Comparing ‘testXform.Rout’ to ‘testXform.Rout.save’ ... OK * checking for unstated dependencies in vignettes ... OK * checking package vignettes ... OK * checking re-building of vignette outputs ... [32s/50s] OK * checking PDF version of manual ... [6s/8s] OK * DONE Status: 1 NOTE * using check arguments '--no-clean-on-error ' * elapsed time (check, wall clock): 1:31