* using log directory ‘/Volumes/Builds/packages/big-sur-x86_64/results/4.5/ACSWR.Rcheck’ * using R Under development (unstable) (2025-01-24 r87627) * using platform: x86_64-apple-darwin20 * R was compiled by Apple clang version 14.0.0 (clang-1400.0.29.202) GNU Fortran (GCC) 14.2.0 * running under: macOS Ventura 13.3.1 * using session charset: UTF-8 * checking for file ‘ACSWR/DESCRIPTION’ ... OK * checking extension type ... Package * this is package ‘ACSWR’ version ‘1.0’ * checking package namespace information ... OK * checking package dependencies ... OK * checking if this is a source package ... OK * checking if there is a namespace ... OK * checking for executable files ... OK * checking for hidden files and directories ... OK * checking for portable file names ... OK * checking for sufficient/correct file permissions ... OK * checking whether package ‘ACSWR’ can be installed ... [2s/4s] OK See 'https://www.r-project.org/nosvn/R.check/r-devel-macos-x86_64/ACSWR-00install.html' for details. * checking installed package size ... OK * checking package directory ... OK * checking DESCRIPTION meta-information ... OK * checking top-level files ... OK * checking for left-over files ... OK * checking index information ... OK * checking package subdirectories ... OK * checking code files for non-ASCII characters ... OK * checking R files for syntax errors ... OK * checking whether the package can be loaded ... [0s/0s] OK * checking whether the package can be loaded with stated dependencies ... [0s/0s] OK * checking whether the package can be unloaded cleanly ... [0s/0s] OK * checking whether the namespace can be loaded with stated dependencies ... [0s/0s] OK * checking whether the namespace can be unloaded cleanly ... [0s/0s] OK * checking loading without being on the library search path ... [0s/0s] OK * checking dependencies in R code ... OK * checking S3 generic/method consistency ... OK * checking replacement functions ... OK * checking foreign function calls ... OK * checking R code for possible problems ... [2s/4s] OK * checking Rd files ... [1s/1s] NOTE checkRd: (-1) Ehrenfest.Rd:19: Lost braces 19 | In this experiment there are i balls in Urn I, and remaining 2n-i balls in Urn II. Then at any instance, the probability of selecting a ball from Urn I and placing it in Urn II is i/2n, and the other way of placing a ball from Urn II to Urn I is (2n-i)/2n. At each instant we let the number i of balls in the Urn I to be the state of the system. Thus, the state space is S = { 0, 1, 2, \ldots, 2n }. Then we can pass from state i only to either of the states i-1 or i+1. | ^ checkRd: (-1) Ehrenfest.Rd:20: Lost braces 20 | Here, S = {0, 1, \ldots, 2n}. | ^ * checking Rd metadata ... OK * checking Rd cross-references ... OK * checking for missing documentation entries ... OK * checking for code/documentation mismatches ... OK * checking Rd \usage sections ... OK * checking Rd contents ... OK * checking for unstated dependencies in examples ... OK * checking contents of ‘data’ directory ... OK * checking data for non-ASCII characters ... [0s/1s] OK * checking data for ASCII and uncompressed saves ... OK * checking examples ... [2s/6s] OK * checking PDF version of manual ... [7s/15s] OK * DONE Status: 1 NOTE * using check arguments '--no-clean-on-error ' * elapsed time (check, wall clock): 1:14