• using R version 4.5.0 beta (2025-03-29 r88069)
  • using platform: aarch64-apple-darwin20
  • R was compiled by     Apple clang version 14.0.0 (clang-1400.0.29.202)     GNU Fortran (GCC) 14.2.0
  • running under: macOS Ventura 13.4
  • using session charset: UTF-8
  • checking for file ‘twfy/DESCRIPTION’ ... OK
  • this is package ‘twfy’ version ‘0.1.0’
  • package encoding: UTF-8
  • checking package namespace information ... OK
  • checking package dependencies ... OK
  • checking if this is a source package ... OK
  • checking if there is a namespace ... OK
  • checking for executable files ... OK
  • checking for hidden files and directories ... OK
  • checking for portable file names ... OK
  • checking for sufficient/correct file permissions ... OK
  • checking whether package ‘twfy’ can be installed ... [1s/2s] OK See the install log for details.
  • checking installed package size ... OK
  • checking package directory ... OK
  • checking ‘build’ directory ... OK
  • checking DESCRIPTION meta-information ... OK
  • checking top-level files ... OK
  • checking for left-over files ... OK
  • checking index information ... OK
  • checking package subdirectories ... OK
  • checking code files for non-ASCII characters ... OK
  • checking R files for syntax errors ... OK
  • checking whether the package can be loaded ... [0s/0s] OK
  • checking whether the package can be loaded with stated dependencies ... [0s/0s] OK
  • checking whether the package can be unloaded cleanly ... [0s/0s] OK
  • checking whether the namespace can be loaded with stated dependencies ... [0s/0s] OK
  • checking whether the namespace can be unloaded cleanly ... [0s/0s] OK
  • checking loading without being on the library search path ... [0s/0s] OK
  • checking dependencies in R code ... OK
  • checking S3 generic/method consistency ... OK
  • checking replacement functions ... OK
  • checking foreign function calls ... OK
  • checking R code for possible problems ... [1s/2s] OK
  • checking Rd files ... [0s/0s] NOTE checkRd: (-1) getComments.Rd:25: Lost braces in \itemize; \value handles \item{}{} directly checkRd: (-1) getComments.Rd:26: Lost braces in \itemize; \value handles \item{}{} directly checkRd: (-1) getComments.Rd:28: Lost braces in \itemize; \value handles \item{}{} directly checkRd: (-1) getComments.Rd:29: Lost braces in \itemize; \value handles \item{}{} directly checkRd: (-1) getComments.Rd:32: Lost braces in \itemize; \value handles \item{}{} directly checkRd: (-1) getComments.Rd:33: Lost braces in \itemize; \value handles \item{}{} directly checkRd: (-1) getComments.Rd:34: Lost braces in \itemize; \value handles \item{}{} directly checkRd: (-1) getComments.Rd:35: Lost braces in \itemize; \value handles \item{}{} directly checkRd: (-1) getConstituency.Rd:19: Lost braces in \itemize; \value handles \item{}{} directly checkRd: (-1) getConstituency.Rd:20: Lost braces in \itemize; \value handles \item{}{} directly checkRd: (-1) getConstituency.Rd:21: Lost braces in \itemize; \value handles \item{}{} directly checkRd: (-1) getConstituency.Rd:22: Lost braces in \itemize; \value handles \item{}{} directly checkRd: (-1) getConstituency.Rd:23: Lost braces in \itemize; \value handles \item{}{} directly checkRd: (-1) getConstituency.Rd:24: Lost braces in \itemize; \value handles \item{}{} directly checkRd: (-1) getGeometry.Rd:14: Lost braces in \itemize; \value handles \item{}{} directly checkRd: (-1) getGeometry.Rd:15: Lost braces in \itemize; \value handles \item{}{} directly checkRd: (-1) getGeometry.Rd:16: Lost braces in \itemize; \value handles \item{}{} directly checkRd: (-1) getGeometry.Rd:17: Lost braces in \itemize; \value handles \item{}{} directly checkRd: (-1) getGeometry.Rd:18: Lost braces in \itemize; \value handles \item{}{} directly checkRd: (-1) getGeometry.Rd:19: Lost braces in \itemize; \value handles \item{}{} directly checkRd: (-1) getGeometry.Rd:20: Lost braces in \itemize; \value handles \item{}{} directly checkRd: (-1) getGeometry.Rd:21: Lost braces in \itemize; \value handles \item{}{} directly checkRd: (-1) getLord.Rd:15: Lost braces in \itemize; \value handles \item{}{} directly checkRd: (-1) getLord.Rd:16-17: Lost braces in \itemize; \value handles \item{}{} directly checkRd: (-1) getLord.Rd:18: Lost braces in \itemize; \value handles \item{}{} directly checkRd: (-1) getLord.Rd:19: Lost braces in \itemize; \value handles \item{}{} directly checkRd: (-1) getLord.Rd:20: Lost braces in \itemize; \value handles \item{}{} directly checkRd: (-1) getLord.Rd:21-22: Lost braces in \itemize; \value handles \item{}{} directly checkRd: (-1) getLord.Rd:23: Lost braces in \itemize; \value handles \item{}{} directly checkRd: (-1) getLord.Rd:24: Lost braces in \itemize; \value handles \item{}{} directly checkRd: (-1) getLord.Rd:25: Lost braces in \itemize; \value handles \item{}{} directly checkRd: (-1) getLord.Rd:26: Lost braces in \itemize; \value handles \item{}{} directly checkRd: (-1) getLord.Rd:27: Lost braces in \itemize; \value handles \item{}{} directly checkRd: (-1) getLord.Rd:28: Lost braces in \itemize; \value handles \item{}{} directly checkRd: (-1) getLord.Rd:29: Lost braces in \itemize; \value handles \item{}{} directly checkRd: (-1) getLord.Rd:30: Lost braces in \itemize; \value handles \item{}{} directly checkRd: (-1) getLord.Rd:31: Lost braces in \itemize; \value handles \item{}{} directly checkRd: (-1) getLords.Rd:19: Lost braces in \itemize; \value handles \item{}{} directly checkRd: (-1) getLords.Rd:20: Lost braces in \itemize; \value handles \item{}{} directly checkRd: (-1) getLords.Rd:21: Lost braces in \itemize; \value handles \item{}{} directly checkRd: (-1) getLords.Rd:22: Lost braces in \itemize; \value handles \item{}{} directly checkRd: (-1) getLords.Rd:23-32: Lost braces in \itemize; \value handles \item{}{} directly checkRd: (-1) getLords.Rd:26: Lost braces in \itemize; \value handles \item{}{} directly checkRd: (-1) getLords.Rd:27: Lost braces in \itemize; \value handles \item{}{} directly checkRd: (-1) getLords.Rd:28: Lost braces in \itemize; \value handles \item{}{} directly checkRd: (-1) getLords.Rd:29-30: Lost braces in \itemize; \value handles \item{}{} directly checkRd: (-1) getMLA.Rd:23: Lost braces in \itemize; \value handles \item{}{} directly checkRd: (-1) getMLA.Rd:24: Lost braces in \itemize; \value handles \item{}{} directly checkRd: (-1) getMLA.Rd:25: Lost braces in \itemize; \value handles \item{}{} directly checkRd: (-1) getMLA.Rd:26: Lost braces in \itemize; \value handles \item{}{} directly checkRd: (-1) getMLA.Rd:27: Lost braces in \itemize; \value handles \item{}{} directly checkRd: (-1) getMLA.Rd:28: Lost braces in \itemize; \value handles \item{}{} directly checkRd: (-1) getMLA.Rd:29: Lost braces in \itemize; \value handles \item{}{} directly checkRd: (-1) getMLA.Rd:30: Lost braces in \itemize; \value handles \item{}{} directly checkRd: (-1) getMLA.Rd:31: Lost braces in \itemize; \value handles \item{}{} directly checkRd: (-1) getMLA.Rd:32: Lost braces in \itemize; \value handles \item{}{} directly checkRd: (-1) getMLA.Rd:33: Lost braces in \itemize; \value handles \item{}{} directly checkRd: (-1) getMLA.Rd:34: Lost braces in \itemize; \value handles \item{}{} directly checkRd: (-1) getMLA.Rd:35: Lost braces in \itemize; \value handles \item{}{} directly checkRd: (-1) getMLA.Rd:36: Lost braces in \itemize; \value handles \item{}{} directly checkRd: (-1) getMLA.Rd:37: Lost braces in \itemize; \value handles \item{}{} directly checkRd: (-1) getMLA.Rd:38: Lost braces in \itemize; \value handles \item{}{} directly checkRd: (-1) getMLA.Rd:39: Lost braces in \itemize; \value handles \item{}{} directly checkRd: (-1) getMLA.Rd:40: Lost braces in \itemize; \value handles \item{}{} directly checkRd: (-1) getMLAs.Rd:18: Lost braces in \itemize; \value handles \item{}{} directly checkRd: (-1) getMLAs.Rd:19: Lost braces in \itemize; \value handles \item{}{} directly checkRd: (-1) getMLAs.Rd:20: Lost braces in \itemize; \value handles \item{}{} directly checkRd: (-1) getMLAs.Rd:21: Lost braces in \itemize; \value handles \item{}{} directly checkRd: (-1) getMLAs.Rd:22: Lost braces in \itemize; \value handles \item{}{} directly checkRd: (-1) getMP.Rd:23: Lost braces in \itemize; \value handles \item{}{} directly checkRd: (-1) getMP.Rd:24: Lost braces in \itemize; \value handles \item{}{} directly checkRd: (-1) getMP.Rd:25: Lost braces in \itemize; \value handles \item{}{} directly checkRd: (-1) getMP.Rd:26: Lost braces in \itemize; \value handles \item{}{} directly checkRd: (-1) getMP.Rd:27: Lost braces in \itemize; \value handles \item{}{} directly checkRd: (-1) getMP.Rd:28: Lost braces in \itemize; \value handles \item{}{} directly checkRd: (-1) getMP.Rd:29: Lost braces in \itemize; \value handles \item{}{} directly checkRd: (-1) getMP.Rd:30: Lost braces in \itemize; \value handles \item{}{} directly checkRd: (-1) getMP.Rd:31: Lost braces in \itemize; \value handles \item{}{} directly checkRd: (-1) getMP.Rd:32: Lost braces in \itemize; \value handles \item{}{} directly checkRd: (-1) getMP.Rd:33: Lost braces in \itemize; \value handles \item{}{} directly checkRd: (-1) getMP.Rd:34: Lost braces in \itemize; \value handles \item{}{} directly checkRd: (-1) getMP.Rd:35: Lost braces in \itemize; \value handles \item{}{} directly checkRd: (-1) getMP.Rd:36: Lost braces in \itemize; \value handles \item{}{} directly checkRd: (-1) getMP.Rd:37: Lost braces in \itemize; \value handles \item{}{} directly checkRd: (-1) getMP.Rd:38: Lost braces in \itemize; \value handles \item{}{} directly checkRd: (-1) getMP.Rd:39: Lost braces in \itemize; \value handles \item{}{} directly checkRd: (-1) getMP.Rd:40: Lost braces in \itemize; \value handles \item{}{} directly checkRd: (-1) getMPs.Rd:18: Lost braces in \itemize; \value handles \item{}{} directly checkRd: (-1) getMPs.Rd:19: Lost braces in \itemize; \value handles \item{}{} directly checkRd: (-1) getMPs.Rd:20: Lost braces in \itemize; \value handles \item{}{} directly checkRd: (-1) getMPs.Rd:21: Lost braces in \itemize; \value handles \item{}{} directly checkRd: (-1) getMPs.Rd:22: Lost braces in \itemize; \value handles \item{}{} directly checkRd: (-1) getMPs.Rd:23-32: Lost braces in \itemize; \value handles \item{}{} directly checkRd: (-1) getMPs.Rd:26: Lost braces in \itemize; \value handles \item{}{} directly checkRd: (-1) getMPs.Rd:27: Lost braces in \itemize; \value handles \item{}{} directly checkRd: (-1) getMPs.Rd:28: Lost braces in \itemize; \value handles \item{}{} directly checkRd: (-1) getMPs.Rd:29-30: Lost braces in \itemize; \value handles \item{}{} directly checkRd: (-1) getMSP.Rd:23: Lost braces in \itemize; \value handles \item{}{} directly checkRd: (-1) getMSP.Rd:24: Lost braces in \itemize; \value handles \item{}{} directly checkRd: (-1) getMSP.Rd:25: Lost braces in \itemize; \value handles \item{}{} directly checkRd: (-1) getMSP.Rd:26: Lost braces in \itemize; \value handles \item{}{} directly checkRd: (-1) getMSP.Rd:27: Lost braces in \itemize; \value handles \item{}{} directly checkRd: (-1) getMSP.Rd:28: Lost braces in \itemize; \value handles \item{}{} directly checkRd: (-1) getMSP.Rd:29: Lost braces in \itemize; \value handles \item{}{} directly checkRd: (-1) getMSP.Rd:30: Lost braces in \itemize; \value handles \item{}{} directly checkRd: (-1) getMSP.Rd:31: Lost braces in \itemize; \value handles \item{}{} directly checkRd: (-1) getMSP.Rd:32: Lost braces in \itemize; \value handles \item{}{} directly checkRd: (-1) getMSP.Rd:33: Lost braces in \itemize; \value handles \item{}{} directly checkRd: (-1) getMSP.Rd:34: Lost braces in \itemize; \value handles \item{}{} directly checkRd: (-1) getMSP.Rd:35: Lost braces in \itemize; \value handles \item{}{} directly checkRd: (-1) getMSP.Rd:36: Lost braces in \itemize; \value handles \item{}{} directly checkRd: (-1) getMSP.Rd:37: Lost braces in \itemize; \value handles \item{}{} directly checkRd: (-1) getMSP.Rd:38: Lost braces in \itemize; \value handles \item{}{} directly checkRd: (-1) getMSP.Rd:39: Lost braces in \itemize; \value handles \item{}{} directly checkRd: (-1) getMSP.Rd:40: Lost braces in \itemize; \value handles \item{}{} directly checkRd: (-1) getMSPs.Rd:18: Lost braces in \itemize; \value handles \item{}{} directly checkRd: (-1) getMSPs.Rd:19: Lost braces in \itemize; \value handles \item{}{} directly checkRd: (-1) getMSPs.Rd:20: Lost braces in \itemize; \value handles \item{}{} directly checkRd: (-1) getMSPs.Rd:21: Lost braces in \itemize; \value handles \item{}{} directly checkRd: (-1) getMSPs.Rd:22: Lost braces in \itemize; \value handles \item{}{} directly checkRd: (-1) getPerson.Rd:15: Lost braces in \itemize; \value handles \item{}{} directly checkRd: (-1) getPerson.Rd:16: Lost braces in \itemize; \value handles \item{}{} directly checkRd: (-1) getPerson.Rd:17: Lost braces in \itemize; \value handles \item{}{} directly checkRd: (-1) getPerson.Rd:18: Lost braces in \itemize; \value handles \item{}{} directly checkRd: (-1) getPerson.Rd:19: Lost braces in \itemize; \value handles \item{}{} directly checkRd: (-1) getPerson.Rd:20: Lost braces in \itemize; \value handles \item{}{} directly checkRd: (-1) getPerson.Rd:21: Lost braces in \itemize; \value handles \item{}{} directly checkRd: (-1) getPerson.Rd:22: Lost braces in \itemize; \value handles \item{}{} directly checkRd: (-1) getPerson.Rd:23: Lost braces in \itemize; \value handles \item{}{} directly checkRd: (-1) getPerson.Rd:24: Lost braces in \itemize; \value handles \item{}{} directly checkRd: (-1) getPerson.Rd:25: Lost braces in \itemize; \value handles \item{}{} directly checkRd: (-1) getPerson.Rd:26: Lost braces in \itemize; \value handles \item{}{} directly checkRd: (-1) getPerson.Rd:27: Lost braces in \itemize; \value handles \item{}{} directly checkRd: (-1) getPerson.Rd:28: Lost braces in \itemize; \value handles \item{}{} directly checkRd: (-1) getWrans.Rd:27: Lost braces in \itemize; \value handles \item{}{} directly checkRd: (-1) getWrans.Rd:28: Lost braces in \itemize; \value handles \item{}{} directly
  • checking Rd metadata ... OK
  • checking Rd cross-references ... OK
  • checking for missing documentation entries ... OK
  • checking for code/documentation mismatches ... OK
  • checking Rd \usage sections ... OK
  • checking Rd contents ... OK
  • checking for unstated dependencies in examples ... OK
  • checking LazyData ... INFO   'LazyData' is specified without a 'data' directory
  • checking installed files from ‘inst/doc’ ... OK
  • checking files in ‘vignettes’ ... OK
  • checking examples ... [0s/0s] OK
  • checking for unstated dependencies in vignettes ... OK
  • checking package vignettes ... OK
  • checking re-building of vignette outputs ... [7s/13s] OK
  • checking PDF version of manual ... [4s/6s] OK
  • DONE Status: 1 NOTE
  • using check arguments '--no-clean-on-error '