* using log directory ‘/Volumes/Builds/packages/big-sur-arm64/results/4.5/fbRads.Rcheck’ * using R Under development (unstable) (2025-01-03 r87521) * using platform: aarch64-apple-darwin20 * R was compiled by Apple clang version 14.0.0 (clang-1400.0.29.202) GNU Fortran (GCC) 12.2.0 * running under: macOS Ventura 13.4 * using session charset: UTF-8 * checking for file ‘fbRads/DESCRIPTION’ ... OK * checking extension type ... Package * this is package ‘fbRads’ version ‘17.0.0’ * package encoding: UTF-8 * checking package namespace information ... OK * checking package dependencies ... OK * checking if this is a source package ... OK * checking if there is a namespace ... OK * checking for executable files ... OK * checking for hidden files and directories ... OK * checking for portable file names ... OK * checking for sufficient/correct file permissions ... OK * checking whether package ‘fbRads’ can be installed ... [2s/2s] OK See 'https://www.r-project.org/nosvn/R.check/r-devel-macos-arm64/fbRads-00install.html' for details. * checking installed package size ... OK * checking package directory ... OK * checking DESCRIPTION meta-information ... OK * checking top-level files ... OK * checking for left-over files ... OK * checking index information ... OK * checking package subdirectories ... OK * checking code files for non-ASCII characters ... OK * checking R files for syntax errors ... OK * checking whether the package can be loaded ... [0s/0s] OK * checking whether the package can be loaded with stated dependencies ... [0s/0s] OK * checking whether the package can be unloaded cleanly ... [0s/0s] OK * checking whether the namespace can be loaded with stated dependencies ... [0s/0s] OK * checking whether the namespace can be unloaded cleanly ... [0s/0s] OK * checking loading without being on the library search path ... [0s/0s] OK * checking whether startup messages can be suppressed ... [0s/0s] OK * checking dependencies in R code ... OK * checking S3 generic/method consistency ... OK * checking replacement functions ... OK * checking foreign function calls ... OK * checking R code for possible problems ... [2s/2s] OK * checking Rd files ... [0s/0s] NOTE checkRd: (-1) fbad_copy_ad.Rd:25: Lost braces; missing escapes or markup? 25 | \item{status_option}{(string) enum {ACTIVE, PAUSED, INHERITED_FROM_SOURCE}} | ^ checkRd: (-1) fbad_copy_ad.Rd:27: Lost braces; missing escapes or markup? 27 | \item{rename_strategy}{(string) enum {DEEP_RENAME, ONLY_TOP_LEVEL_RENAME, NO_RENAME}} | ^ checkRd: (-1) fbad_copy_adset.Rd:34: Lost braces; missing escapes or markup? 34 | \item{status_option}{(string) enum {ACTIVE, PAUSED, INHERITED_FROM_SOURCE}} | ^ checkRd: (-1) fbad_copy_adset.Rd:36: Lost braces; missing escapes or markup? 36 | \item{rename_strategy}{(string) enum {DEEP_RENAME, ONLY_TOP_LEVEL_RENAME, NO_RENAME}} | ^ checkRd: (-1) fbad_copy_campaign.Rd:31: Lost braces; missing escapes or markup? 31 | \item{status_option}{(string) enum {ACTIVE, PAUSED, INHERITED_FROM_SOURCE}} | ^ checkRd: (-1) fbad_copy_campaign.Rd:33: Lost braces; missing escapes or markup? 33 | \item{rename_strategy}{(string) enum {DEEP_RENAME, ONLY_TOP_LEVEL_RENAME, NO_RENAME}} | ^ * checking Rd metadata ... OK * checking Rd cross-references ... OK * checking for missing documentation entries ... OK * checking for code/documentation mismatches ... OK * checking Rd \usage sections ... OK * checking Rd contents ... OK * checking for unstated dependencies in examples ... OK * checking examples ... [1s/1s] OK * checking PDF version of manual ... [5s/5s] OK * DONE Status: 1 NOTE * using check arguments '--no-clean-on-error ' * elapsed time (check, wall clock): 0:24