* using log directory ‘/Volumes/Builds/packages/big-sur-arm64/results/4.5/elastes.Rcheck’ * using R Under development (unstable) (2025-01-03 r87521) * using platform: aarch64-apple-darwin20 * R was compiled by Apple clang version 14.0.0 (clang-1400.0.29.202) GNU Fortran (GCC) 12.2.0 * running under: macOS Ventura 13.4 * using session charset: UTF-8 * checking for file ‘elastes/DESCRIPTION’ ... OK * checking extension type ... Package * this is package ‘elastes’ version ‘0.1.7’ * package encoding: UTF-8 * checking package namespace information ... OK * checking package dependencies ... OK * checking if this is a source package ... OK * checking if there is a namespace ... OK * checking for executable files ... OK * checking for hidden files and directories ... OK * checking for portable file names ... OK * checking for sufficient/correct file permissions ... OK * checking whether package ‘elastes’ can be installed ... [5s/6s] OK See 'https://www.r-project.org/nosvn/R.check/r-devel-macos-arm64/elastes-00install.html' for details. * checking installed package size ... OK * checking package directory ... OK * checking ‘build’ directory ... OK * checking DESCRIPTION meta-information ... OK * checking top-level files ... OK * checking for left-over files ... OK * checking index information ... OK * checking package subdirectories ... OK * checking code files for non-ASCII characters ... OK * checking R files for syntax errors ... OK * checking whether the package can be loaded ... [1s/2s] OK * checking whether the package can be loaded with stated dependencies ... [1s/1s] OK * checking whether the package can be unloaded cleanly ... [1s/2s] OK * checking whether the namespace can be loaded with stated dependencies ... [1s/2s] OK * checking whether the namespace can be unloaded cleanly ... [1s/1s] OK * checking loading without being on the library search path ... [1s/2s] OK * checking dependencies in R code ... OK * checking S3 generic/method consistency ... OK * checking replacement functions ... OK * checking foreign function calls ... OK * checking R code for possible problems ... [4s/5s] OK * checking Rd files ... [0s/0s] NOTE checkRd: (-1) fit_mean.Rd:54: Lost braces 54 | \code{t_optims}{optimal parametrizations} | ^ checkRd: (-1) fit_mean.Rd:55: Lost braces 55 | \code{G_optims}{optimal rotations} | ^ checkRd: (-1) fit_mean.Rd:56: Lost braces 56 | \code{b_optims}{optimal scalings} | ^ checkRd: (-1) fit_mean.Rd:57: Lost braces 57 | \code{n_optims}{optimal re-normalization} | ^ checkRd: (-1) fit_mean.Rd:58: Lost braces 58 | \code{n_iter}{number of iterations until convergence} | ^ * checking Rd metadata ... OK * checking Rd cross-references ... OK * checking for missing documentation entries ... OK * checking for code/documentation mismatches ... OK * checking Rd \usage sections ... OK * checking Rd contents ... OK * checking for unstated dependencies in examples ... OK * checking installed files from ‘inst/doc’ ... OK * checking files in ‘vignettes’ ... OK * checking examples ... [2s/3s] OK * checking for unstated dependencies in ‘tests’ ... OK * checking tests ... [10s/11s] OK Running ‘testthat.R’ [10s/11s] * checking for unstated dependencies in vignettes ... OK * checking package vignettes ... OK * checking re-building of vignette outputs ... [13s/14s] OK * checking PDF version of manual ... [4s/5s] OK * DONE Status: 1 NOTE * using check arguments '--no-clean-on-error ' * elapsed time (check, wall clock): 1:18