* using log directory ‘/Volumes/Builds/packages/big-sur-arm64/results/4.5/comparison.Rcheck’ * using R Under development (unstable) (2025-01-03 r87521) * using platform: aarch64-apple-darwin20 * R was compiled by Apple clang version 14.0.0 (clang-1400.0.29.202) GNU Fortran (GCC) 12.2.0 * running under: macOS Ventura 13.4 * using session charset: UTF-8 * checking for file ‘comparison/DESCRIPTION’ ... OK * this is package ‘comparison’ version ‘1.0.8’ * package encoding: UTF-8 * checking package namespace information ... OK * checking package dependencies ... OK * checking if this is a source package ... OK * checking if there is a namespace ... OK * checking for executable files ... OK * checking for hidden files and directories ... OK * checking for portable file names ... OK * checking for sufficient/correct file permissions ... OK * checking whether package ‘comparison’ can be installed ... [3s/3s] OK See 'https://www.r-project.org/nosvn/R.check/r-devel-macos-arm64/comparison-00install.html' for details. * checking installed package size ... OK * checking package directory ... OK * checking DESCRIPTION meta-information ... OK * checking top-level files ... OK * checking for left-over files ... OK * checking index information ... OK * checking package subdirectories ... OK * checking code files for non-ASCII characters ... OK * checking R files for syntax errors ... OK * checking whether the package can be loaded ... [1s/1s] OK * checking whether the package can be loaded with stated dependencies ... [0s/1s] OK * checking whether the package can be unloaded cleanly ... [0s/0s] OK * checking whether the namespace can be loaded with stated dependencies ... [0s/0s] OK * checking whether the namespace can be unloaded cleanly ... [1s/1s] OK * checking loading without being on the library search path ... [1s/1s] OK * checking dependencies in R code ... OK * checking S3 generic/method consistency ... OK * checking replacement functions ... OK * checking foreign function calls ... OK * checking R code for possible problems ... [3s/3s] OK * checking Rd files ... [0s/0s] NOTE checkRd: (-1) glass.Rd:10: Lost braces 10 | \item{item}{factor}{200 levels - which item the measurements came from} | ^ checkRd: (-1) glass.Rd:11-12: Lost braces 11 | \item{fragment}{factor}{4 levels - which of the four fragments from each item the observations were made | ^ checkRd: (-1) glass.Rd:13: Lost braces 13 | \item{logNaO}{numeric}{log of sodium concentration to oxygen concentration} | ^ checkRd: (-1) glass.Rd:14: Lost braces 14 | \item{logMgO}{numeric}{log of magnesium concentration to oxygen concentration} | ^ checkRd: (-1) glass.Rd:15: Lost braces 15 | \item{logAlO}{numeric}{log of aluminium concentration to oxygen concentration} | ^ checkRd: (-1) glass.Rd:16: Lost braces 16 | \item{logSiO}{numeric}{log of silicon concentration to oxygen concentration} | ^ checkRd: (-1) glass.Rd:17: Lost braces 17 | \item{logKO}{numeric}{log of potassium concentration to oxygen concentration} | ^ checkRd: (-1) glass.Rd:18: Lost braces 18 | \item{logCaO}{numeric}{log of calcium concentration to oxygen concentration} | ^ checkRd: (-1) glass.Rd:19: Lost braces 19 | \item{logFeO}{numeric}{log of iron concentration to oxygen concentration} | ^ * checking Rd metadata ... OK * checking Rd cross-references ... OK * checking for missing documentation entries ... OK * checking for code/documentation mismatches ... OK * checking Rd \usage sections ... OK * checking Rd contents ... OK * checking for unstated dependencies in examples ... OK * checking contents of ‘data’ directory ... OK * checking data for non-ASCII characters ... [0s/0s] OK * checking data for ASCII and uncompressed saves ... OK * checking examples ... [4s/5s] OK * checking for unstated dependencies in ‘tests’ ... OK * checking tests ... [1s/1s] OK Running ‘testCalcLR.R’ [1s/1s] * checking PDF version of manual ... [4s/4s] OK * DONE Status: 1 NOTE * using check arguments '--no-clean-on-error ' * elapsed time (check, wall clock): 0:32