* using log directory ‘/Volumes/Builds/packages/big-sur-arm64/results/4.5/LaplacesDemon.Rcheck’ * using R Under development (unstable) (2025-01-03 r87521) * using platform: aarch64-apple-darwin20 * R was compiled by Apple clang version 14.0.0 (clang-1400.0.29.202) GNU Fortran (GCC) 12.2.0 * running under: macOS Ventura 13.4 * using session charset: UTF-8 * checking for file ‘LaplacesDemon/DESCRIPTION’ ... OK * this is package ‘LaplacesDemon’ version ‘16.1.6’ * checking package namespace information ... OK * checking package dependencies ... OK * checking if this is a source package ... OK * checking if there is a namespace ... OK * checking for executable files ... OK * checking for hidden files and directories ... OK * checking for portable file names ... OK * checking for sufficient/correct file permissions ... OK * checking whether package ‘LaplacesDemon’ can be installed ... [15s/16s] OK See 'https://www.r-project.org/nosvn/R.check/r-devel-macos-arm64/LaplacesDemon-00install.html' for details. * checking installed package size ... INFO installed size is 5.4Mb sub-directories of 1Mb or more: R 2.0Mb doc 1.7Mb help 1.1Mb * checking package directory ... OK * checking ‘build’ directory ... OK * checking DESCRIPTION meta-information ... OK * checking top-level files ... OK * checking for left-over files ... OK * checking index information ... OK * checking package subdirectories ... OK * checking code files for non-ASCII characters ... OK * checking R files for syntax errors ... OK * checking whether the package can be loaded ... [0s/0s] OK * checking whether the package can be loaded with stated dependencies ... [0s/0s] OK * checking whether the package can be unloaded cleanly ... [0s/0s] OK * checking whether the namespace can be loaded with stated dependencies ... [0s/0s] OK * checking whether the namespace can be unloaded cleanly ... [0s/0s] OK * checking loading without being on the library search path ... [0s/0s] OK * checking dependencies in R code ... OK * checking S3 generic/method consistency ... OK * checking replacement functions ... OK * checking foreign function calls ... OK * checking R code for possible problems ... [22s/23s] OK * checking Rd files ... [1s/1s] NOTE checkRd: (-1) LML.Rd:43: Lost braces 43 | is specified only with the \code{GD}, code{HME}, or \code{NSIS} | ^ checkRd: (-1) LaplaceApproximation.Rd:485: Escaped LaTeX specials: \& checkRd: (-1) LossMatrix.Rd:115: Escaped LaTeX specials: \& checkRd: (-1) LossMatrix.Rd:117: Escaped LaTeX specials: \& checkRd: (-1) MISS.Rd:106: Lost braces 106 | code{Fit$Imp}. In the presence of numerous missing values, say more | ^ checkRd: (-1) Matrices.Rd:316: Lost braces 316 | Gauss-Hermite quadrature rules. A grid of order eqn{K} provides an | ^ checkRd: (-1) PMC.Rd:214: Lost braces 214 | item{nu}{This is the degrees of freedom parameter \eqn{\nu}{nu} for | ^ checkRd: (-1) PMC.Rd:214-215: Lost braces 214 | item{nu}{This is the degrees of freedom parameter \eqn{\nu}{nu} for | ^ checkRd: (-1) caterpillar.plot.Rd:15: Lost braces 15 | code{demonoid.hpc}, \code{iterquad}, \code{laplace}, \code{pmc}, | ^ * checking Rd metadata ... OK * checking Rd cross-references ... OK * checking for missing documentation entries ... OK * checking for code/documentation mismatches ... OK * checking Rd \usage sections ... OK * checking Rd contents ... OK * checking for unstated dependencies in examples ... OK * checking contents of ‘data’ directory ... OK * checking data for non-ASCII characters ... [0s/0s] OK * checking data for ASCII and uncompressed saves ... OK * checking sizes of PDF files under ‘inst/doc’ ... OK * checking installed files from ‘inst/doc’ ... OK * checking files in ‘vignettes’ ... OK * checking examples ... [3s/3s] OK * checking for unstated dependencies in vignettes ... OK * checking package vignettes ... OK * checking re-building of vignette outputs ... [22s/24s] OK * checking PDF version of manual ... [12s/12s] OK * DONE Status: 1 NOTE * using check arguments '--no-clean-on-error ' * elapsed time (check, wall clock): 1:40