- using R Under development (unstable) (2025-02-04 r87685)
- using platform: x86_64-pc-linux-gnu
- R was compiled by
gcc-14 (GCC) 14.2.0
GNU Fortran (GCC) 14.2.0
- running under: Fedora Linux 36 (Workstation Edition)
- using session charset: UTF-8
- using option ‘--no-stop-on-test-error’
- checking for file ‘automap/DESCRIPTION’ ... OK
- this is package ‘automap’ version ‘1.1-12’
- checking package namespace information ... OK
- checking package dependencies ... OK
- checking if this is a source package ... OK
- checking if there is a namespace ... OK
- checking for executable files ... OK
- checking for hidden files and directories ... OK
- checking for portable file names ... OK
- checking for sufficient/correct file permissions ... OK
- checking whether package ‘automap’ can be installed ... [15s/42s] OK
See the install log for details.
- checking package directory ... OK
- checking DESCRIPTION meta-information ... OK
- checking top-level files ... OK
- checking for left-over files ... OK
- checking index information ... OK
- checking package subdirectories ... OK
- checking code files for non-ASCII characters ... OK
- checking R files for syntax errors ... OK
- checking whether the package can be loaded ... [5s/13s] OK
- checking whether the package can be loaded with stated dependencies ... [4s/10s] OK
- checking whether the package can be unloaded cleanly ... [4s/12s] OK
- checking whether the namespace can be loaded with stated dependencies ... OK
- checking whether the namespace can be unloaded cleanly ... [5s/12s] OK
- checking loading without being on the library search path ... [4s/11s] OK
- checking use of S3 registration ... OK
- checking dependencies in R code ... OK
- checking S3 generic/method consistency ... OK
- checking replacement functions ... OK
- checking foreign function calls ... OK
- checking R code for possible problems ... [23s/67s] OK
- checking Rd files ... OK
- checking Rd metadata ... OK
- checking Rd line widths ... OK
- checking Rd cross-references ... OK
- checking for missing documentation entries ... OK
- checking for code/documentation mismatches ... OK
- checking Rd \usage sections ... OK
- checking Rd contents ... OK
- checking for unstated dependencies in examples ... OK
- checking examples ... [16s/40s] OK
- checking for unstated dependencies in ‘tests’ ... OK
- checking tests ... [64s/174s] NOTE
Running ‘autoKrige.cv.R’ [28s/78s]
Comparing ‘autoKrige.cv.Rout’ to ‘autoKrige.cv.Rout.save’ ... OK
Running ‘automap.R’ [35s/94s]
Comparing ‘automap.Rout’ to ‘automap.Rout.save’ ...168c168
< 3rd Qu.: 552 3rd Qu.: 71373 3rd Qu.:267.2
---
> 3rd Qu.: 552 3rd Qu.: 71374 3rd Qu.:267.2
244c244
< Max. :1728 Max. :67433 Max. :259.7
---
> Max. :1728 Max. :67434 Max. :259.7
495c495
< 3rd Qu.: 552 3rd Qu.: 71373 3rd Qu.:267.2
---
> 3rd Qu.: 552 3rd Qu.: 71374 3rd Qu.:267.2
545c545
< Max. :1728 Max. :67433 Max. :259.7
---
> Max. :1728 Max. :67434 Max. :259.7
- checking PDF version of manual ... [9s/25s] OK
- checking HTML version of manual ... OK
- checking for non-standard things in the check directory ... OK
- checking for detritus in the temp directory ... OK
- DONE
Status: 1 NOTE