- using R Under development (unstable) (2025-10-19 r88945)
- using platform: x86_64-pc-linux-gnu
- R was compiled by
gcc-15 (Debian 15.2.0-4) 15.2.0
GNU Fortran (Debian 15.2.0-4) 15.2.0
- running under: Debian GNU/Linux forky/sid
- using session charset: UTF-8
- checking for file ‘ows4R/DESCRIPTION’ ... OK
- this is package ‘ows4R’ version ‘0.5’
- checking CRAN incoming feasibility ... [2s/3s] OK
- checking package namespace information ... OK
- checking package dependencies ... OK
- checking if this is a source package ... OK
- checking if there is a namespace ... OK
- checking for executable files ... OK
- checking for hidden files and directories ... OK
- checking for portable file names ... OK
- checking for sufficient/correct file permissions ... OK
- checking serialization versions ... OK
- checking whether package ‘ows4R’ can be installed ... OK
See the install log for details.
- checking package directory ... OK
- checking for future file timestamps ... OK
- checking ‘build’ directory ... OK
- checking DESCRIPTION meta-information ... OK
- checking top-level files ... OK
- checking for left-over files ... OK
- checking index information ... OK
- checking package subdirectories ... OK
- checking code files for non-ASCII characters ... OK
- checking R files for syntax errors ... OK
- checking whether the package can be loaded ... [29s/34s] OK
- checking whether the package can be loaded with stated dependencies ... [30s/38s] OK
- checking whether the package can be unloaded cleanly ... [29s/34s] OK
- checking whether the namespace can be loaded with stated dependencies ... [29s/36s] OK
- checking whether the namespace can be unloaded cleanly ... [29s/35s] OK
- checking loading without being on the library search path ... [29s/35s] OK
- checking whether startup messages can be suppressed ... [29s/33s] OK
- checking use of S3 registration ... OK
- checking dependencies in R code ... OK
- checking S3 generic/method consistency ... OK
- checking replacement functions ... OK
- checking foreign function calls ... OK
- checking R code for possible problems ... [125s/160s] OK
- checking Rd files ... [2s/3s] OK
- checking Rd metadata ... OK
- checking Rd line widths ... OK
- checking Rd cross-references ... OK
- checking for missing documentation entries ... OK
- checking for code/documentation mismatches ... OK
- checking Rd \usage sections ... OK
- checking Rd contents ... OK
- checking for unstated dependencies in examples ... OK
- checking installed files from ‘inst/doc’ ... OK
- checking files in ‘vignettes’ ... OK
- checking examples ... [30s/36s] OK
- checking for unstated dependencies in ‘tests’ ... OK
- checking tests ... [1s/1s] OK
Running ‘test-all.R’ [0s/1s]
- checking for unstated dependencies in vignettes ... OK
- checking package vignettes ... OK
- checking re-building of vignette outputs ... [1s/2s] OK
- checking PDF version of manual ... [12s/14s] OK
- checking HTML version of manual ... [8s/10s] NOTE
Found the following HTML validation problems:
And.html:121:1 (And.Rd:82): Warning: <h5> anchor "Usage" already defined
And.html:127:1 (And.Rd:86): Warning: <h5> anchor "Arguments" already defined
BBOX.html:137:1 (BBOX.Rd:91): Warning: <h5> anchor "Usage" already defined
BBOX.html:143:1 (BBOX.Rd:95): Warning: <h5> anchor "Arguments" already defined
BinaryComparisonOpType.html:151:1 (BinaryComparisonOpType.Rd:102): Warning: <h5> anchor "Usage" already defined
BinaryComparisonOpType.html:157:1 (BinaryComparisonOpType.Rd:106): Warning: <h5> anchor "Arguments" already defined
BinaryLogicOpType.html:142:1 (BinaryLogicOpType.Rd:88): Warning: <h5> anchor "Usage" already defined
BinaryLogicOpType.html:148:1 (BinaryLogicOpType.Rd:92): Warning: <h5> anchor "Arguments" already defined
BinaryLogicOpType.html:171:1 (BinaryLogicOpType.Rd:105): Warning: <h5> anchor "Usage" already defined
BinaryLogicOpType.html:177:1 (BinaryLogicOpType.Rd:109): Warning: <h5> anchor "Arguments" already defined
CASClient.html:106:1 (CASClient.Rd:60): Warning: <h5> anchor "Usage" already defined
CASClient.html:129:1 (CASClient.Rd:73): Warning: <h5> anchor "Usage" already defined
CASClient.html:135:1 (CASClient.Rd:77): Warning: <h5> anchor "Arguments" already defined
CASClient.html:150:1 (CASClient.Rd:86): Warning: <h5> anchor "Returns" already defined
CASClient.html:167:1 (CASClient.Rd:95): Warning: <h5> anchor "Usage" already defined
CASClient.html:173:1 (CASClient.Rd:99): Warning: <h5> anchor "Returns" already defined
CASClient.html:190:1 (CASClient.Rd:108): Warning: <h5> anchor "Usage" already defined
CASClient.html:196:1 (CASClient.Rd:112): Warning: <h5> anchor "Arguments" already defined
CSWCapabilities.html:138:1 (CSWCapabilities.Rd:95): Warning: <h5> anchor "Usage" already defined
CSWCapabilities.html:144:1 (CSWCapabilities.Rd:99): Warning: <h5> anchor "Arguments" already defined
CSWClient.html:194:1 (CSWClient.Rd:143): Warning: <h5> anchor "Usage" already defined
CSWClient.html:217:1 (CSWClient.Rd:156): Warning: <h5> anchor "Usage" already defined
CSWClient.html:235:1 (CSWClient.Rd:168): Warning: <h5> anchor "Usage" already defined
CSWClient.html:241:1 (CSWClient.Rd:172): Warning: <h5> anchor "Arguments" already defined
CSWClient.html:256:1 (CSWClient.Rd:181): Warning: <h5> anchor "Returns" already defined
CSWClient.html:278:1 (CSWClient.Rd:195): Warning: <h5> anchor "Usage" already defined
CSWClient.html:284:1 (CSWClient.Rd:199): Warning: <h5> anchor "Arguments" already defined
CSWClient.html:301:1 (CSWClient.Rd:210): Warning: <h5> anchor "Returns" already defined
CSWClient.html:322:1 (CSWClient.Rd:223): Warning: <h5> anchor "Usage" already defined
CSWClient.html:333:1 (CSWClient.Rd:232): Warning: <h5> anchor "Arguments" already defined
CSWClient.html:352:1 (CSWClient.Rd:245): Warning: <h5> anchor "Returns" already defined
CSWClient.html:372:1 (CSWClient.Rd:257): Warning: <h5> anchor "Usage" already defined
CSWClient.html:384:1 (CSWClient.Rd:267): Warning: <h5> anchor "Arguments" already defined
CSWClient.html:405:1 (CSWClient.Rd:282): Warning: <h5> anchor "Returns" already defined
CSWClient.html:422:1 (CSWClient.Rd:291): Warning: <h5> anchor "Usage" already defined
CSWClient.html:428:1 (CSWClient.Rd:295): Warning: <h5> anchor "Arguments" already defined
CSWClient.html:443:1 (CSWClient.Rd:304): Warning: <h5> anchor "Returns" already defined
CSWClient.html:460:1 (CSWClient.Rd:313): Warning: <h5> anchor "Usage" already defined
CSWClient.html:471:1 (CSWClient.Rd:322): Warning: <h5> anchor "Arguments" already defined
CSWClient.html:490:1 (CSWClient.Rd:335): Warning: <h5> anchor "Returns" already defined
CSWClient.html:508:1 (CSWClient.Rd:345): Warning: <h5> anchor "Usage" already defined
CSWClient.html:514:1 (CSWClient.Rd:349): Warning: <h5> anchor "Arguments" already defined
CSWClient.html:531:1 (CSWClient.Rd:360): Warning: <h5> anchor "Returns" already defined
CSWClient.html:548:1 (CSWClient.Rd:369): Warning: <h5> anchor "Usage" already defined
CSWClient.html:554:1 (CSWClient.Rd:373): Warning: <h5> anchor "Arguments" already defined
CSWClient.html:567:1 (CSWClient.Rd:380): Warning: <h5> anchor "Returns" already defined
CSWClient.html:584:1 (CSWClient.Rd:389): Warning: <h5> anchor "Usage" already defined
CSWClient.html:593:1 (CSWClient.Rd:396): Warning: <h5> anchor "Arguments" already defined
CSWClient.html:608:1 (CSWClient.Rd:405): Warning: <h5> anchor "Returns" already defined
CSWClient.html:627:1 (CSWClient.Rd:416): Warning: <h5> anchor "Usage" already defined
CSWClient.html:638:1 (CSWClient.Rd:425): Warning: <h5> anchor "Arguments" already defined
CSWClient.html:657:1 (CSWClient.Rd:438): Warning: <h5> anchor "Returns" already defined
CSWClient.html:674:1 (CSWClient.Rd:447): Warning: <h5> anchor "Usage" already defined
CSWClient.html:680:1 (CSWClient.Rd:451): Warning: <h5> anchor "Arguments" already defined
CSWConstraint.html:142:1 (CSWConstraint.Rd:94): Warning: <h5> anchor "Usage" already defined
CSWConstraint.html:148:1 (CSWConstraint.Rd:98): Warning: <h5> anchor "Arguments" already defined
CSWConstraint.html:171:1 (CSWConstraint.Rd:111): Warning: <h5> anchor "Usage" already defined
CSWConstraint.html:177:1 (CSWConstraint.Rd:115): Warning: <h5> anchor "Arguments" already defined
CSWDescribeRecord.html:164:1 (CSWDescribeRecord.Rd:120): Warning: <h5> anchor "Usage" already defined
CSWDescribeRecord.html:170:1 (CSWDescribeRecord.Rd:124): Warning: <h5> anchor "Arguments" already defined
CSWGetRecordById.html:181:1 (CSWGetRecordById.Rd:132): Warning: <h5> anchor "Usage" already defined
CSWGetRecordById.html:187:1 (CSWGetRecordById.Rd:136): Warning: <h5> anchor "Arguments" already defined
CSWGetRecords.html:177:1 (CSWGetRecords.Rd:128): Warning: <h5> anchor "Usage" already defined
CSWGetRecords.html:183:1 (CSWGetRecords.Rd:132): Warning: <h5> anchor "Arguments" already defined
CSWHarvest.html:186:1 (CSWHarvest.Rd:137): Warning: <h5> anchor "Usage" already defined
CSWHarvest.html:192:1 (CSWHarvest.Rd:141): Warning: <h5> anchor "Arguments" already defined
CSWQuery.html:150:1 (CSWQuery.Rd:148): Warning: <h5> anchor "Usage" already defined
CSWQuery.html:156:1 (CSWQuery.Rd:152): Warning: <h5> anchor "Arguments" already defined
CSWQuery.html:179:1 (CSWQuery.Rd:165): Warning: <h5> anchor "Usage" already defined
CSWQuery.html:185:1 (CSWQuery.Rd:169): Warning: <h5> anchor "Arguments" already defined
CSWRecordProperty.html:139:1 (CSWRecordProperty.Rd:91): Warning: <h5> anchor "Usage" already defined
CSWRecordProperty.html:145:1 (CSWRecordProperty.Rd:95): Warning: <h5> anchor "Arguments" already defined
CSWTransaction.html:170:1 (CSWTransaction.Rd:126): Warning: <h5> anchor "Usage" already defined
CSWTransaction.html:176:1 (CSWTransaction.Rd:130): Warning: <h5> anchor "Arguments" already defined
Not.html:121:1 (Not.Rd:81): Warning: <h5> anchor "Usage" already defined
Not.html:127:1 (Not.Rd:85): Warning: <h5> anchor "Arguments" already defined
OGCAbstractObject.html:155:1 (OGCAbstractObject.Rd:89): Warning: <h5> anchor "Usage" already defined
OGCAbstractObject.html:161:1 (OGCAbstractObject.Rd:93): Warning: <h5> anchor "Arguments" already defined
OGCAbstractObject.html:184:1 (OGCAbstractObject.Rd:106): Warning: <h5> anchor "Usage" already defined
OGCAbstractObject.html:190:1 (OGCAbstractObject.Rd:110): Warning: <h5> anchor "Arguments" already defined
OGCAbstractObject.html:213:1 (OGCAbstractObject.Rd:123): Warning: <h5> anchor "Usage" already defined
OGCAbstractObject.html:219:1 (OGCAbstractObject.Rd:127): Warning: <h5> anchor "Arguments" already defined
OGCAbstractObject.html:242:1 (OGCAbstractObject.Rd:140): Warning: <h5> anchor "Usage" already defined
OGCAbstractObject.html:256:1 (OGCAbstractObject.Rd:152): Warning: <h5> anchor "Arguments" already defined
OGCAbstractObject.html:291:1 (OGCAbstractObject.Rd:177): Warning: <h5> anchor "Usage" already defined
OGCAbstractObject.html:314:1 (OGCAbstractObject.Rd:190): Warning: <h5> anchor "Usage" already defined
OGCAbstractObject.html:320:1 (OGCAbstractObject.Rd:194): Warning: <h5> anchor "Returns" already defined
OGCAbstractObject.html:337:1 (OGCAbstractObject.Rd:203): Warning: <h5> anchor "Usage" already defined
OGCAbstractObject.html:343:1 (OGCAbstractObject.Rd:207): Warning: <h5> anchor "Arguments" already defined
OGCAbstractObject.html:356:1 (OGCAbstractObject.Rd:214): Warning: <h5> anchor "Returns" already defined
OGCAbstractObject.html:373:1 (OGCAbstractObject.Rd:223): Warning: <h5> anchor "Usage" already defined
OGCAbstractObject.html:379:1 (OGCAbstractObject.Rd:227): Warning: <h5> anchor "Arguments" already defined
OGCAbstractObject.html:392:1 (OGCAbstractObject.Rd:234): Warning: <h5> anchor "Returns" already defined
OGCAbstractObject.html:413:1 (OGCAbstractObject.Rd:247): Warning: <h5> anchor "Usage" already defined
OGCAbstractObject.html:424:1 (OGCAbstractObject.Rd:256): Warning: <h5> anchor "Arguments" already defined
OGCAbstractObject.html:443:1 (OGCAbstractObject.Rd:269): Warning: <h5> anchor "Returns" already defined
OGCAbstractObject.html:460:1 (OGCAbstractObject.Rd:278): Warning: <h5> anchor "Usage" already defined
OGCAbstractObject.html:466:1 (OGCAbstractObject.Rd:282): Warning: <h5> anchor "Arguments" already defined
OGCAbstractObject.html:491:1 (OGCAbstractObject.Rd:297): Warning: <h5> anchor "Usage" already defined
OGCAbstractObject.html:497:1 (OGCAbstractObject.Rd:301): Warning: <h5> anchor "Arguments" already defined
OGCExpression.html:139:1 (OGCExpression.Rd:90): Warning: <h5> anchor "Usage" already defined
OGCExpression.html:145:1 (OGCExpression.Rd:94): Warning: <h5> anchor "Arguments" already defined
OGCExpression.html:168:1 (OGCExpression.Rd:107): Warning: <h5> anchor "Usage" already defined
OGCExpression.html:191:1 (OGCExpression.Rd:120): Warning: <h5> anchor "Usage" already defined
OGCExpression.html:197:1 (OGCExpression.Rd:124): Warning: <h5> anchor "Arguments" already defined
OGCFilter.html:136:1 (OGCFilter.Rd:87): Warning: <h5> anchor "Usage" already defined
OGCFilter.html:142:1 (OGCFilter.Rd:91): Warning: <h5> anchor "Arguments" already defined
OGCFilter.html:165:1 (OGCFilter.Rd:104): Warning: <h5> anchor "Usage" already defined
OGCFilter.html:171:1 (OGCFilter.Rd:108): Warning: <h5> anchor "Arguments" already defined
OWSBoundingBox.html:158:1 (OWSBoundingBox.Rd:102): Warning: <h5> anchor "Usage" already defined
OWSBoundingBox.html:164:1 (OWSBoundingBox.Rd:106): Warning: <h5> anchor "Arguments" already defined
OWSBoundingBox.html:187:1 (OWSBoundingBox.Rd:119): Warning: <h5> anchor "Usage" already defined
OWSBoundingBox.html:210:1 (OWSBoundingBox.Rd:132): Warning: <h5> anchor "Usage" already defined
OWSBoundingBox.html:216:1 (OWSBoundingBox.Rd:136): Warning: <h5> anchor "Arguments" already defined
OWSCapabilities.html:173:1 (OWSCapabilities.Rd:109): Warning: <h5> anchor "Usage" already defined
OWSCapabilities.html:179:1 (OWSCapabilities.Rd:113): Warning: <h5> anchor "Arguments" already defined
OWSCapabilities.html:202:1 (OWSCapabilities.Rd:126): Warning: <h5> anchor "Usage" already defined
OWSCapabilities.html:208:1 (OWSCapabilities.Rd:130): Warning: <h5> anchor "Arguments" already defined
OWSCapabilities.html:231:1 (OWSCapabilities.Rd:143): Warning: <h5> anchor "Usage" already defined
OWSCapabilities.html:254:1 (OWSCapabilities.Rd:156): Warning: <h5> anchor "Usage" already defined
OWSCapabilities.html:260:1 (OWSCapabilities.Rd:160): Warning: <h5> anchor "Returns" already defined
OWSCapabilities.html:277:1 (OWSCapabilities.Rd:169): Warning: <h5> anchor "Usage" already defined
OWSCapabilities.html:283:1 (OWSCapabilities.Rd:173): Warning: <h5> anchor "Returns" already defined
OWSCapabilities.html:300:1 (OWSCapabilities.Rd:182): Warning: <h5> anchor "Usage" already defined
OWSCapabilities.html:306:1 (OWSCapabilities.Rd:186): Warning: <h5> anchor "Returns" already defined
OWSCapabilities.html:323:1 (OWSCapabilities.Rd:195): Warning: <h5> anchor "Usage" already defined
OWSCapabilities.html:329:1 (OWSCapabilities.Rd:199): Warning: <h5> anchor "Returns" already defined
OWSCapabilities.html:346:1 (OWSCapabilities.Rd:208): Warning: <h5> anchor "Usage" already defined
OWSCapabilities.html:352:1 (OWSCapabilities.Rd:212): Warning: <h5> anchor "Returns" already defined
OWSCapabilities.html:369:1 (OWSCapabilities.Rd:221): Warning: <h5> anchor "Usage" already defined
OWSCapabilities.html:375:1 (OWSCapabilities.Rd:225): Warning: <h5> anchor "Returns" already defined
OWSCapabilities.html:392:1 (OWSCapabilities.Rd:234): Warning: <h5> anchor "Usage" already defined
OWSCapabilities.html:398:1 (OWSCapabilities.Rd:238): Warning: <h5> anchor "Returns" already defined
OWSCapabilities.html:415:1 (OWSCapabilities.Rd:247): Warning: <h5> anchor "Usage" already defined
OWSCapabilities.html:421:1 (OWSCapabilities.Rd:251): Warning: <h5> anchor "Arguments" already defined
OWSClient.html:195:1 (OWSClient.Rd:128): Warning: <h5> anchor "Usage" already defined
OWSClient.html:218:1 (OWSClient.Rd:141): Warning: <h5> anchor "Usage" already defined
OWSClient.html:224:1 (OWSClient.Rd:145): Warning: <h5> anchor "Returns" already defined
OWSClient.html:241:1 (OWSClient.Rd:154): Warning: <h5> anchor "Usage" already defined
OWSClient.html:247:1 (OWSClient.Rd:158): Warning: <h5> anchor "Returns" already defined
OWSClient.html:264:1 (OWSClient.Rd:167): Warning: <h5> anchor "Usage" already defined
OWSClient.html:270:1 (OWSClient.Rd:171): Warning: <h5> anchor "Returns" already defined
OWSClient.html:287:1 (OWSClient.Rd:180): Warning: <h5> anchor "Usage" already defined
OWSClient.html:293:1 (OWSClient.Rd:184): Warning: <h5> anchor "Returns" already defined
OWSClient.html:310:1 (OWSClient.Rd:193): Warning: <h5> anchor "Usage" already defined
OWSClient.html:316:1 (OWSClient.Rd:197): Warning: <h5> anchor "Returns" already defined
OWSClient.html:333:1 (OWSClient.Rd:206): Warning: <h5> anchor "Usage" already defined
OWSClient.html:339:1 (OWSClient.Rd:210): Warning: <h5> anchor "Returns" already defined
OWSClient.html:356:1 (OWSClient.Rd:219): Warning: <h5> anchor "Usage" already defined
OWSClient.html:362:1 (OWSClient.Rd:223): Warning: <h5> anchor "Returns" already defined
OWSClient.html:379:1 (OWSClient.Rd:232): Warning: <h5> anchor "Usage" already defined
OWSClient.html:385:1 (OWSClient.Rd:236): Warning: <h5> anchor "Returns" already defined
OWSClient.html:402:1 (OWSClient.Rd:245): Warning: <h5> anchor "Usage" already defined
OWSClient.html:408:1 (OWSClient.Rd:249): Warning: <h5> anchor "Arguments" already defined
OWSCodeType.html:135:1 (OWSCodeType.Rd:82): Warning: <h5> anchor "Usage" already defined
OWSCodeType.html:141:1 (OWSCodeType.Rd:86): Warning: <h5> anchor "Arguments" already defined
OWSException.html:142:1 (OWSException.Rd:86): Warning: <h5> anchor "Usage" already defined
OWSException.html:165:1 (OWSException.Rd:99): Warning: <h5> anchor "Usage" already defined
OWSException.html:171:1 (OWSException.Rd:103): Warning: <h5> anchor "Returns" already defined
OWSException.html:188:1 (OWSException.Rd:112): Warning: <h5> anchor "Usage" already defined
OWSException.html:194:1 (OWSException.Rd:116): Warning: <h5> anchor "Returns" already defined
OWSException.html:211:1 (OWSException.Rd:125): Warning: <h5> anchor "Usage" already defined
OWSException.html:217:1 (OWSException.Rd:129): Warning: <h5> anchor "Arguments" already defined
OWSGetCapabilities.html:161:1 (OWSGetCapabilities.Rd:116): Warning: <h5> anchor "Usage" already defined
OWSGetCapabilities.html:167:1 (OWSGetCapabilities.Rd:120): Warning: <h5> anchor "Arguments" already defined
OWSHttpRequest.html:205:1 (OWSHttpRequest.Rd:142): Warning: <h5> anchor "Usage" already defined
OWSHttpRequest.html:221:1 (OWSHttpRequest.Rd:152): Warning: <h5> anchor "Usage" already defined
OWSHttpRequest.html:244:1 (OWSHttpRequest.Rd:165): Warning: <h5> anchor "Usage" already defined
OWSHttpRequest.html:250:1 (OWSHttpRequest.Rd:169): Warning: <h5> anchor "Returns" already defined
OWSHttpRequest.html:267:1 (OWSHttpRequest.Rd:178): Warning: <h5> anchor "Usage" already defined
OWSHttpRequest.html:273:1 (OWSHttpRequest.Rd:182): Warning: <h5> anchor "Returns" already defined
OWSHttpRequest.html:290:1 (OWSHttpRequest.Rd:191): Warning: <h5> anchor "Usage" already defined
OWSHttpRequest.html:296:1 (OWSHttpRequest.Rd:195): Warning: <h5> anchor "Returns" already defined
OWSHttpRequest.html:313:1 (OWSHttpRequest.Rd:204): Warning: <h5> anchor "Usage" already defined
OWSHttpRequest.html:319:1 (OWSHttpRequest.Rd:208): Warning: <h5> anchor "Returns" already defined
OWSHttpRequest.html:336:1 (OWSHttpRequest.Rd:217): Warning: <h5> anchor "Usage" already defined
OWSHttpRequest.html:342:1 (OWSHttpRequest.Rd:221): Warning: <h5> anchor "Returns" already defined
OWSHttpRequest.html:359:1 (OWSHttpRequest.Rd:230): Warning: <h5> anchor "Usage" already defined
OWSHttpRequest.html:365:1 (OWSHttpRequest.Rd:234): Warning: <h5> anchor "Returns" already defined
OWSHttpRequest.html:382:1 (OWSHttpRequest.Rd:243): Warning: <h5> anchor "Usage" already defined
OWSHttpRequest.html:388:1 (OWSHttpRequest.Rd:247): Warning: <h5> anchor "Returns" already defined
OWSHttpRequest.html:405:1 (OWSHttpRequest.Rd:256): Warning: <h5> anchor "Usage" already defined
OWSHttpRequest.html:411:1 (OWSHttpRequest.Rd:260): Warning: <h5> anchor "Arguments" already defined
OWSHttpRequest.html:434:1 (OWSHttpRequest.Rd:273): Warning: <h5> anchor "Usage" already defined
OWSHttpRequest.html:440:1 (OWSHttpRequest.Rd:277): Warning: <h5> anchor "Arguments" already defined
OWSNamespace.html:116:1 (OWSNamespace.Rd:67): Warning: <h5> anchor "Usage" already defined
OWSNamespace.html:139:1 (OWSNamespace.Rd:80): Warning: <h5> anchor "Usage" already defined
OWSNamespace.html:145:1 (OWSNamespace.Rd:84): Warning: <h5> anchor "Arguments" already defined
OWSOperation.html:110:1 (OWSOperation.Rd:63): Warning: <h5> anchor "Usage" already defined
OWSOperation.html:133:1 (OWSOperation.Rd:76): Warning: <h5> anchor "Usage" already defined
OWSOperation.html:139:1 (OWSOperation.Rd:80): Warning: <h5> anchor "Returns" already defined
OWSOperation.html:156:1 (OWSOperation.Rd:89): Warning: <h5> anchor "Usage" already defined
OWSOperation.html:162:1 (OWSOperation.Rd:93): Warning: <h5> anchor "Arguments" already defined
OWSOperation.html:175:1 (OWSOperation.Rd:100): Warning: <h5> anchor "Returns" already defined
OWSOperation.html:192:1 (OWSOperation.Rd:109): Warning: <h5> anchor "Usage" already defined
OWSOperation.html:198:1 (OWSOperation.Rd:113): Warning: <h5> anchor "Arguments" already defined
OWSOperationsMetadata.html:104:1 (OWSOperationsMetadata.Rd:62): Warning: <h5> anchor "Usage" already defined
OWSOperationsMetadata.html:127:1 (OWSOperationsMetadata.Rd:75): Warning: <h5> anchor "Usage" already defined
OWSOperationsMetadata.html:133:1 (OWSOperationsMetadata.Rd:79): Warning: <h5> anchor "Arguments" already defined
OWSRequest.html:131:1 (OWSRequest.Rd:83): Warning: <h5> anchor "Usage" already defined
OWSRequest.html:154:1 (OWSRequest.Rd:96): Warning: <h5> anchor "Usage" already defined
OWSRequest.html:160:1 (OWSRequest.Rd:100): Warning: <h5> anchor "Returns" already defined
OWSRequest.html:177:1 (OWSRequest.Rd:109): Warning: <h5> anchor "Usage" already defined
OWSRequest.html:183:1 (OWSRequest.Rd:113): Warning: <h5> anchor "Arguments" already defined
OWSServiceIdentification.html:128:1 (OWSServiceIdentification.Rd:70): Warning: <h5> anchor "Usage" already defined
OWSServiceIdentification.html:151:1 (OWSServiceIdentification.Rd:83): Warning: <h5> anchor "Usage" already defined
OWSServiceIdentification.html:157:1 (OWSServiceIdentification.Rd:87): Warning: <h5> anchor "Returns" already defined
OWSServiceIdentification.html:174:1 (OWSServiceIdentification.Rd:96): Warning: <h5> anchor "Usage" already defined
OWSServiceIdentification.html:180:1 (OWSServiceIdentification.Rd:100): Warning: <h5> anchor "Returns" already defined
OWSServiceIdentification.html:197:1 (OWSServiceIdentification.Rd:109): Warning: <h5> anchor "Usage" already defined
OWSServiceIdentification.html:203:1 (OWSServiceIdentification.Rd:113): Warning: <h5> anchor "Returns" already defined
OWSServiceIdentification.html:220:1 (OWSServiceIdentification.Rd:122): Warning: <h5> anchor "Usage" already defined
OWSServiceIdentification.html:226:1 (OWSServiceIdentification.Rd:126): Warning: <h5> anchor "Returns" already defined
OWSServiceIdentification.html:243:1 (OWSServiceIdentification.Rd:135): Warning: <h5> anchor "Usage" already defined
OWSServiceIdentification.html:249:1 (OWSServiceIdentification.Rd:139): Warning: <h5> anchor "Returns" already defined
OWSServiceIdentification.html:266:1 (OWSServiceIdentification.Rd:148): Warning: <h5> anchor "Usage" already defined
OWSServiceIdentification.html:272:1 (OWSServiceIdentification.Rd:152): Warning: <h5> anchor "Returns" already defined
OWSServiceIdentification.html:289:1 (OWSServiceIdentification.Rd:161): Warning: <h5> anchor "Usage" already defined
OWSServiceIdentification.html:295:1 (OWSServiceIdentification.Rd:165): Warning: <h5> anchor "Returns" already defined
OWSServiceIdentification.html:312:1 (OWSServiceIdentification.Rd:174): Warning: <h5> anchor "Usage" already defined
OWSServiceIdentification.html:318:1 (OWSServiceIdentification.Rd:178): Warning: <h5> anchor "Returns" already defined
OWSServiceIdentification.html:335:1 (OWSServiceIdentification.Rd:187): Warning: <h5> anchor "Usage" already defined
OWSServiceIdentification.html:341:1 (OWSServiceIdentification.Rd:191): Warning: <h5> anchor "Arguments" already defined
OWSServiceProvider.html:110:1 (OWSServiceProvider.Rd:64): Warning: <h5> anchor "Usage" already defined
OWSServiceProvider.html:116:1 (OWSServiceProvider.Rd:68): Warning: <h5> anchor "Arguments" already defined
OWSServiceProvider.html:139:1 (OWSServiceProvider.Rd:81): Warning: <h5> anchor "Usage" already defined
OWSServiceProvider.html:145:1 (OWSServiceProvider.Rd:85): Warning: <h5> anchor "Arguments" already defined
OWSServiceProvider.html:168:1 (OWSServiceProvider.Rd:98): Warning: <h5> anchor "Usage" already defined
OWSServiceProvider.html:174:1 (OWSServiceProvider.Rd:102): Warning: <h5> anchor "Arguments" already defined
OWSServiceProvider.html:197:1 (OWSServiceProvider.Rd:115): Warning: <h5> anchor "Usage" already defined
OWSServiceProvider.html:203:1 (OWSServiceProvider.Rd:119): Warning: <h5> anchor "Arguments" already defined
OWSWGS84BoundingBox.html:127:1 (OWSWGS84BoundingBox.Rd:84): Warning: <h5> anchor "Usage" already defined
OWSWGS84BoundingBox.html:133:1 (OWSWGS84BoundingBox.Rd:88): Warning: <h5> anchor "Arguments" already defined
Or.html:121:1 (Or.Rd:82): Warning: <h5> anchor "Usage" already defined
Or.html:127:1 (Or.Rd:86): Warning: <h5> anchor "Arguments" already defined
PropertyIsBetween.html:141:1 (PropertyIsBetween.Rd:94): Warning: <h5> anchor "Usage" already defined
PropertyIsBetween.html:147:1 (PropertyIsBetween.Rd:98): Warning: <h5> anchor "Arguments" already defined
PropertyIsEqualTo.html:125:1 (PropertyIsEqualTo.Rd:84): Warning: <h5> anchor "Usage" already defined
PropertyIsEqualTo.html:131:1 (PropertyIsEqualTo.Rd:88): Warning: <h5> anchor "Arguments" already defined
PropertyIsGreaterThan.html:125:1 (PropertyIsGreaterThan.Rd:84): Warning: <h5> anchor "Usage" already defined
PropertyIsGreaterThan.html:131:1 (PropertyIsGreaterThan.Rd:88): Warning: <h5> anchor "Arguments" already defined
PropertyIsGreaterThanOrEqualTo.html:125:1 (PropertyIsGreaterThanOrEqualTo.Rd:84): Warning: <h5> anchor "Usage" already defined
PropertyIsGreaterThanOrEqualTo.html:131:1 (PropertyIsGreaterThanOrEqualTo.Rd:88): Warning: <h5> anchor "Arguments" already defined
PropertyIsLessThan.html:125:1 (PropertyIsLessThan.Rd:84): Warning: <h5> anchor "Usage" already defined
PropertyIsLessThan.html:131:1 (PropertyIsLessThan.Rd:88): Warning: <h5> anchor "Arguments" already defined
PropertyIsLessThanOrEqualTo.html:125:1 (PropertyIsLessThanOrEqualTo.Rd:84): Warning: <h5> anchor "Usage" already defined
PropertyIsLessThanOrEqualTo.html:131:1 (PropertyIsLessThanOrEqualTo.Rd:88): Warning: <h5> anchor "Arguments" already defined
PropertyIsLike.html:154:1 (PropertyIsLike.Rd:107): Warning: <h5> anchor "Usage" already defined
PropertyIsLike.html:160:1 (PropertyIsLike.Rd:111): Warning: <h5> anchor "Arguments" already defined
PropertyIsNotEqualTo.html:125:1 (PropertyIsNotEqualTo.Rd:84): Warning: <h5> anchor "Usage" already defined
PropertyIsNotEqualTo.html:131:1 (PropertyIsNotEqualTo.Rd:88): Warning: <h5> anchor "Arguments" already defined
PropertyIsNull.html:133:1 (PropertyIsNull.Rd:86): Warning: <h5> anchor "Usage" already defined
PropertyIsNull.html:139:1 (PropertyIsNull.Rd:90): Warning: <h5> anchor "Arguments" already defined
UnaryLogicOpType.html:142:1 (UnaryLogicOpType.Rd:88): Warning: <h5> anchor "Usage" already defined
UnaryLogicOpType.html:148:1 (UnaryLogicOpType.Rd:92): Warning: <h5> anchor "Arguments" already defined
UnaryLogicOpType.html:171:1 (UnaryLogicOpType.Rd:105): Warning: <h5> anchor "Usage" already defined
UnaryLogicOpType.html:177:1 (UnaryLogicOpType.Rd:109): Warning: <h5> anchor "Arguments" already defined
WCSCapabilities.html:144:1 (WCSCapabilities.Rd:99): Warning: <h5> anchor "Usage" already defined
WCSCapabilities.html:167:1 (WCSCapabilities.Rd:112): Warning: <h5> anchor "Usage" already defined
WCSCapabilities.html:173:1 (WCSCapabilities.Rd:116): Warning: <h5> anchor "Arguments" already defined
WCSCapabilities.html:198:1 (WCSCapabilities.Rd:131): Warning: <h5> anchor "Usage" already defined
WCSCapabilities.html:204:1 (WCSCapabilities.Rd:135): Warning: <h5> anchor "Arguments" already defined
WCSClient.html:170:1 (WCSClient.Rd:121): Warning: <h5> anchor "Usage" already defined
WCSClient.html:193:1 (WCSClient.Rd:134): Warning: <h5> anchor "Usage" already defined
WCSClient.html:209:1 (WCSClient.Rd:144): Warning: <h5> anchor "Usage" already defined
WCSClient.html:215:1 (WCSClient.Rd:148): Warning: <h5> anchor "Arguments" already defined
WCSClient.html:228:1 (WCSClient.Rd:155): Warning: <h5> anchor "Returns" already defined
WCSClient.html:245:1 (WCSClient.Rd:164): Warning: <h5> anchor "Usage" already defined
WCSClient.html:266:1 (WCSClient.Rd:183): Warning: <h5> anchor "Arguments" already defined
WCSClient.html:307:1 (WCSClient.Rd:218): Warning: <h5> anchor "Returns" already defined
WCSClient.html:324:1 (WCSClient.Rd:227): Warning: <h5> anchor "Usage" already defined
WCSClient.html:330:1 (WCSClient.Rd:231): Warning: <h5> anchor "Arguments" already defined
WCSCoverage.html:152:1 (WCSCoverage.Rd:93): Warning: <h5> anchor "Usage" already defined
WCSCoverage.html:175:1 (WCSCoverage.Rd:106): Warning: <h5> anchor "Usage" already defined
WCSCoverage.html:181:1 (WCSCoverage.Rd:110): Warning: <h5> anchor "Returns" already defined
WCSCoverage.html:198:1 (WCSCoverage.Rd:119): Warning: <h5> anchor "Usage" already defined
WCSCoverage.html:204:1 (WCSCoverage.Rd:123): Warning: <h5> anchor "Returns" already defined
WCSCoverage.html:221:1 (WCSCoverage.Rd:132): Warning: <h5> anchor "Usage" already defined
WCSCoverage.html:227:1 (WCSCoverage.Rd:136): Warning: <h5> anchor "Returns" already defined
WCSCoverage.html:244:1 (WCSCoverage.Rd:145): Warning: <h5> anchor "Usage" already defined
WCSCoverage.html:250:1 (WCSCoverage.Rd:149): Warning: <h5> anchor "Arguments" already defined
WCSCoverage.html:263:1 (WCSCoverage.Rd:156): Warning: <h5> anchor "Returns" already defined
WCSCoverage.html:280:1 (WCSCoverage.Rd:165): Warning: <h5> anchor "Usage" already defined
WCSCoverage.html:286:1 (WCSCoverage.Rd:169): Warning: <h5> anchor "Arguments" already defined
WCSCoverageDescription.html:184:1 (WCSCoverageDescription.Rd:125): Warning: <h5> anchor "Usage" already defined
WCSCoverageDescription.html:207:1 (WCSCoverageDescription.Rd:138): Warning: <h5> anchor "Usage" already defined
WCSCoverageDescription.html:223:1 (WCSCoverageDescription.Rd:148): Warning: <h5> anchor "Usage" already defined
WCSCoverageDescription.html:239:1 (WCSCoverageDescription.Rd:158): Warning: <h5> anchor "Usage" already defined
WCSCoverageDescription.html:255:1 (WCSCoverageDescription.Rd:168): Warning: <h5> anchor "Usage" already defined
WCSCoverageDescription.html:271:1 (WCSCoverageDescription.Rd:178): Warning: <h5> anchor "Usage" already defined
WCSCoverageDescription.html:277:1 (WCSCoverageDescription.Rd:182): Warning: <h5> anchor "Arguments" already defined
WCSCoverageDomain.html:145:1 (WCSCoverageDomain.Rd:93): Warning: <h5> anchor "Usage" already defined
WCSCoverageDomain.html:168:1 (WCSCoverageDomain.Rd:106): Warning: <h5> anchor "Usage" already defined
WCSCoverageDomain.html:174:1 (WCSCoverageDomain.Rd:110): Warning: <h5> anchor "Returns" already defined
WCSCoverageDomain.html:191:1 (WCSCoverageDomain.Rd:119): Warning: <h5> anchor "Usage" already defined
WCSCoverageDomain.html:197:1 (WCSCoverageDomain.Rd:123): Warning: <h5> anchor "Arguments" already defined
WCSCoverageSpatialDomain.html:155:1 (WCSCoverageSpatialDomain.Rd:100): Warning: <h5> anchor "Usage" already defined
WCSCoverageSpatialDomain.html:178:1 (WCSCoverageSpatialDomain.Rd:113): Warning: <h5> anchor "Usage" already defined
WCSCoverageSpatialDomain.html:184:1 (WCSCoverageSpatialDomain.Rd:117): Warning: <h5> anchor "Returns" already defined
WCSCoverageSpatialDomain.html:201:1 (WCSCoverageSpatialDomain.Rd:126): Warning: <h5> anchor "Usage" already defined
WCSCoverageSpatialDomain.html:207:1 (WCSCoverageSpatialDomain.Rd:130): Warning: <h5> anchor "Returns" already defined
WCSCoverageSpatialDomain.html:224:1 (WCSCoverageSpatialDomain.Rd:139): Warning: <h5> anchor "Usage" already defined
WCSCoverageSpatialDomain.html:230:1 (WCSCoverageSpatialDomain.Rd:143): Warning: <h5> anchor "Returns" already defined
WCSCoverageSpatialDomain.html:247:1 (WCSCoverageSpatialDomain.Rd:152): Warning: <h5> anchor "Usage" already defined
WCSCoverageSpatialDomain.html:253:1 (WCSCoverageSpatialDomain.Rd:156): Warning: <h5> anchor "Arguments" already defined
WCSCoverageSummary.html:180:1 (WCSCoverageSummary.Rd:113): Warning: <h5> anchor "Usage" already defined
WCSCoverageSummary.html:203:1 (WCSCoverageSummary.Rd:126): Warning: <h5> anchor "Usage" already defined
WCSCoverageSummary.html:209:1 (WCSCoverageSummary.Rd:130): Warning: <h5> anchor "Returns" already defined
WCSCoverageSummary.html:226:1 (WCSCoverageSummary.Rd:139): Warning: <h5> anchor "Usage" already defined
WCSCoverageSummary.html:232:1 (WCSCoverageSummary.Rd:143): Warning: <h5> anchor "Returns" already defined
WCSCoverageSummary.html:249:1 (WCSCoverageSummary.Rd:152): Warning: <h5> anchor "Usage" already defined
WCSCoverageSummary.html:255:1 (WCSCoverageSummary.Rd:156): Warning: <h5> anchor "Returns" already defined
WCSCoverageSummary.html:272:1 (WCSCoverageSummary.Rd:165): Warning: <h5> anchor "Usage" already defined
WCSCoverageSummary.html:278:1 (WCSCoverageSummary.Rd:169): Warning: <h5> anchor "Returns" already defined
WCSCoverageSummary.html:295:1 (WCSCoverageSummary.Rd:178): Warning: <h5> anchor "Usage" already defined
WCSCoverageSummary.html:301:1 (WCSCoverageSummary.Rd:182): Warning: <h5> anchor "Returns" already defined
WCSCoverageSummary.html:318:1 (WCSCoverageSummary.Rd:191): Warning: <h5> anchor "Usage" already defined
WCSCoverageSummary.html:324:1 (WCSCoverageSummary.Rd:195): Warning: <h5> anchor "Returns" already defined
WCSCoverageSummary.html:341:1 (WCSCoverageSummary.Rd:204): Warning: <h5> anchor "Usage" already defined
WCSCoverageSummary.html:362:1 (WCSCoverageSummary.Rd:223): Warning: <h5> anchor "Arguments" already defined
WCSCoverageSummary.html:401:1 (WCSCoverageSummary.Rd:256): Warning: <h5> anchor "Returns" already defined
WCSCoverageSummary.html:418:1 (WCSCoverageSummary.Rd:265): Warning: <h5> anchor "Usage" already defined
WCSCoverageSummary.html:430:1 (WCSCoverageSummary.Rd:275): Warning: <h5> anchor "Arguments" already defined
WCSCoverageSummary.html:452:1 (WCSCoverageSummary.Rd:291): Warning: <h5> anchor "Returns" already defined
WCSCoverageSummary.html:469:1 (WCSCoverageSummary.Rd:300): Warning: <h5> anchor "Usage" already defined
WCSCoverageSummary.html:475:1 (WCSCoverageSummary.Rd:304): Warning: <h5> anchor "Arguments" already defined
WCSCoverageTemporalDomain.html:150:1 (WCSCoverageTemporalDomain.Rd:99): Warning: <h5> anchor "Usage" already defined
WCSCoverageTemporalDomain.html:173:1 (WCSCoverageTemporalDomain.Rd:112): Warning: <h5> anchor "Usage" already defined
WCSCoverageTemporalDomain.html:179:1 (WCSCoverageTemporalDomain.Rd:116): Warning: <h5> anchor "Returns" already defined
WCSCoverageTemporalDomain.html:196:1 (WCSCoverageTemporalDomain.Rd:125): Warning: <h5> anchor "Usage" already defined
WCSCoverageTemporalDomain.html:202:1 (WCSCoverageTemporalDomain.Rd:129): Warning: <h5> anchor "Arguments" already defined
WCSDescribeCoverage.html:164:1 (WCSDescribeCoverage.Rd:120): Warning: <h5> anchor "Usage" already defined
WCSDescribeCoverage.html:170:1 (WCSDescribeCoverage.Rd:124): Warning: <h5> anchor "Arguments" already defined
WCSGSElevationDomain.html:150:1 (WCSGSElevationDomain.Rd:102): Warning: <h5> anchor "Usage" already defined
WCSGSElevationDomain.html:156:1 (WCSGSElevationDomain.Rd:106): Warning: <h5> anchor "Arguments" already defined
WCSGSTimeDomain.html:150:1 (WCSGSTimeDomain.Rd:102): Warning: <h5> anchor "Usage" already defined
WCSGSTimeDomain.html:156:1 (WCSGSTimeDomain.Rd:106): Warning: <h5> anchor "Arguments" already defined
WCSGetCoverage.html:214:1 (WCSGetCoverage.Rd:165): Warning: <h5> anchor "Usage" already defined
WCSGetCoverage.html:220:1 (WCSGetCoverage.Rd:169): Warning: <h5> anchor "Arguments" already defined
WCSGridCRS.html:145:1 (WCSGridCRS.Rd:98): Warning: <h5> anchor "Usage" already defined
WCSGridCRS.html:151:1 (WCSGridCRS.Rd:102): Warning: <h5> anchor "Arguments" already defined
WFSCapabilities.html:143:1 (WFSCapabilities.Rd:96): Warning: <h5> anchor "Usage" already defined
WFSCapabilities.html:149:1 (WFSCapabilities.Rd:100): Warning: <h5> anchor "Arguments" already defined
WFSCapabilities.html:179:1 (WFSCapabilities.Rd:116): Warning: <h5> anchor "Usage" already defined
WFSCapabilities.html:185:1 (WFSCapabilities.Rd:120): Warning: <h5> anchor "Arguments" already defined
WFSCapabilities.html:210:1 (WFSCapabilities.Rd:135): Warning: <h5> anchor "Usage" already defined
WFSCapabilities.html:216:1 (WFSCapabilities.Rd:139): Warning: <h5> anchor "Arguments" already defined
WFSClient.html:173:1 (WFSClient.Rd:135): Warning: <h5> anchor "Usage" already defined
WFSClient.html:196:1 (WFSClient.Rd:148): Warning: <h5> anchor "Usage" already defined
WFSClient.html:212:1 (WFSClient.Rd:158): Warning: <h5> anchor "Usage" already defined
WFSClient.html:218:1 (WFSClient.Rd:162): Warning: <h5> anchor "Arguments" already defined
WFSClient.html:231:1 (WFSClient.Rd:169): Warning: <h5> anchor "Returns" already defined
WFSClient.html:248:1 (WFSClient.Rd:178): Warning: <h5> anchor "Usage" already defined
WFSClient.html:254:1 (WFSClient.Rd:182): Warning: <h5> anchor "Arguments" already defined
WFSClient.html:269:1 (WFSClient.Rd:191): Warning: <h5> anchor "Returns" already defined
WFSClient.html:287:1 (WFSClient.Rd:201): Warning: <h5> anchor "Usage" already defined
WFSClient.html:293:1 (WFSClient.Rd:205): Warning: <h5> anchor "Arguments" already defined
WFSClient.html:306:1 (WFSClient.Rd:212): Warning: <h5> anchor "Returns" already defined
WFSClient.html:323:1 (WFSClient.Rd:221): Warning: <h5> anchor "Usage" already defined
WFSClient.html:329:1 (WFSClient.Rd:225): Warning: <h5> anchor "Arguments" already defined
WFSDescribeFeatureType.html:164:1 (WFSDescribeFeatureType.Rd:120): Warning: <h5> anchor "Usage" already defined
WFSDescribeFeatureType.html:170:1 (WFSDescribeFeatureType.Rd:124): Warning: <h5> anchor "Arguments" already defined
WFSFeatureType.html:170:1 (WFSFeatureType.Rd:99): Warning: <h5> anchor "Usage" already defined
WFSFeatureType.html:176:1 (WFSFeatureType.Rd:103): Warning: <h5> anchor "Arguments" already defined
WFSFeatureType.html:199:1 (WFSFeatureType.Rd:116): Warning: <h5> anchor "Usage" already defined
WFSFeatureType.html:205:1 (WFSFeatureType.Rd:120): Warning: <h5> anchor "Arguments" already defined
WFSFeatureType.html:228:1 (WFSFeatureType.Rd:133): Warning: <h5> anchor "Usage" already defined
WFSFeatureType.html:234:1 (WFSFeatureType.Rd:137): Warning: <h5> anchor "Arguments" already defined
WFSFeatureType.html:257:1 (WFSFeatureType.Rd:150): Warning: <h5> anchor "Usage" already defined
WFSFeatureType.html:263:1 (WFSFeatureType.Rd:154): Warning: <h5> anchor "Arguments" already defined
WFSFeatureType.html:286:1 (WFSFeatureType.Rd:167): Warning: <h5> anchor "Usage" already defined
WFSFeatureType.html:292:1 (WFSFeatureType.Rd:171): Warning: <h5> anchor "Arguments" already defined
WFSFeatureType.html:315:1 (WFSFeatureType.Rd:184): Warning: <h5> anchor "Usage" already defined
WFSFeatureType.html:321:1 (WFSFeatureType.Rd:188): Warning: <h5> anchor "Arguments" already defined
WFSFeatureType.html:344:1 (WFSFeatureType.Rd:201): Warning: <h5> anchor "Usage" already defined
WFSFeatureType.html:350:1 (WFSFeatureType.Rd:205): Warning: <h5> anchor "Arguments" already defined
WFSFeatureType.html:380:1 (WFSFeatureType.Rd:221): Warning: <h5> anchor "Usage" already defined
WFSFeatureType.html:386:1 (WFSFeatureType.Rd:225): Warning: <h5> anchor "Returns" already defined
WFSFeatureType.html:403:1 (WFSFeatureType.Rd:234): Warning: <h5> anchor "Usage" already defined
WFSFeatureType.html:409:1 (WFSFeatureType.Rd:238): Warning: <h5> anchor "Returns" already defined
WFSFeatureType.html:426:1 (WFSFeatureType.Rd:247): Warning: <h5> anchor "Usage" already defined
WFSFeatureType.html:432:1 (WFSFeatureType.Rd:251): Warning: <h5> anchor "Arguments" already defined
WFSFeatureType.html:445:1 (WFSFeatureType.Rd:258): Warning: <h5> anchor "Returns" already defined
WFSFeatureType.html:462:1 (WFSFeatureType.Rd:267): Warning: <h5> anchor "Usage" already defined
WFSFeatureType.html:477:1 (WFSFeatureType.Rd:280): Warning: <h5> anchor "Arguments" already defined
WFSFeatureType.html:506:1 (WFSFeatureType.Rd:303): Warning: <h5> anchor "Returns" already defined
WFSFeatureType.html:523:1 (WFSFeatureType.Rd:312): Warning: <h5> anchor "Usage" already defined
WFSFeatureType.html:529:1 (WFSFeatureType.Rd:316): Warning: <h5> anchor "Arguments" already defined
WFSFeatureTypeElement.html:161:1 (WFSFeatureTypeElement.Rd:100): Warning: <h5> anchor "Usage" already defined
WFSFeatureTypeElement.html:184:1 (WFSFeatureTypeElement.Rd:113): Warning: <h5> anchor "Usage" already defined
WFSFeatureTypeElement.html:190:1 (WFSFeatureTypeElement.Rd:117): Warning: <h5> anchor "Returns" already defined
WFSFeatureTypeElement.html:207:1 (WFSFeatureTypeElement.Rd:126): Warning: <h5> anchor "Usage" already defined
WFSFeatureTypeElement.html:213:1 (WFSFeatureTypeElement.Rd:130): Warning: <h5> anchor "Returns" already defined
WFSFeatureTypeElement.html:230:1 (WFSFeatureTypeElement.Rd:139): Warning: <h5> anchor "Usage" already defined
WFSFeatureTypeElement.html:236:1 (WFSFeatureTypeElement.Rd:143): Warning: <h5> anchor "Returns" already defined
WFSFeatureTypeElement.html:253:1 (WFSFeatureTypeElement.Rd:152): Warning: <h5> anchor "Usage" already defined
WFSFeatureTypeElement.html:259:1 (WFSFeatureTypeElement.Rd:156): Warning: <h5> anchor "Returns" already defined
WFSFeatureTypeElement.html:276:1 (WFSFeatureTypeElement.Rd:165): Warning: <h5> anchor "Usage" already defined
WFSFeatureTypeElement.html:282:1 (WFSFeatureTypeElement.Rd:169): Warning: <h5> anchor "Arguments" already defined
WFSFeatureTypeElement.html:305:1 (WFSFeatureTypeElement.Rd:182): Warning: <h5> anchor "Usage" already defined
WFSFeatureTypeElement.html:311:1 (WFSFeatureTypeElement.Rd:186): Warning: <h5> anchor "Arguments" already defined
WFSGetFeature.html:167:1 (WFSGetFeature.Rd:123): Warning: <h5> anchor "Usage" already defined
WFSGetFeature.html:173:1 (WFSGetFeature.Rd:127): Warning: <h5> anchor "Arguments" already defined
WMSCapabilities.html:149:1 (WMSCapabilities.Rd:98): Warning: <h5> anchor "Usage" already defined
WMSCapabilities.html:155:1 (WMSCapabilities.Rd:102): Warning: <h5> anchor "Arguments" already defined
WMSCapabilities.html:185:1 (WMSCapabilities.Rd:118): Warning: <h5> anchor "Usage" already defined
WMSCapabilities.html:191:1 (WMSCapabilities.Rd:122): Warning: <h5> anchor "Returns" already defined
WMSCapabilities.html:209:1 (WMSCapabilities.Rd:132): Warning: <h5> anchor "Usage" already defined
WMSCapabilities.html:215:1 (WMSCapabilities.Rd:136): Warning: <h5> anchor "Arguments" already defined
WMSCapabilities.html:228:1 (WMSCapabilities.Rd:143): Warning: <h5> anchor "Returns" already defined
WMSCapabilities.html:245:1 (WMSCapabilities.Rd:152): Warning: <h5> anchor "Usage" already defined
WMSCapabilities.html:251:1 (WMSCapabilities.Rd:156): Warning: <h5> anchor "Arguments" already defined
WMSCapabilities.html:276:1 (WMSCapabilities.Rd:171): Warning: <h5> anchor "Usage" already defined
WMSCapabilities.html:282:1 (WMSCapabilities.Rd:175): Warning: <h5> anchor "Arguments" already defined
WMSClient.html:176:1 (WMSClient.Rd:132): Warning: <h5> anchor "Usage" already defined
WMSClient.html:199:1 (WMSClient.Rd:145): Warning: <h5> anchor "Usage" already defined
WMSClient.html:216:1 (WMSClient.Rd:156): Warning: <h5> anchor "Usage" already defined
WMSClient.html:222:1 (WMSClient.Rd:160): Warning: <h5> anchor "Arguments" already defined
WMSClient.html:235:1 (WMSClient.Rd:167): Warning: <h5> anchor "Returns" already defined
WMSClient.html:252:1 (WMSClient.Rd:176): Warning: <h5> anchor "Usage" already defined
WMSClient.html:268:1 (WMSClient.Rd:186): Warning: <h5> anchor "Usage" already defined
WMSClient.html:286:1 (WMSClient.Rd:202): Warning: <h5> anchor "Arguments" already defined
WMSClient.html:319:1 (WMSClient.Rd:229): Warning: <h5> anchor "Returns" already defined
WMSClient.html:336:1 (WMSClient.Rd:238): Warning: <h5> anchor "Usage" already defined
WMSClient.html:352:1 (WMSClient.Rd:248): Warning: <h5> anchor "Usage" already defined
WMSClient.html:358:1 (WMSClient.Rd:252): Warning: <h5> anchor "Arguments" already defined
WMSGetFeatureInfo.html:191:1 (WMSGetFeatureInfo.Rd:147): Warning: <h5> anchor "Usage" already defined
WMSGetFeatureInfo.html:197:1 (WMSGetFeatureInfo.Rd:151): Warning: <h5> anchor "Arguments" already defined
WMSLayer.html:181:1 (WMSLayer.Rd:104): Warning: <h5> anchor "Usage" already defined
WMSLayer.html:204:1 (WMSLayer.Rd:117): Warning: <h5> anchor "Usage" already defined
WMSLayer.html:210:1 (WMSLayer.Rd:121): Warning: <h5> anchor "Returns" already defined
WMSLayer.html:227:1 (WMSLayer.Rd:130): Warning: <h5> anchor "Usage" already defined
WMSLayer.html:233:1 (WMSLayer.Rd:134): Warning: <h5> anchor "Returns" already defined
WMSLayer.html:250:1 (WMSLayer.Rd:143): Warning: <h5> anchor "Usage" already defined
WMSLayer.html:256:1 (WMSLayer.Rd:147): Warning: <h5> anchor "Returns" already defined
WMSLayer.html:273:1 (WMSLayer.Rd:156): Warning: <h5> anchor "Usage" already defined
WMSLayer.html:279:1 (WMSLayer.Rd:160): Warning: <h5> anchor "Returns" already defined
WMSLayer.html:296:1 (WMSLayer.Rd:169): Warning: <h5> anchor "Usage" already defined
WMSLayer.html:302:1 (WMSLayer.Rd:173): Warning: <h5> anchor "Returns" already defined
WMSLayer.html:319:1 (WMSLayer.Rd:182): Warning: <h5> anchor "Usage" already defined
WMSLayer.html:325:1 (WMSLayer.Rd:186): Warning: <h5> anchor "Returns" already defined
WMSLayer.html:342:1 (WMSLayer.Rd:195): Warning: <h5> anchor "Usage" already defined
WMSLayer.html:348:1 (WMSLayer.Rd:199): Warning: <h5> anchor "Returns" already defined
WMSLayer.html:365:1 (WMSLayer.Rd:208): Warning: <h5> anchor "Usage" already defined
WMSLayer.html:371:1 (WMSLayer.Rd:212): Warning: <h5> anchor "Returns" already defined
WMSLayer.html:388:1 (WMSLayer.Rd:221): Warning: <h5> anchor "Usage" already defined
WMSLayer.html:394:1 (WMSLayer.Rd:225): Warning: <h5> anchor "Returns" already defined
WMSLayer.html:411:1 (WMSLayer.Rd:234): Warning: <h5> anchor "Usage" already defined
WMSLayer.html:417:1 (WMSLayer.Rd:238): Warning: <h5> anchor "Arguments" already defined
WMSLayer.html:430:1 (WMSLayer.Rd:245): Warning: <h5> anchor "Returns" already defined
WMSLayer.html:447:1 (WMSLayer.Rd:254): Warning: <h5> anchor "Usage" already defined
WMSLayer.html:453:1 (WMSLayer.Rd:258): Warning: <h5> anchor "Arguments" already defined
WMSLayer.html:466:1 (WMSLayer.Rd:265): Warning: <h5> anchor "Returns" already defined
WMSLayer.html:483:1 (WMSLayer.Rd:274): Warning: <h5> anchor "Usage" already defined
WMSLayer.html:489:1 (WMSLayer.Rd:278): Warning: <h5> anchor "Returns" already defined
WMSLayer.html:506:1 (WMSLayer.Rd:287): Warning: <h5> anchor "Usage" already defined
WMSLayer.html:523:1 (WMSLayer.Rd:302): Warning: <h5> anchor "Arguments" already defined
WMSLayer.html:554:1 (WMSLayer.Rd:327): Warning: <h5> anchor "Returns" already defined
WMSLayer.html:571:1 (WMSLayer.Rd:336): Warning: <h5> anchor "Usage" already defined
WMSLayer.html:577:1 (WMSLayer.Rd:340): Warning: <h5> anchor "Arguments" already defined
WPSBoundingBoxData.html:135:1 (WPSBoundingBoxData.Rd:90): Warning: <h5> anchor "Usage" already defined
WPSBoundingBoxData.html:141:1 (WPSBoundingBoxData.Rd:94): Warning: <h5> anchor "Arguments" already defined
WPSCapabilities.html:151:1 (WPSCapabilities.Rd:102): Warning: <h5> anchor "Usage" already defined
WPSCapabilities.html:157:1 (WPSCapabilities.Rd:106): Warning: <h5> anchor "Arguments" already defined
WPSCapabilities.html:189:1 (WPSCapabilities.Rd:124): Warning: <h5> anchor "Usage" already defined
WPSCapabilities.html:195:1 (WPSCapabilities.Rd:128): Warning: <h5> anchor "Arguments" already defined
WPSCapabilities.html:208:1 (WPSCapabilities.Rd:135): Warning: <h5> anchor "Returns" already defined
WPSCapabilities.html:225:1 (WPSCapabilities.Rd:144): Warning: <h5> anchor "Usage" already defined
WPSCapabilities.html:240:1 (WPSCapabilities.Rd:157): Warning: <h5> anchor "Arguments" already defined
WPSCapabilities.html:277:1 (WPSCapabilities.Rd:184): Warning: <h5> anchor "Usage" already defined
WPSCapabilities.html:283:1 (WPSCapabilities.Rd:188): Warning: <h5> anchor "Arguments" already defined
WPSClient.html:173:1 (WPSClient.Rd:127): Warning: <h5> anchor "Usage" already defined
WPSClient.html:196:1 (WPSClient.Rd:140): Warning: <h5> anchor "Usage" already defined
WPSClient.html:216:1 (WPSClient.Rd:154): Warning: <h5> anchor "Usage" already defined
WPSClient.html:222:1 (WPSClient.Rd:158): Warning: <h5> anchor "Arguments" already defined
WPSClient.html:237:1 (WPSClient.Rd:167): Warning: <h5> anchor "Returns" already defined
WPSClient.html:254:1 (WPSClient.Rd:176): Warning: <h5> anchor "Usage" already defined
WPSClient.html:260:1 (WPSClient.Rd:180): Warning: <h5> anchor "Arguments" already defined
WPSClient.html:273:1 (WPSClient.Rd:187): Warning: <h5> anchor "Returns" already defined
WPSClient.html:290:1 (WPSClient.Rd:196): Warning: <h5> anchor "Usage" already defined
WPSClient.html:305:1 (WPSClient.Rd:209): Warning: <h5> anchor "Arguments" already defined
WPSClient.html:342:1 (WPSClient.Rd:236): Warning: <h5> anchor "Usage" already defined
WPSClient.html:348:1 (WPSClient.Rd:240): Warning: <h5> anchor "Arguments" already defined
WPSComplexData.html:157:1 (WPSComplexData.Rd:99): Warning: <h5> anchor "Usage" already defined
WPSComplexData.html:163:1 (WPSComplexData.Rd:103): Warning: <h5> anchor "Arguments" already defined
WPSComplexData.html:187:1 (WPSComplexData.Rd:117): Warning: <h5> anchor "Usage" already defined
WPSComplexData.html:193:1 (WPSComplexData.Rd:121): Warning: <h5> anchor "Arguments" already defined
WPSComplexData.html:223:1 (WPSComplexData.Rd:137): Warning: <h5> anchor "Usage" already defined
WPSComplexData.html:229:1 (WPSComplexData.Rd:141): Warning: <h5> anchor "Returns" already defined
WPSComplexData.html:246:1 (WPSComplexData.Rd:150): Warning: <h5> anchor "Usage" already defined
WPSComplexData.html:252:1 (WPSComplexData.Rd:154): Warning: <h5> anchor "Arguments" already defined
WPSComplexInputDescription.html:133:1 (WPSComplexInputDescription.Rd:92): Warning: <h5> anchor "Usage" already defined
WPSComplexInputDescription.html:139:1 (WPSComplexInputDescription.Rd:96): Warning: <h5> anchor "Arguments" already defined
WPSComplexOutputDescription.html:130:1 (WPSComplexOutputDescription.Rd:89): Warning: <h5> anchor "Usage" already defined
WPSComplexOutputDescription.html:136:1 (WPSComplexOutputDescription.Rd:93): Warning: <h5> anchor "Arguments" already defined
WPSDescribeProcess.html:164:1 (WPSDescribeProcess.Rd:120): Warning: <h5> anchor "Usage" already defined
WPSDescribeProcess.html:170:1 (WPSDescribeProcess.Rd:124): Warning: <h5> anchor "Arguments" already defined
WPSDescriptionParameter.html:134:1 (WPSDescriptionParameter.Rd:89): Warning: <h5> anchor "Usage" already defined
WPSDescriptionParameter.html:157:1 (WPSDescriptionParameter.Rd:102): Warning: <h5> anchor "Usage" already defined
WPSDescriptionParameter.html:163:1 (WPSDescriptionParameter.Rd:106): Warning: <h5> anchor "Returns" already defined
WPSDescriptionParameter.html:180:1 (WPSDescriptionParameter.Rd:115): Warning: <h5> anchor "Usage" already defined
WPSDescriptionParameter.html:186:1 (WPSDescriptionParameter.Rd:119): Warning: <h5> anchor "Arguments" already defined
WPSException.html:138:1 (WPSException.Rd:84): Warning: <h5> anchor "Usage" already defined
WPSException.html:144:1 (WPSException.Rd:88): Warning: <h5> anchor "Arguments" already defined
WPSException.html:167:1 (WPSException.Rd:101): Warning: <h5> anchor "Usage" already defined
WPSException.html:173:1 (WPSException.Rd:105): Warning: <h5> anchor "Arguments" already defined
WPSExecute.html:198:1 (WPSExecute.Rd:147): Warning: <h5> anchor "Usage" already defined
WPSExecute.html:221:1 (WPSExecute.Rd:160): Warning: <h5> anchor "Usage" already defined
WPSExecute.html:227:1 (WPSExecute.Rd:164): Warning: <h5> anchor "Arguments" already defined
WPSExecuteResponse.html:176:1 (WPSExecuteResponse.Rd:108): Warning: <h5> anchor "Usage" already defined
WPSExecuteResponse.html:199:1 (WPSExecuteResponse.Rd:121): Warning: <h5> anchor "Usage" already defined
WPSExecuteResponse.html:205:1 (WPSExecuteResponse.Rd:125): Warning: <h5> anchor "Returns" already defined
WPSExecuteResponse.html:222:1 (WPSExecuteResponse.Rd:134): Warning: <h5> anchor "Usage" already defined
WPSExecuteResponse.html:228:1 (WPSExecuteResponse.Rd:138): Warning: <h5> anchor "Returns" already defined
WPSExecuteResponse.html:245:1 (WPSExecuteResponse.Rd:147): Warning: <h5> anchor "Usage" already defined
WPSExecuteResponse.html:251:1 (WPSExecuteResponse.Rd:151): Warning: <h5> anchor "Returns" already defined
WPSExecuteResponse.html:268:1 (WPSExecuteResponse.Rd:160): Warning: <h5> anchor "Usage" already defined
WPSExecuteResponse.html:274:1 (WPSExecuteResponse.Rd:164): Warning: <h5> anchor "Returns" already defined
WPSExecuteResponse.html:291:1 (WPSExecuteResponse.Rd:173): Warning: <h5> anchor "Usage" already defined
WPSExecuteResponse.html:297:1 (WPSExecuteResponse.Rd:177): Warning: <h5> anchor "Returns" already defined
WPSExecuteResponse.html:314:1 (WPSExecuteResponse.Rd:186): Warning: <h5> anchor "Usage" already defined
WPSExecuteResponse.html:320:1 (WPSExecuteResponse.Rd:190): Warning: <h5> anchor "Arguments" already defined
WPSExecuteResponse.html:349:1 (WPSExecuteResponse.Rd:209): Warning: <h5> anchor "Usage" already defined
WPSExecuteResponse.html:355:1 (WPSExecuteResponse.Rd:213): Warning: <h5> anchor "Arguments" already defined
WPSExecuteResponse.html:378:1 (WPSExecuteResponse.Rd:226): Warning: <h5> anchor "Usage" already defined
WPSExecuteResponse.html:384:1 (WPSExecuteResponse.Rd:230): Warning: <h5> anchor "Arguments" already defined
WPSFormat.html:140:1 (WPSFormat.Rd:88): Warning: <h5> anchor "Usage" already defined
WPSFormat.html:163:1 (WPSFormat.Rd:101): Warning: <h5> anchor "Usage" already defined
WPSFormat.html:169:1 (WPSFormat.Rd:105): Warning: <h5> anchor "Returns" already defined
WPSFormat.html:186:1 (WPSFormat.Rd:114): Warning: <h5> anchor "Usage" already defined
WPSFormat.html:192:1 (WPSFormat.Rd:118): Warning: <h5> anchor "Returns" already defined
WPSFormat.html:209:1 (WPSFormat.Rd:127): Warning: <h5> anchor "Usage" already defined
WPSFormat.html:215:1 (WPSFormat.Rd:131): Warning: <h5> anchor "Arguments" already defined
WPSFormat.html:238:1 (WPSFormat.Rd:144): Warning: <h5> anchor "Usage" already defined
WPSFormat.html:244:1 (WPSFormat.Rd:148): Warning: <h5> anchor "Returns" already defined
WPSFormat.html:261:1 (WPSFormat.Rd:157): Warning: <h5> anchor "Usage" already defined
WPSFormat.html:267:1 (WPSFormat.Rd:161): Warning: <h5> anchor "Arguments" already defined
WPSInput.html:139:1 (WPSInput.Rd:87): Warning: <h5> anchor "Usage" already defined
WPSInput.html:145:1 (WPSInput.Rd:91): Warning: <h5> anchor "Arguments" already defined
WPSInputDescription.html:139:1 (WPSInputDescription.Rd:91): Warning: <h5> anchor "Usage" already defined
WPSInputDescription.html:162:1 (WPSInputDescription.Rd:104): Warning: <h5> anchor "Usage" already defined
WPSInputDescription.html:168:1 (WPSInputDescription.Rd:108): Warning: <h5> anchor "Returns" already defined
WPSInputDescription.html:185:1 (WPSInputDescription.Rd:117): Warning: <h5> anchor "Usage" already defined
WPSInputDescription.html:191:1 (WPSInputDescription.Rd:121): Warning: <h5> anchor "Returns" already defined
WPSInputDescription.html:208:1 (WPSInputDescription.Rd:130): Warning: <h5> anchor "Usage" already defined
WPSInputDescription.html:214:1 (WPSInputDescription.Rd:134): Warning: <h5> anchor "Arguments" already defined
WPSLiteralData.html:141:1 (WPSLiteralData.Rd:85): Warning: <h5> anchor "Usage" already defined
WPSLiteralData.html:147:1 (WPSLiteralData.Rd:89): Warning: <h5> anchor "Arguments" already defined
WPSLiteralData.html:171:1 (WPSLiteralData.Rd:103): Warning: <h5> anchor "Usage" already defined
WPSLiteralData.html:177:1 (WPSLiteralData.Rd:107): Warning: <h5> anchor "Arguments" already defined
WPSLiteralData.html:207:1 (WPSLiteralData.Rd:123): Warning: <h5> anchor "Usage" already defined
WPSLiteralData.html:213:1 (WPSLiteralData.Rd:127): Warning: <h5> anchor "Arguments" already defined
WPSLiteralInputDescription.html:141:1 (WPSLiteralInputDescription.Rd:93): Warning: <h5> anchor "Usage" already defined
WPSLiteralInputDescription.html:164:1 (WPSLiteralInputDescription.Rd:106): Warning: <h5> anchor "Usage" already defined
WPSLiteralInputDescription.html:170:1 (WPSLiteralInputDescription.Rd:110): Warning: <h5> anchor "Returns" already defined
WPSLiteralInputDescription.html:187:1 (WPSLiteralInputDescription.Rd:119): Warning: <h5> anchor "Usage" already defined
WPSLiteralInputDescription.html:193:1 (WPSLiteralInputDescription.Rd:123): Warning: <h5> anchor "Returns" already defined
WPSLiteralInputDescription.html:210:1 (WPSLiteralInputDescription.Rd:132): Warning: <h5> anchor "Usage" already defined
WPSLiteralInputDescription.html:216:1 (WPSLiteralInputDescription.Rd:136): Warning: <h5> anchor "Arguments" already defined
WPSLiteralOutputDescription.html:130:1 (WPSLiteralOutputDescription.Rd:89): Warning: <h5> anchor "Usage" already defined
WPSLiteralOutputDescription.html:136:1 (WPSLiteralOutputDescription.Rd:93): Warning: <h5> anchor "Arguments" already defined
WPSOutput.html:161:1 (WPSOutput.Rd:103): Warning: <h5> anchor "Usage" already defined
WPSOutput.html:167:1 (WPSOutput.Rd:107): Warning: <h5> anchor "Arguments" already defined
WPSOutput.html:190:1 (WPSOutput.Rd:120): Warning: <h5> anchor "Usage" already defined
WPSOutput.html:213:1 (WPSOutput.Rd:133): Warning: <h5> anchor "Usage" already defined
WPSOutput.html:219:1 (WPSOutput.Rd:137): Warning: <h5> anchor "Returns" already defined
WPSOutput.html:236:1 (WPSOutput.Rd:146): Warning: <h5> anchor "Usage" already defined
WPSOutput.html:242:1 (WPSOutput.Rd:150): Warning: <h5> anchor "Arguments" already defined
WPSOutputDescription.html:130:1 (WPSOutputDescription.Rd:88): Warning: <h5> anchor "Usage" already defined
WPSOutputDescription.html:136:1 (WPSOutputDescription.Rd:92): Warning: <h5> anchor "Arguments" already defined
WPSParameter.html:134:1 (WPSParameter.Rd:84): Warning: <h5> anchor "Usage" already defined
WPSParameter.html:157:1 (WPSParameter.Rd:97): Warning: <h5> anchor "Usage" already defined
WPSParameter.html:163:1 (WPSParameter.Rd:101): Warning: <h5> anchor "Returns" already defined
WPSParameter.html:180:1 (WPSParameter.Rd:110): Warning: <h5> anchor "Usage" already defined
WPSParameter.html:186:1 (WPSParameter.Rd:114): Warning: <h5> anchor "Returns" already defined
WPSParameter.html:203:1 (WPSParameter.Rd:123): Warning: <h5> anchor "Usage" already defined
WPSParameter.html:209:1 (WPSParameter.Rd:127): Warning: <h5> anchor "Arguments" already defined
WPSProcess.html:142:1 (WPSProcess.Rd:88): Warning: <h5> anchor "Usage" already defined
WPSProcess.html:165:1 (WPSProcess.Rd:101): Warning: <h5> anchor "Usage" already defined
WPSProcess.html:171:1 (WPSProcess.Rd:105): Warning: <h5> anchor "Returns" already defined
WPSProcess.html:188:1 (WPSProcess.Rd:114): Warning: <h5> anchor "Usage" already defined
WPSProcess.html:194:1 (WPSProcess.Rd:118): Warning: <h5> anchor "Returns" already defined
WPSProcess.html:211:1 (WPSProcess.Rd:127): Warning: <h5> anchor "Usage" already defined
WPSProcess.html:217:1 (WPSProcess.Rd:131): Warning: <h5> anchor "Returns" already defined
WPSProcess.html:234:1 (WPSProcess.Rd:140): Warning: <h5> anchor "Usage" already defined
WPSProcess.html:248:1 (WPSProcess.Rd:152): Warning: <h5> anchor "Arguments" already defined
WPSProcess.html:283:1 (WPSProcess.Rd:177): Warning: <h5> anchor "Usage" already defined
WPSProcess.html:289:1 (WPSProcess.Rd:181): Warning: <h5> anchor "Arguments" already defined
WPSProcessDescription.html:152:1 (WPSProcessDescription.Rd:91): Warning: <h5> anchor "Usage" already defined
WPSProcessDescription.html:175:1 (WPSProcessDescription.Rd:104): Warning: <h5> anchor "Usage" already defined
WPSProcessDescription.html:181:1 (WPSProcessDescription.Rd:108): Warning: <h5> anchor "Returns" already defined
WPSProcessDescription.html:198:1 (WPSProcessDescription.Rd:117): Warning: <h5> anchor "Usage" already defined
WPSProcessDescription.html:204:1 (WPSProcessDescription.Rd:121): Warning: <h5> anchor "Returns" already defined
WPSProcessDescription.html:221:1 (WPSProcessDescription.Rd:130): Warning: <h5> anchor "Usage" already defined
WPSProcessDescription.html:227:1 (WPSProcessDescription.Rd:134): Warning: <h5> anchor "Arguments" already defined
WPSProcessDescription.html:250:1 (WPSProcessDescription.Rd:147): Warning: <h5> anchor "Usage" already defined
WPSProcessDescription.html:256:1 (WPSProcessDescription.Rd:151): Warning: <h5> anchor "Returns" already defined
WPSProcessDescription.html:273:1 (WPSProcessDescription.Rd:160): Warning: <h5> anchor "Usage" already defined
WPSProcessDescription.html:279:1 (WPSProcessDescription.Rd:164): Warning: <h5> anchor "Returns" already defined
WPSProcessDescription.html:296:1 (WPSProcessDescription.Rd:173): Warning: <h5> anchor "Usage" already defined
WPSProcessDescription.html:302:1 (WPSProcessDescription.Rd:177): Warning: <h5> anchor "Returns" already defined
WPSProcessDescription.html:319:1 (WPSProcessDescription.Rd:186): Warning: <h5> anchor "Usage" already defined
WPSProcessDescription.html:325:1 (WPSProcessDescription.Rd:190): Warning: <h5> anchor "Returns" already defined
WPSProcessDescription.html:342:1 (WPSProcessDescription.Rd:199): Warning: <h5> anchor "Usage" already defined
WPSProcessDescription.html:348:1 (WPSProcessDescription.Rd:203): Warning: <h5> anchor "Returns" already defined
WPSProcessDescription.html:365:1 (WPSProcessDescription.Rd:212): Warning: <h5> anchor "Usage" already defined
WPSProcessDescription.html:371:1 (WPSProcessDescription.Rd:216): Warning: <h5> anchor "Arguments" already defined
WPSResponseDocument.html:148:1 (WPSResponseDocument.Rd:96): Warning: <h5> anchor "Usage" already defined
WPSResponseDocument.html:154:1 (WPSResponseDocument.Rd:100): Warning: <h5> anchor "Arguments" already defined
WPSStatus.html:147:1 (WPSStatus.Rd:87): Warning: <h5> anchor "Usage" already defined
WPSStatus.html:153:1 (WPSStatus.Rd:91): Warning: <h5> anchor "Arguments" already defined
WPSStatus.html:178:1 (WPSStatus.Rd:106): Warning: <h5> anchor "Usage" already defined
WPSStatus.html:201:1 (WPSStatus.Rd:119): Warning: <h5> anchor "Usage" already defined
WPSStatus.html:207:1 (WPSStatus.Rd:123): Warning: <h5> anchor "Returns" already defined
WPSStatus.html:224:1 (WPSStatus.Rd:132): Warning: <h5> anchor "Usage" already defined
WPSStatus.html:230:1 (WPSStatus.Rd:136): Warning: <h5> anchor "Returns" already defined
WPSStatus.html:247:1 (WPSStatus.Rd:145): Warning: <h5> anchor "Usage" already defined
WPSStatus.html:253:1 (WPSStatus.Rd:149): Warning: <h5> anchor "Arguments" already defined
- checking for non-standard things in the check directory ... OK
- DONE
Status: 1 NOTE