- using R Under development (unstable) (2024-06-28 r86850)
- using platform: x86_64-pc-linux-gnu
- R was compiled by
gcc-13 (Debian 13.3.0-1) 13.3.0
GNU Fortran (Debian 13.3.0-1) 13.3.0
- running under: Debian GNU/Linux trixie/sid
- using session charset: UTF-8
- checking for file ‘mbreaks/DESCRIPTION’ ... OK
- checking extension type ... Package
- this is package ‘mbreaks’ version ‘1.0.0’
- package encoding: UTF-8
- checking package namespace information ... OK
- checking package dependencies ... OK
- checking if this is a source package ... OK
- checking if there is a namespace ... OK
- checking for executable files ... OK
- checking for hidden files and directories ... OK
- checking for portable file names ... OK
- checking for sufficient/correct file permissions ... OK
- checking serialization versions ... OK
- checking whether package ‘mbreaks’ can be installed ... OK
See the install log for details.
- checking package directory ... OK
- checking for future file timestamps ... OK
- checking ‘build’ directory ... OK
- checking DESCRIPTION meta-information ... OK
- checking top-level files ... OK
- checking for left-over files ... OK
- checking index information ... OK
- checking package subdirectories ... OK
- checking code files for non-ASCII characters ... OK
- checking R files for syntax errors ... OK
- checking whether the package can be loaded ... [1s/2s] OK
- checking whether the package can be loaded with stated dependencies ... [1s/2s] OK
- checking whether the package can be unloaded cleanly ... [1s/2s] OK
- checking whether the namespace can be loaded with stated dependencies ... [1s/2s] OK
- checking whether the namespace can be unloaded cleanly ... [1s/2s] OK
- checking loading without being on the library search path ... [1s/2s] OK
- checking use of S3 registration ... OK
- checking dependencies in R code ... OK
- checking S3 generic/method consistency ... OK
- checking replacement functions ... OK
- checking foreign function calls ... OK
- checking R code for possible problems ... [15s/25s] OK
- checking Rd files ... [1s/1s] NOTE
checkRd: (-1) dofix.Rd:93: Lost braces; missing escapes or markup?
93 | (the variance of the errors u if \code{robust}={0})}
| ^
checkRd: (-1) doglob.Rd:38: Lost braces in \itemize; \value handles \item{}{} directly
checkRd: (-1) doglob.Rd:39: Lost braces in \itemize; \value handles \item{}{} directly
checkRd: (-1) doglob.Rd:40: Lost braces in \itemize; \value handles \item{}{} directly
checkRd: (-1) doorder.Rd:91: Lost braces; missing escapes or markup?
91 | (the variance of the errors u if \code{robust}={0})}
| ^
checkRd: (-1) doseqtests.Rd:94: Lost braces; missing escapes or markup?
94 | (the variance of the errors u if \code{robust}={0})}
| ^
checkRd: (-1) dosequa.Rd:94: Lost braces; missing escapes or markup?
94 | (the variance of the errors u if \code{robust}={0})}
| ^
checkRd: (-1) dotest.Rd:81: Lost braces; missing escapes or markup?
81 | (the variance of the errors u if \code{robust}={0})}
| ^
checkRd: (-1) estim.Rd:33: Lost braces in \itemize; \value handles \item{}{} directly
checkRd: (-1) estim.Rd:34: Lost braces in \itemize; \value handles \item{}{} directly
checkRd: (-1) estim.Rd:35-38: Lost braces in \itemize; \value handles \item{}{} directly
checkRd: (-1) estim.Rd:39: Lost braces in \itemize; \value handles \item{}{} directly
checkRd: (-1) mdl.Rd:80: Lost braces; missing escapes or markup?
80 | assumed identical across segments (the variance of the errors u if \code{robust}={0})}
| ^
checkRd: (-1) spflp1.Rd:37: Lost braces in \itemize; \value handles \item{}{} directly
checkRd: (-1) spflp1.Rd:38: Lost braces in \itemize; \value handles \item{}{} directly
checkRd: (-1) spflp1.Rd:43: Lost braces in \itemize; \value handles \item{}{} directly
checkRd: (-1) spflp1.Rd:44: Lost braces in \itemize; \value handles \item{}{} directly
- checking Rd metadata ... OK
- checking Rd line widths ... OK
- checking Rd cross-references ... OK
- checking for missing documentation entries ... OK
- checking for code/documentation mismatches ... OK
- checking Rd \usage sections ... OK
- checking Rd contents ... OK
- checking for unstated dependencies in examples ... OK
- checking contents of ‘data’ directory ... OK
- checking data for non-ASCII characters ... [0s/1s] OK
- checking LazyData ... OK
- checking data for ASCII and uncompressed saves ... OK
- checking R/sysdata.rda ... OK
- checking installed files from ‘inst/doc’ ... OK
- checking files in ‘vignettes’ ... OK
- checking examples ... [9s/17s] OK
Examples with CPU (user + system) or elapsed time > 5s
user system elapsed
mdl 3.488 0.041 6.342
- checking for unstated dependencies in ‘tests’ ... OK
- checking tests ... [2s/4s] OK
Running ‘testthat.R’ [2s/3s]
- checking for unstated dependencies in vignettes ... OK
- checking package vignettes ... OK
- checking re-building of vignette outputs ... [11s/20s] OK
- checking PDF version of manual ... [6s/13s] OK
- checking HTML version of manual ... [2s/4s] NOTE
Found the following HTML validation problems:
compile_sbtests.html:31:1 (compile_sbtests.Rd:29): Warning: trimming empty <li>
dorepart.html:93:1 (dorepart.Rd:47): Warning: trimming empty <li>
dosequa.html:94:1 (dosequa.Rd:49): Warning: trimming empty <li>
- checking for non-standard things in the check directory ... OK
- DONE
Status: 2 NOTEs