- using R Under development (unstable) (2025-01-31 r87670)
- using platform: x86_64-pc-linux-gnu
- R was compiled by
gcc-14 (Debian 14.2.0-12) 14.2.0
GNU Fortran (Debian 14.2.0-12) 14.2.0
- running under: Debian GNU/Linux trixie/sid
- using session charset: UTF-8
- checking for file ‘automap/DESCRIPTION’ ... OK
- this is package ‘automap’ version ‘1.1-12’
- checking package namespace information ... OK
- checking package dependencies ... OK
- checking if this is a source package ... OK
- checking if there is a namespace ... OK
- checking for executable files ... OK
- checking for hidden files and directories ... OK
- checking for portable file names ... OK
- checking for sufficient/correct file permissions ... OK
- checking serialization versions ... OK
- checking whether package ‘automap’ can be installed ... OK
See the install log for details.
- checking package directory ... OK
- checking for future file timestamps ... OK
- checking DESCRIPTION meta-information ... OK
- checking top-level files ... OK
- checking for left-over files ... OK
- checking index information ... OK
- checking package subdirectories ... OK
- checking code files for non-ASCII characters ... OK
- checking R files for syntax errors ... OK
- checking whether the package can be loaded ... [2s/3s] OK
- checking whether the package can be loaded with stated dependencies ... [2s/2s] OK
- checking whether the package can be unloaded cleanly ... [2s/3s] OK
- checking whether the namespace can be loaded with stated dependencies ... [2s/2s] OK
- checking whether the namespace can be unloaded cleanly ... [2s/3s] OK
- checking loading without being on the library search path ... [2s/3s] OK
- checking use of S3 registration ... OK
- checking dependencies in R code ... OK
- checking S3 generic/method consistency ... OK
- checking replacement functions ... OK
- checking foreign function calls ... OK
- checking R code for possible problems ... [11s/12s] OK
- checking Rd files ... [0s/0s] OK
- checking Rd metadata ... OK
- checking Rd line widths ... OK
- checking Rd cross-references ... OK
- checking for missing documentation entries ... OK
- checking for code/documentation mismatches ... OK
- checking Rd \usage sections ... OK
- checking Rd contents ... OK
- checking for unstated dependencies in examples ... OK
- checking examples ... [6s/8s] OK
- checking for unstated dependencies in ‘demo’ ... OK
- checking for unstated dependencies in ‘tests’ ... OK
- checking tests ... [26s/31s] NOTE
Running ‘autoKrige.cv.R’ [12s/15s]
Comparing ‘autoKrige.cv.Rout’ to ‘autoKrige.cv.Rout.save’ ... OK
Running ‘automap.R’ [14s/16s]
Comparing ‘automap.Rout’ to ‘automap.Rout.save’ ...168c168
< 3rd Qu.: 552 3rd Qu.: 71373 3rd Qu.:267.2
---
> 3rd Qu.: 552 3rd Qu.: 71374 3rd Qu.:267.2
244c244
< Max. :1728 Max. :67433 Max. :259.7
---
> Max. :1728 Max. :67434 Max. :259.7
495c495
< 3rd Qu.: 552 3rd Qu.: 71373 3rd Qu.:267.2
---
> 3rd Qu.: 552 3rd Qu.: 71374 3rd Qu.:267.2
545c545
< Max. :1728 Max. :67433 Max. :259.7
---
> Max. :1728 Max. :67434 Max. :259.7
- checking PDF version of manual ... [5s/6s] OK
- checking HTML version of manual ... [0s/0s] OK
- checking for non-standard things in the check directory ... OK
- DONE
Status: 1 NOTE