- using R Under development (unstable) (2024-08-16 r87026)
- using platform: x86_64-pc-linux-gnu
- R was compiled by
gcc-14 (Debian 14.2.0-1) 14.2.0
GNU Fortran (Debian 14.2.0-1) 14.2.0
- running under: Debian GNU/Linux trixie/sid
- using session charset: UTF-8
- checking for file ‘VGAMdata/DESCRIPTION’ ... OK
- this is package ‘VGAMdata’ version ‘1.1-9’
- checking package namespace information ... OK
- checking package dependencies ... OK
- checking if this is a source package ... OK
- checking if there is a namespace ... OK
- checking for executable files ... OK
- checking for hidden files and directories ... OK
- checking for portable file names ... OK
- checking for sufficient/correct file permissions ... OK
- checking whether package ‘VGAMdata’ can be installed ... OK
See the install log for details.
- checking package directory ... OK
- checking for future file timestamps ... OK
- checking DESCRIPTION meta-information ... OK
- checking top-level files ... OK
- checking for left-over files ... OK
- checking index information ... OK
- checking package subdirectories ... OK
- checking code files for non-ASCII characters ... OK
- checking R files for syntax errors ... OK
- checking whether the package can be loaded ... [0s/1s] OK
- checking whether the package can be loaded with stated dependencies ... [1s/1s] OK
- checking whether the package can be unloaded cleanly ... [1s/1s] OK
- checking whether the namespace can be loaded with stated dependencies ... [1s/1s] OK
- checking whether the namespace can be unloaded cleanly ... [1s/1s] OK
- checking loading without being on the library search path ... [0s/1s] OK
- checking use of S3 registration ... OK
- checking dependencies in R code ... OK
- checking S3 generic/method consistency ... OK
- checking replacement functions ... OK
- checking foreign function calls ... OK
- checking R code for possible problems ... [9s/13s] OK
- checking Rd files ... [1s/1s] OK
- checking Rd metadata ... OK
- checking Rd line widths ... OK
- checking Rd cross-references ... NOTE
Found the following Rd file(s) with Rd \link{} targets missing package
anchors:
bellff.Rd: CommonVGAMffArguments, vglmff-class, vglm, vgam, poissonff
bigamma.mckay.Rd: Links, CommonVGAMffArguments, vglmff-class, vglm,
vgam
oalog.Rd: Links, logff, CommonVGAMffArguments, fittedvlm,
vglmff-class, vglm, vgam, binomialff, Gaitdlog, simulate.vlm
oalogUC.Rd: Gaitdlog
oapospoisson.Rd: Links, pospoisson, CommonVGAMffArguments, fittedvlm,
vglmff-class, vglm, vgam, binomialff, simulate.vlm
oazeta.Rd: Links, zeta, CommonVGAMffArguments, fittedvlm,
vglmff-class, vglm, vgam, binomialff, zetaff, simulate.vlm
oazetaUC.Rd: zeta
oilog.Rd: zipoisson, CommonVGAMffArguments, vglmff-class, vglm,
rrvglm, vgam, Gaitdlog, logff
oilogUC.Rd: Gaitdlog, rlog, logff
oiposbinomUC.Rd: posbinomial, binomialff
oiposbinomial.Rd: Links, CommonVGAMffArguments, fittedvlm,
binomialff, posbinomial, vglmff-class, vglm, vgam, zipoisson
oipospoisUC.Rd: pospoisson, poissonff
oipospoisson.Rd: zipoisson, CommonVGAMffArguments, vglmff-class,
vglm, rrvglm, vgam, pospoisson, poissonff, simulate.vlm
oizeta.Rd: zipoisson, CommonVGAMffArguments, vglmff-class, vglm,
rrvglm, vgam, zetaff, diffzeta, zeta
oizetaUC.Rd: Zeta, zetaff
oizipf.Rd: zipf, zipoisson, CommonVGAMffArguments, vglmff-class,
vglm, rrvglm, vgam
oizipfUC.Rd: Zipf, zipf
otlog.Rd: logff, CommonVGAMffArguments, vglmff-class, vglm, vgam,
Gaitdlog, simulate.vlm
otlogUC.Rd: logff, plog, Gaitdlog, rlog
otpospoisUC.Rd: pospoisson
otpospoisson.Rd: pospoisson, CommonVGAMffArguments, vglmff-class,
vglm, vgam, simulate.vlm
otzeta.Rd: zetaff, CommonVGAMffArguments, vglmff-class, vglm, vgam,
diffzeta, zeta, dzeta, hzeta, zipf
otzetaUC.Rd: zetaff
posbinomUC.Rd: Gaitdbinom
posnegbinUC.Rd: Gaitdnbinom
Please provide package anchors for all Rd \link{} targets not in the
package itself and the base packages.
- checking for missing documentation entries ... OK
- checking for code/documentation mismatches ... OK
- checking Rd \usage sections ... OK
- checking Rd contents ... OK
- checking for unstated dependencies in examples ... OK
- checking contents of ‘data’ directory ... OK
- checking data for non-ASCII characters ... [1s/1s] OK
- checking LazyData ... OK
- checking data for ASCII and uncompressed saves ... OK
- checking examples ... [2s/3s] OK
- checking PDF version of manual ... [7s/9s] OK
- checking HTML version of manual ... [4s/4s] OK
- checking for non-standard things in the check directory ... OK
- DONE
Status: 1 NOTE