- using R Under development (unstable) (2024-06-28 r86850)
- using platform: x86_64-pc-linux-gnu
- R was compiled by
gcc-13 (Debian 13.3.0-1) 13.3.0
GNU Fortran (Debian 13.3.0-1) 13.3.0
- running under: Debian GNU/Linux trixie/sid
- using session charset: UTF-8
- checking for file ‘MoLE/DESCRIPTION’ ... OK
- checking extension type ... Package
- this is package ‘MoLE’ version ‘1.0.1’
- checking package namespace information ... OK
- checking package dependencies ... OK
- checking if this is a source package ... OK
- checking if there is a namespace ... OK
- checking for executable files ... OK
- checking for hidden files and directories ... OK
- checking for portable file names ... OK
- checking for sufficient/correct file permissions ... OK
- checking serialization versions ... OK
- checking whether package ‘MoLE’ can be installed ... OK
See the install log for details.
- checking package directory ... OK
- checking for future file timestamps ... OK
- checking DESCRIPTION meta-information ... OK
- checking top-level files ... OK
- checking for left-over files ... OK
- checking index information ... OK
- checking package subdirectories ... NOTE
Problems with news in ‘NEWS.md’:
No news entries found.
- checking code files for non-ASCII characters ... OK
- checking R files for syntax errors ... OK
- checking whether the package can be loaded ... [0s/0s] OK
- checking whether the package can be loaded with stated dependencies ... [0s/0s] OK
- checking whether the package can be unloaded cleanly ... [0s/0s] OK
- checking whether the namespace can be loaded with stated dependencies ... [0s/0s] OK
- checking whether the namespace can be unloaded cleanly ... [0s/0s] OK
- checking loading without being on the library search path ... [0s/0s] OK
- checking use of S3 registration ... OK
- checking dependencies in R code ... OK
- checking S3 generic/method consistency ... OK
- checking replacement functions ... OK
- checking foreign function calls ... OK
- checking R code for possible problems ... [29s/54s] OK
- checking Rd files ... [1s/1s] NOTE
checkRd: (-1) CHECKSUCCESS.Rd:44: Escaped LaTeX specials: \&
- checking Rd metadata ... OK
- checking Rd line widths ... OK
- checking Rd cross-references ... OK
- checking for missing documentation entries ... OK
- checking for code/documentation mismatches ... OK
- checking Rd \usage sections ... OK
- checking Rd contents ... OK
- checking for unstated dependencies in examples ... OK
- checking contents of ‘data’ directory ... OK
- checking data for non-ASCII characters ... [0s/1s] OK
- checking LazyData ... OK
- checking data for ASCII and uncompressed saves ... OK
- checking examples ... [103s/172s] OK
Examples with CPU (user + system) or elapsed time > 5s
user system elapsed
ANALYZE 4.256 0.000 6.165
EROSION 4.178 0.004 5.963
CHECKSUCCESS 4.089 0.004 6.027
DECOMPOSE 4.009 0.000 6.676
VERBMORPHOLOGY 3.902 0.000 6.184
AGENTFIRST 3.838 0.000 5.940
VERBFINAL 3.828 0.000 5.747
TURN 3.768 0.008 5.761
INTERPRET 3.750 0.000 7.190
GROUP 3.738 0.004 6.387
INTERPRET.INT 3.694 0.004 7.286
PROTOINTERPRETATION 3.612 0.000 6.023
SUCCESS 3.612 0.000 6.410
GENERALIZE 3.585 0.004 6.975
TYPEMATCH 3.582 0.000 6.313
PREPARE 3.551 0.003 5.583
REDUCE 3.543 0.000 5.409
FIRSTINFIRSTOUT 3.529 0.004 6.308
FREQUPDATE 3.529 0.000 5.814
TOPICFIRST 3.510 0.000 5.988
REFCHECK 3.494 0.000 7.027
TOPICCOPY 3.452 0.000 6.778
PRODUCE 3.434 0.000 6.208
PROPOSITION 3.428 0.000 6.505
SELECTACTOR 3.196 0.004 6.084
- checking PDF version of manual ... [6s/16s] OK
- checking HTML version of manual ... [2s/4s] OK
- checking for non-standard things in the check directory ... OK
- DONE
Status: 2 NOTEs