- using R Under development (unstable) (2025-02-20 r87772)
- using platform: x86_64-pc-linux-gnu
- R was compiled by
gcc-14 (Debian 14.2.0-16) 14.2.0
GNU Fortran (Debian 14.2.0-16) 14.2.0
- running under: Debian GNU/Linux trixie/sid
- using session charset: UTF-8
- checking for file ‘LightLogR/DESCRIPTION’ ... OK
- this is package ‘LightLogR’ version ‘0.3.8’
- package encoding: UTF-8
- checking package namespace information ... OK
- checking package dependencies ... OK
- checking if this is a source package ... OK
- checking if there is a namespace ... OK
- checking for executable files ... OK
- checking for hidden files and directories ... OK
- checking for portable file names ... OK
- checking for sufficient/correct file permissions ... OK
- checking serialization versions ... OK
- checking whether package ‘LightLogR’ can be installed ... OK
See the install log for details.
- checking package directory ... OK
- checking for future file timestamps ... OK
- checking DESCRIPTION meta-information ... NOTE
Missing dependency on R >= 4.1.0 because package code uses the pipe
|> or function shorthand \(...) syntax added in R 4.1.0.
File(s) using such syntax:
‘aggregate_Date.R’ ‘aggregate_Datetime.R’ ‘gg_doubleplot.R’
‘helper.R’ ‘import_LL.R’ ‘import_expressions.R’ ‘import_helper.r’
‘join_datasets.R’ ‘metric_nvR.R’
- checking top-level files ... OK
- checking for left-over files ... OK
- checking index information ... OK
- checking package subdirectories ... OK
- checking code files for non-ASCII characters ... OK
- checking R files for syntax errors ... OK
- checking whether the package can be loaded ... [0s/1s] OK
- checking whether the package can be loaded with stated dependencies ... [0s/0s] OK
- checking whether the package can be unloaded cleanly ... [0s/0s] OK
- checking whether the namespace can be loaded with stated dependencies ... [0s/1s] OK
- checking whether the namespace can be unloaded cleanly ... [0s/1s] OK
- checking loading without being on the library search path ... [0s/0s] OK
- checking whether startup messages can be suppressed ... [0s/0s] OK
- checking use of S3 registration ... OK
- checking dependencies in R code ... OK
- checking S3 generic/method consistency ... OK
- checking replacement functions ... OK
- checking foreign function calls ... OK
- checking R code for possible problems ... [7s/10s] OK
- checking Rd files ... [1s/1s] OK
- checking Rd metadata ... OK
- checking Rd line widths ... OK
- checking Rd cross-references ... OK
- checking for missing documentation entries ... OK
- checking for code/documentation mismatches ... OK
- checking Rd \usage sections ... OK
- checking Rd contents ... OK
- checking for unstated dependencies in examples ... OK
- checking contents of ‘data’ directory ... OK
- checking data for non-ASCII characters ... [0s/0s] OK
- checking LazyData ... OK
- checking data for ASCII and uncompressed saves ... OK
- checking examples ... [40s/57s] OK
Examples with CPU (user + system) or elapsed time > 5s
user system elapsed
data2reference 6.107 0.061 8.125
count_difftime 5.362 0.203 7.456
gg_doubleplot 5.508 0.033 6.964
join_datasets 3.874 0.363 8.838
- checking for unstated dependencies in ‘tests’ ... OK
- checking tests ... [15s/21s] OK
Running ‘testthat.R’ [15s/20s]
- checking PDF version of manual ... [6s/9s] OK
- checking HTML version of manual ... [3s/4s] OK
- checking for non-standard things in the check directory ... OK
- DONE
Status: 1 NOTE