- using R Under development (unstable) (2025-02-02 r87676)
- using platform: x86_64-pc-linux-gnu
- R was compiled by
Debian clang version 19.1.6 (1+b1)
Debian flang-new version 19.1.6 (1+b1)
- running under: Debian GNU/Linux trixie/sid
- using session charset: UTF-8
- checking for file ‘tidywater/DESCRIPTION’ ... OK
- checking extension type ... Package
- this is package ‘tidywater’ version ‘0.7.0’
- package encoding: UTF-8
- checking package namespace information ... OK
- checking package dependencies ... OK
- checking if this is a source package ... OK
- checking if there is a namespace ... OK
- checking for executable files ... OK
- checking for hidden files and directories ... OK
- checking for portable file names ... OK
- checking for sufficient/correct file permissions ... OK
- checking serialization versions ... OK
- checking whether package ‘tidywater’ can be installed ... OK
See the install log for details.
- checking package directory ... OK
- checking for future file timestamps ... OK
- checking ‘build’ directory ... OK
- checking DESCRIPTION meta-information ... OK
- checking top-level files ... OK
- checking for left-over files ... OK
- checking index information ... OK
- checking package subdirectories ... OK
- checking code files for non-ASCII characters ... OK
- checking R files for syntax errors ... OK
- checking whether the package can be loaded ... [1s/2s] OK
- checking whether the package can be loaded with stated dependencies ... [1s/2s] OK
- checking whether the package can be unloaded cleanly ... [1s/2s] OK
- checking whether the namespace can be loaded with stated dependencies ... [1s/2s] OK
- checking whether the namespace can be unloaded cleanly ... [1s/2s] OK
- checking loading without being on the library search path ... [1s/2s] OK
- checking use of S3 registration ... OK
- checking dependencies in R code ... OK
- checking S3 generic/method consistency ... OK
- checking replacement functions ... OK
- checking foreign function calls ... OK
- checking R code for possible problems ... [18s/23s] OK
- checking Rd files ... [1s/1s] OK
- checking Rd metadata ... OK
- checking Rd line widths ... OK
- checking Rd cross-references ... OK
- checking for missing documentation entries ... OK
- checking for code/documentation mismatches ... OK
- checking Rd \usage sections ... OK
- checking Rd contents ... OK
- checking for unstated dependencies in examples ... OK
- checking contents of ‘data’ directory ... OK
- checking data for non-ASCII characters ... [0s/0s] OK
- checking LazyData ... OK
- checking data for ASCII and uncompressed saves ... OK
- checking installed files from ‘inst/doc’ ... OK
- checking files in ‘vignettes’ ... OK
- checking examples ... [107s/207s] OK
Examples with CPU (user + system) or elapsed time > 5s
user system elapsed
solvedose_alk_once 11.342 0.059 13.398
solvedose_ph_once 8.105 0.027 9.733
chemdose_dbp_once 6.447 0.027 8.260
chemdose_dbp_chain 5.109 0.012 6.022
chemdose_toc_once 4.884 0.064 11.859
blend_waters_chain 4.459 0.028 5.814
chemdose_ph_once 3.967 0.063 11.412
pac_toc_once 3.804 0.034 9.297
balance_ions_chain 3.601 0.190 11.892
chemdose_toc_chain 3.433 0.088 8.897
chemdose_ph_chain 3.035 0.000 10.133
balance_ions_once 2.920 0.020 9.954
define_water_chain 2.858 0.016 8.832
biofilter_toc_once 2.832 0.038 9.637
dissolve_pb_once 2.773 0.019 8.892
pluck_water 2.354 0.006 7.624
pac_toc_chain 2.307 0.023 6.754
biofilter_toc_chain 1.666 0.036 6.886
define_water_once 1.504 0.008 6.432
- checking for unstated dependencies in ‘tests’ ... OK
- checking tests ... [168s/222s] OK
Running ‘testthat.R’ [168s/222s]
- checking for unstated dependencies in vignettes ... OK
- checking package vignettes ... OK
- checking re-building of vignette outputs ... [173s/228s] OK
- checking PDF version of manual ... [7s/10s] OK
- checking HTML version of manual ... [3s/5s] OK
- checking for non-standard things in the check directory ... OK
- DONE
Status: OK