- using R Under development (unstable) (2024-06-26 r86840)
- using platform: x86_64-pc-linux-gnu
- R was compiled by
Debian clang version 18.1.8 (1)
Debian flang-new version 18.1.8 (1)
- running under: Debian GNU/Linux trixie/sid
- using session charset: UTF-8
- checking for file ‘sitar/DESCRIPTION’ ... OK
- checking extension type ... Package
- this is package ‘sitar’ version ‘1.4.0’
- package encoding: UTF-8
- checking package namespace information ... OK
- checking package dependencies ... OK
- checking if this is a source package ... OK
- checking if there is a namespace ... OK
- checking for executable files ... OK
- checking for hidden files and directories ... OK
- checking for portable file names ... OK
- checking for sufficient/correct file permissions ... OK
- checking serialization versions ... OK
- checking whether package ‘sitar’ can be installed ... OK
See the install log for details.
- checking package directory ... OK
- checking for future file timestamps ... OK
- checking ‘build’ directory ... OK
- checking DESCRIPTION meta-information ... OK
- checking top-level files ... OK
- checking for left-over files ... OK
- checking index information ... OK
- checking package subdirectories ... OK
- checking code files for non-ASCII characters ... OK
- checking R files for syntax errors ... OK
- checking whether the package can be loaded ... [2s/3s] OK
- checking whether the package can be loaded with stated dependencies ... [1s/2s] OK
- checking whether the package can be unloaded cleanly ... [2s/2s] OK
- checking whether the namespace can be loaded with stated dependencies ... [2s/2s] OK
- checking whether the namespace can be unloaded cleanly ... [2s/3s] OK
- checking loading without being on the library search path ... [2s/3s] OK
- checking use of S3 registration ... OK
- checking dependencies in R code ... OK
- checking S3 generic/method consistency ... OK
- checking replacement functions ... OK
- checking foreign function calls ... OK
- checking R code for possible problems ... [26s/34s] OK
- checking Rd files ... [1s/2s] NOTE
checkRd: (-1) sitar-package.Rd:27: Lost braces; missing escapes or markup?
27 | individual curves, adjusted for {abcd} to lie on top of (i.e. be
| ^
checkRd: (-1) sitar.Rd:110: Lost braces; missing escapes or markup?
110 | \code{\link{nlme}}) (default {nlmeControl(returnObject = TRUE)}).}
| ^
- checking Rd metadata ... OK
- checking Rd line widths ... OK
- checking Rd cross-references ... OK
- checking for missing documentation entries ... OK
- checking for code/documentation mismatches ... OK
- checking Rd \usage sections ... OK
- checking Rd contents ... OK
- checking for unstated dependencies in examples ... OK
- checking contents of ‘data’ directory ... OK
- checking data for non-ASCII characters ... [0s/1s] OK
- checking LazyData ... OK
- checking data for ASCII and uncompressed saves ... OK
- checking installed files from ‘inst/doc’ ... OK
- checking files in ‘vignettes’ ... OK
- checking examples ... [56s/67s] OK
Examples with CPU (user + system) or elapsed time > 5s
user system elapsed
apv_se 6.490 0.055 8.138
bupdate 5.798 0.019 6.603
dfpower 5.486 0.143 7.032
plot.sitar 5.481 0.051 5.783
sitar 5.397 0.056 6.463
BICadj 5.120 0.065 6.695
ifun 4.993 0.066 6.017
ob_convertr 4.527 0.020 5.442
- checking for unstated dependencies in vignettes ... OK
- checking package vignettes ... OK
- checking re-building of vignette outputs ... [16s/22s] OK
- checking PDF version of manual ... [11s/15s] OK
- checking HTML version of manual ... [4s/6s] OK
- checking for non-standard things in the check directory ... OK
- DONE
Status: 1 NOTE