- using R Under development (unstable) (2025-02-12 r87715)
- using platform: x86_64-pc-linux-gnu
- R was compiled by
Debian clang version 19.1.7 (1+b1)
Debian flang-new version 19.1.7 (1+b1)
- running under: Debian GNU/Linux trixie/sid
- using session charset: UTF-8
- checking for file ‘bayesplot/DESCRIPTION’ ... OK
- checking extension type ... Package
- this is package ‘bayesplot’ version ‘1.11.1’
- package encoding: UTF-8
- checking package namespace information ... OK
- checking package dependencies ... OK
- checking if this is a source package ... OK
- checking if there is a namespace ... OK
- checking for executable files ... OK
- checking for hidden files and directories ... OK
- checking for portable file names ... OK
- checking for sufficient/correct file permissions ... OK
- checking serialization versions ... OK
- checking whether package ‘bayesplot’ can be installed ... OK
See the install log for details.
- checking package directory ... OK
- checking for future file timestamps ... OK
- checking ‘build’ directory ... OK
- checking DESCRIPTION meta-information ... OK
- checking top-level files ... OK
- checking for left-over files ... OK
- checking index information ... OK
- checking package subdirectories ... OK
- checking code files for non-ASCII characters ... OK
- checking R files for syntax errors ... OK
- checking whether the package can be loaded ... [1s/2s] OK
- checking whether the package can be loaded with stated dependencies ... [1s/1s] OK
- checking whether the package can be unloaded cleanly ... [1s/1s] OK
- checking whether the namespace can be loaded with stated dependencies ... [1s/1s] OK
- checking whether the namespace can be unloaded cleanly ... [1s/2s] OK
- checking loading without being on the library search path ... [1s/2s] OK
- checking whether startup messages can be suppressed ... [1s/2s] OK
- checking use of S3 registration ... OK
- checking dependencies in R code ... OK
- checking S3 generic/method consistency ... OK
- checking replacement functions ... OK
- checking foreign function calls ... OK
- checking R code for possible problems ... [25s/35s] OK
- checking Rd files ... [1s/1s] OK
- checking Rd metadata ... OK
- checking Rd line widths ... OK
- checking Rd cross-references ... NOTE
Found the following Rd file(s) with Rd \link{} targets missing package
anchors:
MCMC-combos.Rd: posterior
MCMC-diagnostics.Rd: posterior
MCMC-distributions.Rd: posterior
MCMC-intervals.Rd: posterior
MCMC-overview.Rd: posterior
MCMC-parcoord.Rd: posterior
MCMC-recover.Rd: posterior
MCMC-scatterplots.Rd: posterior, ggtitle
MCMC-traces.Rd: posterior
Please provide package anchors for all Rd \link{} targets not in the
package itself and the base packages.
- checking for missing documentation entries ... OK
- checking for code/documentation mismatches ... OK
- checking Rd \usage sections ... OK
- checking Rd contents ... OK
- checking for unstated dependencies in examples ... OK
- checking R/sysdata.rda ... OK
- checking installed files from ‘inst/doc’ ... OK
- checking files in ‘vignettes’ ... OK
- checking examples ... [95s/121s] OK
Examples with CPU (user + system) or elapsed time > 5s
user system elapsed
bayesplot-colors 7.255 0.027 11.128
MCMC-traces 6.719 0.163 9.061
PPD-intervals 6.163 0.087 9.283
PPC-test-statistics 5.958 0.025 8.179
MCMC-intervals 5.400 0.052 6.776
PPC-intervals 5.123 0.025 7.102
bayesplot_theme_get 5.130 0.004 5.503
MCMC-combos 4.461 0.146 5.265
bayesplot-helpers 4.482 0.000 5.566
MCMC-distributions 3.912 0.087 5.023
- checking for unstated dependencies in ‘tests’ ... OK
- checking tests ... [220s/304s] OK
Running ‘testthat.R’ [220s/304s]
- checking for unstated dependencies in vignettes ... OK
- checking package vignettes ... OK
- checking re-building of vignette outputs ... [10s/16s] OK
- checking PDF version of manual ... [9s/12s] OK
- checking HTML version of manual ... [4s/6s] OK
- checking for non-standard things in the check directory ... OK
- DONE
Status: 1 NOTE