* using log directory ‘/home/hornik/tmp/R.check/r-devel-clang/Work/PKGS/Tides.Rcheck’ * using R Under development (unstable) (2025-06-27 r88363) * using platform: x86_64-pc-linux-gnu * R was compiled by Debian clang version 19.1.7 (3+b1) Debian flang-new version 19.1.7 (3+b1) * running under: Debian GNU/Linux 13 (trixie) * using session charset: UTF-8 * checking for file ‘Tides/DESCRIPTION’ ... OK * this is package ‘Tides’ version ‘2.1’ * checking CRAN incoming feasibility ... [0s/1s] NOTE Maintainer: ‘Tom Cox ’ No Authors@R field in DESCRIPTION. Please add one, modifying Authors@R: c(person(given = "Tom", family = "Cox", role = c("aut", "cre"), email = "tom.cox@uantwerp.be"), person(given = "Lennert", family = "Schepers", role = "aut", email = "lennert.schepers@uantwerp.be")) as necessary. * checking package namespace information ... OK * checking package dependencies ... OK * checking if this is a source package ... OK * checking if there is a namespace ... OK * checking for executable files ... OK * checking for hidden files and directories ... OK * checking for portable file names ... OK * checking for sufficient/correct file permissions ... OK * checking serialization versions ... OK * checking whether package ‘Tides’ can be installed ... OK See 'https://www.r-project.org/nosvn/R.check/r-devel-linux-x86_64-debian-clang/Tides-00install.html' for details. * checking package directory ... OK * checking for future file timestamps ... OK * checking ‘build’ directory ... OK * checking DESCRIPTION meta-information ... OK * checking top-level files ... OK * checking for left-over files ... OK * checking index information ... OK * checking package subdirectories ... OK * checking code files for non-ASCII characters ... OK * checking R files for syntax errors ... OK * checking whether the package can be loaded ... [0s/1s] OK * checking whether the package can be loaded with stated dependencies ... [0s/0s] OK * checking whether the package can be unloaded cleanly ... [0s/0s] OK * checking whether the namespace can be loaded with stated dependencies ... [0s/0s] OK * checking whether the namespace can be unloaded cleanly ... [0s/0s] OK * checking loading without being on the library search path ... [0s/0s] OK * checking use of S3 registration ... OK * checking dependencies in R code ... OK * checking S3 generic/method consistency ... OK * checking replacement functions ... OK * checking foreign function calls ... OK * checking R code for possible problems ... [4s/6s] OK * checking Rd files ... [0s/0s] NOTE checkRd: (-1) IT.Rd:23: Lost braces in \itemize; \value handles \item{}{} directly checkRd: (-1) IT.Rd:24: Lost braces in \itemize; \value handles \item{}{} directly checkRd: (-1) TidalCharacteristics.Rd:33: Lost braces in \itemize; \value handles \item{}{} directly checkRd: (-1) TidalCharacteristics.Rd:34: Lost braces in \itemize; \value handles \item{}{} directly checkRd: (-1) TidalCharacteristics.Rd:35: Lost braces in \itemize; \value handles \item{}{} directly checkRd: (-1) TidalCharacteristics.Rd:36: Lost braces in \itemize; \value handles \item{}{} directly checkRd: (-1) TidalCharacteristics.Rd:37: Lost braces in \itemize; \value handles \item{}{} directly checkRd: (-1) TidalCharacteristics.Rd:38: Lost braces in \itemize; \value handles \item{}{} directly checkRd: (-1) TidalCharacteristics.Rd:39: Lost braces in \itemize; \value handles \item{}{} directly checkRd: (-1) TidalCharacteristics.Rd:40: Lost braces in \itemize; \value handles \item{}{} directly checkRd: (-1) summary.Tides.Rd:17: Lost braces in \itemize; \value handles \item{}{} directly checkRd: (-1) summary.Tides.Rd:18: Lost braces in \itemize; \value handles \item{}{} directly checkRd: (-1) summary.Tides.Rd:19: Lost braces in \itemize; \value handles \item{}{} directly checkRd: (-1) summary.Tides.Rd:20: Lost braces in \itemize; \value handles \item{}{} directly checkRd: (-1) summary.Tides.Rd:22: Lost braces in \itemize; \value handles \item{}{} directly checkRd: (-1) summary.Tides.Rd:23: Lost braces in \itemize; \value handles \item{}{} directly checkRd: (-1) summary.Tides.Rd:24: Lost braces in \itemize; \value handles \item{}{} directly checkRd: (-1) summary.Tides.Rd:25: Lost braces in \itemize; \value handles \item{}{} directly checkRd: (-1) summary.Tides.Rd:26: Lost braces in \itemize; \value handles \item{}{} directly checkRd: (-1) summary.Tides.Rd:27: Lost braces in \itemize; \value handles \item{}{} directly checkRd: (-1) summary.Tides.Rd:28: Lost braces in \itemize; \value handles \item{}{} directly checkRd: (-1) summary.Tides.Rd:30: Lost braces in \itemize; \value handles \item{}{} directly checkRd: (-1) summary.Tides.Rd:31: Lost braces in \itemize; \value handles \item{}{} directly checkRd: (-1) summary.Tides.Rd:32: Lost braces in \itemize; \value handles \item{}{} directly checkRd: (-1) summary.Tides.Rd:34: Lost braces in \itemize; \value handles \item{}{} directly checkRd: (-1) summary.Tides.Rd:35: Lost braces in \itemize; \value handles \item{}{} directly checkRd: (-1) summary.Tides.Rd:37: Lost braces in \itemize; \value handles \item{}{} directly checkRd: (-1) summary.Tides.Rd:38: Lost braces in \itemize; \value handles \item{}{} directly checkRd: (-1) summary.Tides.Rd:39: Lost braces in \itemize; \value handles \item{}{} directly checkRd: (-1) summary.Tides.Rd:40: Lost braces in \itemize; \value handles \item{}{} directly checkRd: (-1) summary.Tides.Rd:42: Lost braces in \itemize; \value handles \item{}{} directly checkRd: (-1) summary.Tides.Rd:43: Lost braces in \itemize; \value handles \item{}{} directly checkRd: (-1) summary.Tides.Rd:44: Lost braces in \itemize; \value handles \item{}{} directly checkRd: (-1) summary.Tides.Rd:45: Lost braces in \itemize; \value handles \item{}{} directly * checking Rd metadata ... OK * checking Rd line widths ... OK * checking Rd cross-references ... OK * checking for missing documentation entries ... OK * checking for code/documentation mismatches ... OK * checking Rd \usage sections ... OK * checking Rd contents ... OK * checking for unstated dependencies in examples ... OK * checking contents of ‘data’ directory ... OK * checking data for non-ASCII characters ... [0s/0s] OK * checking LazyData ... OK * checking data for ASCII and uncompressed saves ... OK * checking sizes of PDF files under ‘inst/doc’ ... OK * checking installed files from ‘inst/doc’ ... OK * checking files in ‘vignettes’ ... OK * checking examples ... [1s/1s] OK * checking for unstated dependencies in vignettes ... OK * checking package vignettes ... OK * checking re-building of vignette outputs ... [6s/10s] OK * checking PDF version of manual ... [5s/9s] OK * checking HTML version of manual ... [0s/1s] OK * checking for non-standard things in the check directory ... OK * DONE Status: 2 NOTEs