- using R Under development (unstable) (2025-02-19 r87757)
- using platform: x86_64-pc-linux-gnu
- R was compiled by
Debian clang version 19.1.7 (1+b1)
Debian flang-new version 19.1.7 (1+b1)
- running under: Debian GNU/Linux trixie/sid
- using session charset: UTF-8
- checking for file ‘HybridMicrobiomes/DESCRIPTION’ ... OK
- checking extension type ... Package
- this is package ‘HybridMicrobiomes’ version ‘0.1.1’
- package encoding: UTF-8
- checking package namespace information ... OK
- checking package dependencies ... INFO
Package suggested but not available for checking: ‘microViz’
- checking if this is a source package ... OK
- checking if there is a namespace ... OK
- checking for executable files ... OK
- checking for hidden files and directories ... OK
- checking for portable file names ... OK
- checking for sufficient/correct file permissions ... OK
- checking serialization versions ... OK
- checking whether package ‘HybridMicrobiomes’ can be installed ... OK
See the install log for details.
- checking package directory ... OK
- checking for future file timestamps ... OK
- checking DESCRIPTION meta-information ... OK
- checking top-level files ... OK
- checking for left-over files ... OK
- checking index information ... OK
- checking package subdirectories ... OK
- checking code files for non-ASCII characters ... OK
- checking R files for syntax errors ... OK
- checking whether the package can be loaded ... [10s/12s] OK
- checking whether the package can be loaded with stated dependencies ... [9s/11s] OK
- checking whether the package can be unloaded cleanly ... [9s/11s] OK
- checking whether the namespace can be loaded with stated dependencies ... [9s/10s] OK
- checking whether the namespace can be unloaded cleanly ... [10s/13s] OK
- checking loading without being on the library search path ... [9s/12s] OK
- checking use of S3 registration ... OK
- checking dependencies in R code ... OK
- checking S3 generic/method consistency ... OK
- checking replacement functions ... OK
- checking foreign function calls ... OK
- checking R code for possible problems ... [45s/60s] OK
- checking Rd files ... [0s/0s] OK
- checking Rd metadata ... OK
- checking Rd line widths ... OK
- checking Rd cross-references ... OK
- checking for missing documentation entries ... OK
- checking for code/documentation mismatches ... OK
- checking Rd \usage sections ... OK
- checking Rd contents ... OK
- checking for unstated dependencies in examples ... OK
- checking examples ... [54s/71s] OK
Examples with CPU (user + system) or elapsed time > 5s
user system elapsed
FourHnull 6.260 0.200 8.569
FourHbootstrap 4.628 0.146 6.598
FourHcompare 4.541 0.126 6.981
FourHbootstrapA 4.173 0.004 5.237
FourHcentroid 4.048 0.012 6.075
- checking PDF version of manual ... [6s/8s] OK
- checking HTML version of manual ... [1s/2s] OK
- checking for non-standard things in the check directory ... OK
- DONE
Status: OK