- using R Under development (unstable) (2025-02-19 r87757)
- using platform: x86_64-pc-linux-gnu
- R was compiled by
Debian clang version 19.1.7 (1+b1)
Debian flang-new version 19.1.7 (1+b1)
- running under: Debian GNU/Linux trixie/sid
- using session charset: UTF-8
- checking for file ‘ENMTools/DESCRIPTION’ ... OK
- checking extension type ... Package
- this is package ‘ENMTools’ version ‘1.1.2’
- package encoding: UTF-8
- checking package namespace information ... OK
- checking package dependencies ... OK
- checking if this is a source package ... OK
- checking if there is a namespace ... OK
- checking for executable files ... OK
- checking for hidden files and directories ... OK
- checking for portable file names ... OK
- checking for sufficient/correct file permissions ... OK
- checking serialization versions ... OK
- checking whether package ‘ENMTools’ can be installed ... OK
See the install log for details.
- checking package directory ... OK
- checking for future file timestamps ... OK
- checking DESCRIPTION meta-information ... OK
- checking top-level files ... OK
- checking for left-over files ... OK
- checking index information ... OK
- checking package subdirectories ... OK
- checking code files for non-ASCII characters ... OK
- checking R files for syntax errors ... OK
- checking whether the package can be loaded ... [14s/17s] OK
- checking whether the package can be loaded with stated dependencies ... [14s/21s] OK
- checking whether the package can be unloaded cleanly ... [15s/19s] OK
- checking whether the namespace can be loaded with stated dependencies ... [14s/18s] OK
- checking whether the namespace can be unloaded cleanly ... [14s/17s] OK
- checking loading without being on the library search path ... [13s/15s] OK
- checking whether startup messages can be suppressed ... [14s/20s] OK
- checking use of S3 registration ... OK
- checking dependencies in R code ... OK
- checking S3 generic/method consistency ... OK
- checking replacement functions ... OK
- checking foreign function calls ... OK
- checking R code for possible problems ... [100s/125s] OK
- checking Rd files ... [1s/1s] OK
- checking Rd metadata ... OK
- checking Rd line widths ... OK
- checking Rd cross-references ... OK
- checking for missing documentation entries ... OK
- checking for code/documentation mismatches ... OK
- checking Rd \usage sections ... OK
- checking Rd contents ... OK
- checking for unstated dependencies in examples ... OK
- checking R/sysdata.rda ... OK
- checking examples ... [56s/71s] OK
Examples with CPU (user + system) or elapsed time > 5s
user system elapsed
raster.overlap 7.430 0.036 8.738
marginal.plots 5.619 0.334 7.368
check.env 5.708 0.087 8.239
visualize.enm 5.093 0.063 6.323
enmtools.glm 4.870 0.149 5.944
raster.breadth 3.644 0.049 5.144
- checking for unstated dependencies in ‘tests’ ... OK
- checking tests ... [119s/151s] OK
Running ‘testthat.R’ [119s/150s]
- checking PDF version of manual ... [6s/9s] OK
- checking HTML version of manual ... [2s/4s] OK
- checking for non-standard things in the check directory ... OK
- DONE
Status: OK