- using R Under development (unstable) (2025-02-02 r87676)
- using platform: x86_64-pc-linux-gnu
- R was compiled by
Debian clang version 19.1.6 (1+b1)
Debian flang-new version 19.1.6 (1+b1)
- running under: Debian GNU/Linux trixie/sid
- using session charset: UTF-8
- checking for file ‘ClassComparison/DESCRIPTION’ ... OK
- this is package ‘ClassComparison’ version ‘3.3.2’
- checking package namespace information ... OK
- checking package dependencies ... OK
- checking if this is a source package ... OK
- checking if there is a namespace ... OK
- checking for executable files ... OK
- checking for hidden files and directories ... OK
- checking for portable file names ... OK
- checking for sufficient/correct file permissions ... OK
- checking serialization versions ... OK
- checking whether package ‘ClassComparison’ can be installed ... OK
See the install log for details.
- checking package directory ... OK
- checking for future file timestamps ... OK
- checking ‘build’ directory ... OK
- checking DESCRIPTION meta-information ... OK
- checking top-level files ... OK
- checking for left-over files ... OK
- checking index information ... OK
- checking package subdirectories ... OK
- checking code files for non-ASCII characters ... OK
- checking R files for syntax errors ... OK
- checking whether the package can be loaded ... [1s/1s] OK
- checking whether the package can be loaded with stated dependencies ... [1s/1s] OK
- checking whether the package can be unloaded cleanly ... [1s/1s] OK
- checking whether the namespace can be loaded with stated dependencies ... [1s/1s] OK
- checking whether the namespace can be unloaded cleanly ... [1s/1s] OK
- checking loading without being on the library search path ... [1s/1s] OK
- checking use of S3 registration ... OK
- checking dependencies in R code ... OK
- checking S3 generic/method consistency ... OK
- checking replacement functions ... OK
- checking foreign function calls ... OK
- checking R code for possible problems ... [9s/13s] OK
- checking Rd files ... [1s/1s] OK
- checking Rd metadata ... OK
- checking Rd line widths ... OK
- checking Rd cross-references ... OK
- checking for missing documentation entries ... OK
- checking for code/documentation mismatches ... OK
- checking Rd \usage sections ... OK
- checking Rd contents ... OK
- checking for unstated dependencies in examples ... OK
- checking sizes of PDF files under ‘inst/doc’ ... OK
- checking installed files from ‘inst/doc’ ... OK
- checking files in ‘vignettes’ ... OK
- checking examples ... [14s/18s] OK
Examples with CPU (user + system) or elapsed time > 5s
user system elapsed
cc04-0-Dudoit-class 4.31 0.008 5.657
- checking for unstated dependencies in ‘tests’ ... OK
- checking tests ... [7s/9s] NOTE
Running ‘testBum.R’ [1s/1s]
Comparing ‘testBum.Rout’ to ‘testBum.Rout.save’ ... OK
Running ‘testDiff.R’ [6s/7s]
Comparing ‘testDiff.Rout’ to ‘testDiff.Rout.save’ ...23c23
< -3.25710 -0.72072 -0.01096 -0.02219 0.66601 3.30242
---
> -3.25711 -0.72072 -0.01096 -0.02219 0.66601 3.30242
52c52
< 2.600e-06 1.328e-01 4.666e-01 1.060e+00 1.369e+00 1.091e+01
---
> 0.000003 0.132789 0.466590 1.059960 1.369473 10.905953
67c67
< -3.25710 -0.72072 -0.01096 -0.02219 0.66601 3.30242
---
> -3.25711 -0.72072 -0.01096 -0.02219 0.66601 3.30242
- checking for unstated dependencies in vignettes ... OK
- checking package vignettes ... OK
- checking re-building of vignette outputs ... [26s/32s] OK
- checking PDF version of manual ... [6s/9s] OK
- checking HTML version of manual ... [2s/3s] OK
- checking for non-standard things in the check directory ... OK
- DONE
Status: 1 NOTE