- using R version 4.4.1 Patched (2024-06-25 r86831)
- using platform: x86_64-pc-linux-gnu
- R was compiled by
gcc-13 (Debian 13.3.0-1) 13.3.0
GNU Fortran (Debian 13.3.0-1) 13.3.0
- running under: Debian GNU/Linux trixie/sid
- using session charset: UTF-8
- checking for file ‘RtsEva/DESCRIPTION’ ... OK
- checking extension type ... Package
- this is package ‘RtsEva’ version ‘1.0.0’
- package encoding: UTF-8
- checking package namespace information ... OK
- checking package dependencies ... OK
- checking if this is a source package ... OK
- checking if there is a namespace ... OK
- checking for executable files ... OK
- checking for hidden files and directories ... OK
- checking for portable file names ... OK
- checking for sufficient/correct file permissions ... OK
- checking serialization versions ... OK
- checking whether package ‘RtsEva’ can be installed ... OK
See the install log for details.
- checking package directory ... OK
- checking for future file timestamps ... OK
- checking ‘build’ directory ... OK
- checking DESCRIPTION meta-information ... OK
- checking top-level files ... OK
- checking for left-over files ... OK
- checking index information ... OK
- checking package subdirectories ... OK
- checking code files for non-ASCII characters ... OK
- checking R files for syntax errors ... OK
- checking whether the package can be loaded ... [2s/3s] OK
- checking whether the package can be loaded with stated dependencies ... [2s/2s] OK
- checking whether the package can be unloaded cleanly ... [2s/2s] OK
- checking whether the namespace can be loaded with stated dependencies ... [2s/2s] OK
- checking whether the namespace can be unloaded cleanly ... [2s/3s] OK
- checking loading without being on the library search path ... [2s/3s] OK
- checking use of S3 registration ... OK
- checking dependencies in R code ... OK
- checking S3 generic/method consistency ... OK
- checking replacement functions ... OK
- checking foreign function calls ... OK
- checking R code for possible problems ... [28s/33s] OK
- checking Rd files ... [1s/1s] OK
- checking Rd metadata ... OK
- checking Rd line widths ... OK
- checking Rd cross-references ... OK
- checking for missing documentation entries ... OK
- checking for code/documentation mismatches ... OK
- checking Rd \usage sections ... OK
- checking Rd contents ... OK
- checking for unstated dependencies in examples ... OK
- checking contents of ‘data’ directory ... OK
- checking data for non-ASCII characters ... [1s/2s] OK
- checking LazyData ... OK
- checking data for ASCII and uncompressed saves ... OK
- checking installed files from ‘inst/doc’ ... OK
- checking files in ‘vignettes’ ... OK
- checking examples ... [121s/141s] OK
Examples with CPU (user + system) or elapsed time > 5s
user system
tsEvaPlotSeriesTrendStdDevFromAnalyisObj 8.943 0.369
tsEvaPlotReturnLevelsGPDFromAnalysisObj 8.913 0.360
tsEvaPlotReturnLevelsGEVFromAnalysisObj 8.759 0.268
tsEvaPlotTransfToStatFromAnalysisObj 8.662 0.335
TsEvaNs 8.424 0.545
tsEvaPlotAllRLevelsGEV 8.115 0.333
tsEvaPlotAllRLevelsGPD 7.929 0.319
tsEvaPlotGEVImageScFromAnalysisObj 7.835 0.367
tsEvaPlotGPDImageScFromAnalysisObj 7.623 0.287
tsEvaFindTrendThreshold 6.763 0.314
tsEvaNanRunningPercentiles 5.229 0.137
max_daily_value 4.690 0.467
tsEvaTransformSeriesToStationaryTrendAndChangepts_ciPercentile 4.736 0.271
elapsed
tsEvaPlotSeriesTrendStdDevFromAnalyisObj 10.591
tsEvaPlotReturnLevelsGPDFromAnalysisObj 10.864
tsEvaPlotReturnLevelsGEVFromAnalysisObj 9.766
tsEvaPlotTransfToStatFromAnalysisObj 10.842
TsEvaNs 10.896
tsEvaPlotAllRLevelsGEV 9.798
tsEvaPlotAllRLevelsGPD 9.849
tsEvaPlotGEVImageScFromAnalysisObj 9.523
tsEvaPlotGPDImageScFromAnalysisObj 8.662
tsEvaFindTrendThreshold 7.924
tsEvaNanRunningPercentiles 5.977
max_daily_value 5.977
tsEvaTransformSeriesToStationaryTrendAndChangepts_ciPercentile 5.370
- checking for unstated dependencies in ‘tests’ ... OK
- checking tests ... [9s/10s] OK
Running ‘testthat.R’ [8s/10s]
- checking for unstated dependencies in vignettes ... OK
- checking package vignettes ... OK
- checking re-building of vignette outputs ... [18s/21s] OK
- checking PDF version of manual ... [8s/10s] OK
- checking HTML version of manual ... [3s/5s] OK
- checking for non-standard things in the check directory ... OK
- DONE
Status: OK