- using R Under development (unstable) (2024-06-28 r86850)
- using platform: x86_64-pc-linux-gnu
- R was compiled by
gcc-13 (Debian 13.3.0-1) 13.3.0
GNU Fortran (Debian 13.3.0-1) 13.3.0
- running under: Debian GNU/Linux trixie/sid
- using session charset: UTF-8
- checking for file ‘RtsEva/DESCRIPTION’ ... OK
- checking extension type ... Package
- this is package ‘RtsEva’ version ‘1.0.0’
- package encoding: UTF-8
- checking package namespace information ... OK
- checking package dependencies ... OK
- checking if this is a source package ... OK
- checking if there is a namespace ... OK
- checking for executable files ... OK
- checking for hidden files and directories ... OK
- checking for portable file names ... OK
- checking for sufficient/correct file permissions ... OK
- checking serialization versions ... OK
- checking whether package ‘RtsEva’ can be installed ... OK
See the install log for details.
- checking package directory ... OK
- checking for future file timestamps ... OK
- checking ‘build’ directory ... OK
- checking DESCRIPTION meta-information ... OK
- checking top-level files ... OK
- checking for left-over files ... OK
- checking index information ... OK
- checking package subdirectories ... OK
- checking code files for non-ASCII characters ... OK
- checking R files for syntax errors ... OK
- checking whether the package can be loaded ... [2s/4s] OK
- checking whether the package can be loaded with stated dependencies ... [1s/3s] OK
- checking whether the package can be unloaded cleanly ... [2s/3s] OK
- checking whether the namespace can be loaded with stated dependencies ... [2s/3s] OK
- checking whether the namespace can be unloaded cleanly ... [2s/4s] OK
- checking loading without being on the library search path ... [2s/3s] OK
- checking use of S3 registration ... OK
- checking dependencies in R code ... OK
- checking S3 generic/method consistency ... OK
- checking replacement functions ... OK
- checking foreign function calls ... OK
- checking R code for possible problems ... [21s/40s] OK
- checking Rd files ... [1s/1s] OK
- checking Rd metadata ... OK
- checking Rd line widths ... OK
- checking Rd cross-references ... OK
- checking for missing documentation entries ... OK
- checking for code/documentation mismatches ... OK
- checking Rd \usage sections ... OK
- checking Rd contents ... OK
- checking for unstated dependencies in examples ... OK
- checking contents of ‘data’ directory ... OK
- checking data for non-ASCII characters ... [1s/2s] OK
- checking LazyData ... OK
- checking data for ASCII and uncompressed saves ... OK
- checking installed files from ‘inst/doc’ ... OK
- checking files in ‘vignettes’ ... OK
- checking examples ... [96s/133s] OK
Examples with CPU (user + system) or elapsed time > 5s
user system
tsEvaPlotTransfToStatFromAnalysisObj 7.156 0.253
tsEvaPlotSeriesTrendStdDevFromAnalyisObj 7.038 0.335
TsEvaNs 6.571 0.471
tsEvaPlotReturnLevelsGEVFromAnalysisObj 6.755 0.228
tsEvaPlotReturnLevelsGPDFromAnalysisObj 6.756 0.222
tsEvaPlotGEVImageScFromAnalysisObj 6.421 0.255
tsEvaPlotAllRLevelsGEV 6.343 0.283
tsEvaPlotGPDImageScFromAnalysisObj 6.203 0.271
tsEvaPlotAllRLevelsGPD 6.143 0.254
tsEvaFindTrendThreshold 5.425 0.249
max_daily_value 3.651 0.413
tsEvaNanRunningPercentiles 3.822 0.235
tsEvaTransformSeriesToStationaryTrendAndChangepts_ciPercentile 3.835 0.167
elapsed
tsEvaPlotTransfToStatFromAnalysisObj 10.647
tsEvaPlotSeriesTrendStdDevFromAnalyisObj 10.488
TsEvaNs 9.094
tsEvaPlotReturnLevelsGEVFromAnalysisObj 9.173
tsEvaPlotReturnLevelsGPDFromAnalysisObj 10.475
tsEvaPlotGEVImageScFromAnalysisObj 8.753
tsEvaPlotAllRLevelsGEV 9.330
tsEvaPlotGPDImageScFromAnalysisObj 8.240
tsEvaPlotAllRLevelsGPD 8.314
tsEvaFindTrendThreshold 7.915
max_daily_value 5.322
tsEvaNanRunningPercentiles 5.492
tsEvaTransformSeriesToStationaryTrendAndChangepts_ciPercentile 5.128
- checking for unstated dependencies in ‘tests’ ... OK
- checking tests ... [7s/13s] OK
Running ‘testthat.R’ [7s/12s]
- checking for unstated dependencies in vignettes ... OK
- checking package vignettes ... OK
- checking re-building of vignette outputs ... [14s/29s] OK
- checking PDF version of manual ... [6s/15s] OK
- checking HTML version of manual ... [2s/6s] OK
- checking for non-standard things in the check directory ... OK
- DONE
Status: OK